BEGIN:VCALENDAR
VERSION:2.0
PRODID:-//Orionis - ECPv6.15.16.1//NONSGML v1.0//EN
CALSCALE:GREGORIAN
METHOD:PUBLISH
X-ORIGINAL-URL:https://orionis.nl
X-WR-CALDESC:Evenementen voor Orionis
REFRESH-INTERVAL;VALUE=DURATION:PT1H
X-Robots-Tag:noindex
X-PUBLISHED-TTL:PT1H
BEGIN:VTIMEZONE
TZID:UTC
BEGIN:STANDARD
TZOFFSETFROM:+0000
TZOFFSETTO:+0000
TZNAME:UTC
DTSTART:20140101T000000
END:STANDARD
END:VTIMEZONE
BEGIN:VEVENT
DTSTART;VALUE=DATE:20150407
DTEND;VALUE=DATE:20150408
DTSTAMP:20260421T103335
CREATED:20230904T091916Z
LAST-MODIFIED:20230904T091928Z
UID:17329-1428364800-1428451199@orionis.nl
SUMMARY:Sail In
DESCRIPTION:
URL:https://orionis.nl/event/sail-in-428/
END:VEVENT
BEGIN:VEVENT
DTSTART;VALUE=DATE:20150407
DTEND;VALUE=DATE:20150408
DTSTAMP:20260421T103335
CREATED:20230904T161005Z
LAST-MODIFIED:20230904T161005Z
UID:18764-1428364800-1428451199@orionis.nl
SUMMARY:Spreekuur
DESCRIPTION:
URL:https://orionis.nl/event/spreekuur-281/
END:VEVENT
END:VCALENDAR