BEGIN:VCALENDAR
VERSION:2.0
PRODID:-//Orionis - ECPv6.15.16.1//NONSGML v1.0//EN
CALSCALE:GREGORIAN
METHOD:PUBLISH
X-WR-CALNAME:Orionis
X-ORIGINAL-URL:https://orionis.nl
X-WR-CALDESC:Evenementen voor Orionis
REFRESH-INTERVAL;VALUE=DURATION:PT1H
X-Robots-Tag:noindex
X-PUBLISHED-TTL:PT1H
BEGIN:VTIMEZONE
TZID:UTC
BEGIN:STANDARD
TZOFFSETFROM:+0000
TZOFFSETTO:+0000
TZNAME:UTC
DTSTART:20140101T000000
END:STANDARD
END:VTIMEZONE
BEGIN:VEVENT
DTSTART;VALUE=DATE:20150408
DTEND;VALUE=DATE:20150409
DTSTAMP:20260421T085417
CREATED:20230904T075559Z
LAST-MODIFIED:20230904T075559Z
UID:16667-1428451200-1428537599@orionis.nl
SUMMARY:Speciale borrel
DESCRIPTION:Gezellig borrel op woensdag in de Heilige Zeug. Bekijk onze facebook\, voor eventuele ludieke drankacties of diesen.
URL:https://orionis.nl/event/speciale-borrel-12/
END:VEVENT
BEGIN:VEVENT
DTSTART;VALUE=DATE:20150408
DTEND;VALUE=DATE:20150409
DTSTAMP:20260421T085417
CREATED:20230904T091915Z
LAST-MODIFIED:20230904T091928Z
UID:17328-1428451200-1428537599@orionis.nl
SUMMARY:Informatieavond bestuur 2015/2016
DESCRIPTION:
URL:https://orionis.nl/event/informatieavond-bestuur-2015-2016-6/
END:VEVENT
END:VCALENDAR