BEGIN:VCALENDAR
VERSION:2.0
PRODID:-//Orionis - ECPv6.15.16.1//NONSGML v1.0//EN
CALSCALE:GREGORIAN
METHOD:PUBLISH
X-ORIGINAL-URL:https://orionis.nl
X-WR-CALDESC:Evenementen voor Orionis
REFRESH-INTERVAL;VALUE=DURATION:PT1H
X-Robots-Tag:noindex
X-PUBLISHED-TTL:PT1H
BEGIN:VTIMEZONE
TZID:UTC
BEGIN:STANDARD
TZOFFSETFROM:+0000
TZOFFSETTO:+0000
TZNAME:UTC
DTSTART:20140101T000000
END:STANDARD
END:VTIMEZONE
BEGIN:VEVENT
DTSTART;VALUE=DATE:20150415
DTEND;VALUE=DATE:20150416
DTSTAMP:20260421T103550
CREATED:20230904T091859Z
LAST-MODIFIED:20230904T091908Z
UID:17318-1429056000-1429142399@orionis.nl
SUMMARY:Themabekendmaking InstrukCie
DESCRIPTION:
URL:https://orionis.nl/event/themabekendmaking-instrukcie-5/
END:VEVENT
BEGIN:VEVENT
DTSTART;VALUE=DATE:20150415
DTEND;VALUE=DATE:20150416
DTSTAMP:20260421T103550
CREATED:20230904T091859Z
LAST-MODIFIED:20230904T091908Z
UID:17317-1429056000-1429142399@orionis.nl
SUMMARY:JC Presentatie
DESCRIPTION:
URL:https://orionis.nl/event/jc-presentatie-5/
END:VEVENT
BEGIN:VEVENT
DTSTART;VALUE=DATE:20150415
DTEND;VALUE=DATE:20150416
DTSTAMP:20260421T103550
CREATED:20230904T144902Z
LAST-MODIFIED:20230904T144902Z
UID:18390-1429056000-1429142399@orionis.nl
SUMMARY:Borrel
DESCRIPTION:Gezellig borrel op woensdag in de Heilige Zeug. Bekijk onze facebook\, voor eventuele ludieke drankacties of diesen.
URL:https://orionis.nl/event/borrel-1708/
END:VEVENT
END:VCALENDAR