BEGIN:VCALENDAR
VERSION:2.0
PRODID:-//Orionis - ECPv6.15.16.1//NONSGML v1.0//EN
CALSCALE:GREGORIAN
METHOD:PUBLISH
X-WR-CALNAME:Orionis
X-ORIGINAL-URL:https://orionis.nl
X-WR-CALDESC:Evenementen voor Orionis
REFRESH-INTERVAL;VALUE=DURATION:PT1H
X-Robots-Tag:noindex
X-PUBLISHED-TTL:PT1H
BEGIN:VTIMEZONE
TZID:UTC
BEGIN:STANDARD
TZOFFSETFROM:+0000
TZOFFSETTO:+0000
TZNAME:UTC
DTSTART:20140101T000000
END:STANDARD
END:VTIMEZONE
BEGIN:VEVENT
DTSTART;VALUE=DATE:20150325
DTEND;VALUE=DATE:20150326
DTSTAMP:20260421T103944
CREATED:20230904T144901Z
LAST-MODIFIED:20230904T144901Z
UID:18388-1427241600-1427327999@orionis.nl
SUMMARY:Borrel
DESCRIPTION:Gezellig borrel op woensdag in de Heilige Zeug. Bekijk onze facebook\, voor eventuele ludieke drankacties of diesen.
URL:https://orionis.nl/event/borrel-1706/
END:VEVENT
BEGIN:VEVENT
DTSTART;VALUE=DATE:20150325
DTEND;VALUE=DATE:20150326
DTSTAMP:20260421T103944
CREATED:20230904T091919Z
LAST-MODIFIED:20230904T091944Z
UID:17334-1427241600-1427327999@orionis.nl
SUMMARY:Themabekendmaking SLAK
DESCRIPTION:
URL:https://orionis.nl/event/themabekendmaking-slak-13/
END:VEVENT
BEGIN:VEVENT
DTSTART;VALUE=DATE:20150324
DTEND;VALUE=DATE:20150325
DTSTAMP:20260421T103944
CREATED:20230904T160951Z
LAST-MODIFIED:20230904T160951Z
UID:18762-1427155200-1427241599@orionis.nl
SUMMARY:Spreekuur
DESCRIPTION:
URL:https://orionis.nl/event/spreekuur-279/
END:VEVENT
BEGIN:VEVENT
DTSTART;VALUE=DATE:20150318
DTEND;VALUE=DATE:20150319
DTSTAMP:20260421T103944
CREATED:20230904T144901Z
LAST-MODIFIED:20230904T144901Z
UID:18387-1426636800-1426723199@orionis.nl
SUMMARY:Borrel
DESCRIPTION:Gezellig borrel op woensdag in de Heilige Zeug. Bekijk onze facebook\, voor eventuele ludieke drankacties of diesen.
URL:https://orionis.nl/event/borrel-1705/
END:VEVENT
BEGIN:VEVENT
DTSTART;VALUE=DATE:20150318
DTEND;VALUE=DATE:20150319
DTSTAMP:20260421T103944
CREATED:20230904T091924Z
LAST-MODIFIED:20230904T092004Z
UID:17336-1426636800-1426723199@orionis.nl
SUMMARY:Commissievoorzittersoverleg
DESCRIPTION:
URL:https://orionis.nl/event/commissievoorzittersoverleg-38/
END:VEVENT
BEGIN:VEVENT
DTSTART;VALUE=DATE:20150318
DTEND;VALUE=DATE:20150319
DTSTAMP:20260421T103944
CREATED:20230904T091919Z
LAST-MODIFIED:20230904T091945Z
UID:17335-1426636800-1426723199@orionis.nl
SUMMARY:Playbackshow
DESCRIPTION:
URL:https://orionis.nl/event/playbackshow-16/
END:VEVENT
BEGIN:VEVENT
DTSTART;VALUE=DATE:20150317
DTEND;VALUE=DATE:20150318
DTSTAMP:20260421T103944
CREATED:20230904T160951Z
LAST-MODIFIED:20230904T160951Z
UID:18761-1426550400-1426636799@orionis.nl
SUMMARY:Spreekuur
DESCRIPTION:
URL:https://orionis.nl/event/spreekuur-278/
END:VEVENT
BEGIN:VEVENT
DTSTART;VALUE=DATE:20150316
DTEND;VALUE=DATE:20150317
DTSTAMP:20260421T103944
CREATED:20230904T091924Z
LAST-MODIFIED:20230904T092004Z
UID:17337-1426464000-1426550399@orionis.nl
SUMMARY:Undara dies
DESCRIPTION:
URL:https://orionis.nl/event/undara-dies-43/
END:VEVENT
BEGIN:VEVENT
DTSTART;VALUE=DATE:20150316
DTEND;VALUE=DATE:20150317
DTSTAMP:20260421T103944
CREATED:20230904T091924Z
LAST-MODIFIED:20230904T092004Z
UID:17338-1426464000-1426550399@orionis.nl
SUMMARY:Oud en Nieuw diner
DESCRIPTION:
URL:https://orionis.nl/event/oud-en-nieuw-diner-7/
END:VEVENT
BEGIN:VEVENT
DTSTART;VALUE=DATE:20150313
DTEND;VALUE=DATE:20150316
DTSTAMP:20260421T103944
CREATED:20230904T091924Z
LAST-MODIFIED:20230904T092004Z
UID:17339-1426204800-1426463999@orionis.nl
SUMMARY:Maartmonsterweekend
DESCRIPTION:
URL:https://orionis.nl/event/maartmonsterweekend-24/
END:VEVENT
BEGIN:VEVENT
DTSTART;VALUE=DATE:20150311
DTEND;VALUE=DATE:20150313
DTSTAMP:20260421T103944
CREATED:20230904T092208Z
LAST-MODIFIED:20230904T092341Z
UID:17401-1426032000-1426204799@orionis.nl
SUMMARY:Open borrel Maart #3
DESCRIPTION:
URL:https://orionis.nl/event/open-borrel-maart-3-4/
END:VEVENT
BEGIN:VEVENT
DTSTART;VALUE=DATE:20150311
DTEND;VALUE=DATE:20150312
DTSTAMP:20260421T103944
CREATED:20230904T144847Z
LAST-MODIFIED:20230904T144847Z
UID:18386-1426032000-1426118399@orionis.nl
SUMMARY:Borrel
DESCRIPTION:Gezellig borrel op woensdag in de Heilige Zeug. Bekijk onze facebook\, voor eventuele ludieke drankacties of diesen.
URL:https://orionis.nl/event/borrel-1704/
END:VEVENT
BEGIN:VEVENT
DTSTART;VALUE=DATE:20150310
DTEND;VALUE=DATE:20150311
DTSTAMP:20260421T103944
CREATED:20230904T160950Z
LAST-MODIFIED:20230904T160950Z
UID:18760-1425945600-1426031999@orionis.nl
SUMMARY:Spreekuur
DESCRIPTION:
URL:https://orionis.nl/event/spreekuur-277/
END:VEVENT
BEGIN:VEVENT
DTSTART;VALUE=DATE:20150310
DTEND;VALUE=DATE:20150311
DTSTAMP:20260421T103944
CREATED:20230904T091924Z
LAST-MODIFIED:20230904T092004Z
UID:17340-1425945600-1426031999@orionis.nl
SUMMARY:Maart ALV
DESCRIPTION:
URL:https://orionis.nl/event/maart-alv-7/
END:VEVENT
BEGIN:VEVENT
DTSTART;VALUE=DATE:20150309
DTEND;VALUE=DATE:20150310
DTSTAMP:20260421T103944
CREATED:20230904T091941Z
LAST-MODIFIED:20230904T092026Z
UID:17356-1425859200-1425945599@orionis.nl
SUMMARY:Drift dies
DESCRIPTION:
URL:https://orionis.nl/event/drift-dies-41/
END:VEVENT
BEGIN:VEVENT
DTSTART;VALUE=DATE:20150304
DTEND;VALUE=DATE:20150306
DTSTAMP:20260421T103944
CREATED:20230904T092117Z
LAST-MODIFIED:20230904T092117Z
UID:17380-1425427200-1425599999@orionis.nl
SUMMARY:Open borrel Maart #2\, speciale borrel
DESCRIPTION:
URL:https://orionis.nl/event/open-borrel-maart-2-speciale-borrel-4/
END:VEVENT
BEGIN:VEVENT
DTSTART;VALUE=DATE:20150304
DTEND;VALUE=DATE:20150305
DTSTAMP:20260421T103944
CREATED:20230904T144847Z
LAST-MODIFIED:20230904T144847Z
UID:18385-1425427200-1425513599@orionis.nl
SUMMARY:Borrel
DESCRIPTION:Gezellig borrel op woensdag in de Heilige Zeug. Bekijk onze facebook\, voor eventuele ludieke drankacties of diesen.
URL:https://orionis.nl/event/borrel-1703/
END:VEVENT
BEGIN:VEVENT
DTSTART;VALUE=DATE:20150304
DTEND;VALUE=DATE:20150305
DTSTAMP:20260421T103944
CREATED:20230904T091941Z
LAST-MODIFIED:20230904T092026Z
UID:17358-1425427200-1425513599@orionis.nl
SUMMARY:Eten voor de borrel
DESCRIPTION:
URL:https://orionis.nl/event/eten-voor-de-borrel-14/
END:VEVENT
BEGIN:VEVENT
DTSTART;VALUE=DATE:20150303
DTEND;VALUE=DATE:20150304
DTSTAMP:20260421T103944
CREATED:20230904T160950Z
LAST-MODIFIED:20230904T160950Z
UID:18759-1425340800-1425427199@orionis.nl
SUMMARY:Spreekuur
DESCRIPTION:
URL:https://orionis.nl/event/spreekuur-276/
END:VEVENT
BEGIN:VEVENT
DTSTART;VALUE=DATE:20150227
DTEND;VALUE=DATE:20150309
DTSTAMP:20260421T103944
CREATED:20230904T091941Z
LAST-MODIFIED:20230904T092026Z
UID:17357-1424995200-1425859199@orionis.nl
SUMMARY:Wintersport
DESCRIPTION:
URL:https://orionis.nl/event/wintersport-44/
END:VEVENT
BEGIN:VEVENT
DTSTART;VALUE=DATE:20150225
DTEND;VALUE=DATE:20150227
DTSTAMP:20260421T103944
CREATED:20230904T090523Z
LAST-MODIFIED:20230904T090523Z
UID:17096-1424822400-1424995199@orionis.nl
SUMMARY:Open borrel Maart #1
DESCRIPTION:
URL:https://orionis.nl/event/open-borrel-maart-1-5/
END:VEVENT
BEGIN:VEVENT
DTSTART;VALUE=DATE:20150225
DTEND;VALUE=DATE:20150226
DTSTAMP:20260421T103944
CREATED:20230904T144847Z
LAST-MODIFIED:20230904T144847Z
UID:18384-1424822400-1424908799@orionis.nl
SUMMARY:Borrel
DESCRIPTION:Gezellig borrel op woensdag in de Heilige Zeug. Bekijk onze facebook\, voor eventuele ludieke drankacties of diesen.
URL:https://orionis.nl/event/borrel-1702/
END:VEVENT
BEGIN:VEVENT
DTSTART;VALUE=DATE:20150224
DTEND;VALUE=DATE:20150225
DTSTAMP:20260421T103944
CREATED:20230904T160936Z
LAST-MODIFIED:20230904T160936Z
UID:18758-1424736000-1424822399@orionis.nl
SUMMARY:Spreekuur
DESCRIPTION:
URL:https://orionis.nl/event/spreekuur-275/
END:VEVENT
BEGIN:VEVENT
DTSTART;VALUE=DATE:20150223
DTEND;VALUE=DATE:20150224
DTSTAMP:20260421T103944
CREATED:20230904T091941Z
LAST-MODIFIED:20230904T092026Z
UID:17359-1424649600-1424735999@orionis.nl
SUMMARY:Dek dies
DESCRIPTION:
URL:https://orionis.nl/event/dek-dies-39/
END:VEVENT
BEGIN:VEVENT
DTSTART;VALUE=DATE:20150220
DTEND;VALUE=DATE:20150221
DTSTAMP:20260421T103944
CREATED:20230904T091941Z
LAST-MODIFIED:20230904T092026Z
UID:17360-1424390400-1424476799@orionis.nl
SUMMARY:Team Vela Feest
DESCRIPTION:
URL:https://orionis.nl/event/team-vela-feest-7/
END:VEVENT
BEGIN:VEVENT
DTSTART;VALUE=DATE:20150218
DTEND;VALUE=DATE:20150219
DTSTAMP:20260421T103944
CREATED:20230904T144846Z
LAST-MODIFIED:20230904T144846Z
UID:18383-1424217600-1424303999@orionis.nl
SUMMARY:Borrel
DESCRIPTION:Gezellig borrel op woensdag in de Heilige Zeug. Bekijk onze facebook\, voor eventuele ludieke drankacties of diesen.
URL:https://orionis.nl/event/borrel-1701/
END:VEVENT
BEGIN:VEVENT
DTSTART;VALUE=DATE:20150218
DTEND;VALUE=DATE:20150219
DTSTAMP:20260421T103944
CREATED:20230904T092017Z
LAST-MODIFIED:20230904T092047Z
UID:17366-1424217600-1424303999@orionis.nl
SUMMARY:Zout pubquiz
DESCRIPTION:
URL:https://orionis.nl/event/zout-pubquiz-23/
END:VEVENT
BEGIN:VEVENT
DTSTART;VALUE=DATE:20150217
DTEND;VALUE=DATE:20150218
DTSTAMP:20260421T103944
CREATED:20230904T160936Z
LAST-MODIFIED:20230904T160936Z
UID:18757-1424131200-1424217599@orionis.nl
SUMMARY:Spreekuur
DESCRIPTION:
URL:https://orionis.nl/event/spreekuur-274/
END:VEVENT
BEGIN:VEVENT
DTSTART;VALUE=DATE:20150217
DTEND;VALUE=DATE:20150218
DTSTAMP:20260421T103944
CREATED:20230904T092017Z
LAST-MODIFIED:20230904T092047Z
UID:17367-1424131200-1424217599@orionis.nl
SUMMARY:Februari ALV
DESCRIPTION:
URL:https://orionis.nl/event/februari-alv-12/
END:VEVENT
BEGIN:VEVENT
DTSTART;VALUE=DATE:20150213
DTEND;VALUE=DATE:20150214
DTSTAMP:20260421T103944
CREATED:20230904T092017Z
LAST-MODIFIED:20230904T092048Z
UID:17368-1423785600-1423871999@orionis.nl
SUMMARY:Lustrum Biercantus
DESCRIPTION:
URL:https://orionis.nl/event/lustrum-biercantus-6/
END:VEVENT
END:VCALENDAR