BEGIN:VCALENDAR
VERSION:2.0
PRODID:-//Orionis - ECPv6.15.16.1//NONSGML v1.0//EN
CALSCALE:GREGORIAN
METHOD:PUBLISH
X-ORIGINAL-URL:https://orionis.nl
X-WR-CALDESC:Evenementen voor Orionis
REFRESH-INTERVAL;VALUE=DURATION:PT1H
X-Robots-Tag:noindex
X-PUBLISHED-TTL:PT1H
BEGIN:VTIMEZONE
TZID:UTC
BEGIN:STANDARD
TZOFFSETFROM:+0000
TZOFFSETTO:+0000
TZNAME:UTC
DTSTART:20140101T000000
END:STANDARD
END:VTIMEZONE
BEGIN:VEVENT
DTSTART;VALUE=DATE:20150503
DTEND;VALUE=DATE:20150504
DTSTAMP:20260421T135932
CREATED:20230904T091835Z
LAST-MODIFIED:20230904T091846Z
UID:17297-1430611200-1430697599@orionis.nl
SUMMARY:Het ASZK
DESCRIPTION:
URL:https://orionis.nl/event/het-aszk-5/
END:VEVENT
BEGIN:VEVENT
DTSTART;VALUE=DATE:20150505
DTEND;VALUE=DATE:20150506
DTSTAMP:20260421T135932
CREATED:20230904T161006Z
LAST-MODIFIED:20230904T161006Z
UID:18768-1430784000-1430870399@orionis.nl
SUMMARY:Spreekuur
DESCRIPTION:
URL:https://orionis.nl/event/spreekuur-285/
END:VEVENT
BEGIN:VEVENT
DTSTART;VALUE=DATE:20150506
DTEND;VALUE=DATE:20150507
DTSTAMP:20260421T135932
CREATED:20230904T075711Z
LAST-MODIFIED:20230904T075711Z
UID:16704-1430870400-1430956799@orionis.nl
SUMMARY:Borrel
DESCRIPTION:Gezellig borrel op woensdag in de Heilige Zeug. Bekijk onze facebook\, voor eventuele ludieke drankacties of diesen.
URL:https://orionis.nl/event/borrel-1536/
END:VEVENT
BEGIN:VEVENT
DTSTART;VALUE=DATE:20150506
DTEND;VALUE=DATE:20150507
DTSTAMP:20260421T135932
CREATED:20230904T091834Z
LAST-MODIFIED:20230904T091846Z
UID:17296-1430870400-1430956799@orionis.nl
SUMMARY:Sail In
DESCRIPTION:
URL:https://orionis.nl/event/sail-in-422/
END:VEVENT
BEGIN:VEVENT
DTSTART;VALUE=DATE:20150507
DTEND;VALUE=DATE:20150508
DTSTAMP:20260421T135932
CREATED:20230904T091824Z
LAST-MODIFIED:20230904T091834Z
UID:17290-1430956800-1431043199@orionis.nl
SUMMARY:Sail In
DESCRIPTION:
URL:https://orionis.nl/event/sail-in-421/
END:VEVENT
BEGIN:VEVENT
DTSTART;VALUE=DATE:20150511
DTEND;VALUE=DATE:20150512
DTSTAMP:20260421T135932
CREATED:20230904T091824Z
LAST-MODIFIED:20230904T091833Z
UID:17286-1431302400-1431388799@orionis.nl
SUMMARY:Spreekuur
DESCRIPTION:
URL:https://orionis.nl/event/spreekuur-256/
END:VEVENT
BEGIN:VEVENT
DTSTART;VALUE=DATE:20150511
DTEND;VALUE=DATE:20150512
DTSTAMP:20260421T135932
CREATED:20230904T091824Z
LAST-MODIFIED:20230904T091833Z
UID:17288-1431302400-1431388799@orionis.nl
SUMMARY:Fock dies
DESCRIPTION:
URL:https://orionis.nl/event/fock-dies-35/
END:VEVENT
BEGIN:VEVENT
DTSTART;VALUE=DATE:20150511
DTEND;VALUE=DATE:20150512
DTSTAMP:20260421T135932
CREATED:20230904T091824Z
LAST-MODIFIED:20230904T091834Z
UID:17289-1431302400-1431388799@orionis.nl
SUMMARY:Bestuursvergadering 18:00 start
DESCRIPTION:
URL:https://orionis.nl/event/bestuursvergadering-1800-start-6/
END:VEVENT
BEGIN:VEVENT
DTSTART;VALUE=DATE:20150512
DTEND;VALUE=DATE:20150513
DTSTAMP:20260421T135932
CREATED:20230904T091824Z
LAST-MODIFIED:20230904T091833Z
UID:17287-1431388800-1431475199@orionis.nl
SUMMARY:AOO vereniginsstructuur
DESCRIPTION:
URL:https://orionis.nl/event/aoo-vereniginsstructuur-6/
END:VEVENT
BEGIN:VEVENT
DTSTART;VALUE=DATE:20150513
DTEND;VALUE=DATE:20150514
DTSTAMP:20260421T135932
CREATED:20230904T091818Z
LAST-MODIFIED:20230904T091818Z
UID:17284-1431475200-1431561599@orionis.nl
SUMMARY:Reünistenborrel
DESCRIPTION:
URL:https://orionis.nl/event/reunistenborrel-14/
END:VEVENT
BEGIN:VEVENT
DTSTART;VALUE=DATE:20150513
DTEND;VALUE=DATE:20150514
DTSTAMP:20260421T135932
CREATED:20230904T144916Z
LAST-MODIFIED:20230904T144916Z
UID:18392-1431475200-1431561599@orionis.nl
SUMMARY:Borrel
DESCRIPTION:Gezellig borrel op woensdag in de Heilige Zeug. Bekijk onze facebook\, voor eventuele ludieke drankacties of diesen.
URL:https://orionis.nl/event/borrel-1710/
END:VEVENT
BEGIN:VEVENT
DTSTART;VALUE=DATE:20150513
DTEND;VALUE=DATE:20150518
DTSTAMP:20260421T135932
CREATED:20230904T091817Z
LAST-MODIFIED:20230904T091817Z
UID:17283-1431475200-1431907199@orionis.nl
SUMMARY:InstrukCie weekend
DESCRIPTION:
URL:https://orionis.nl/event/instrukcie-weekend-9/
END:VEVENT
BEGIN:VEVENT
DTSTART;VALUE=DATE:20150518
DTEND;VALUE=DATE:20150519
DTSTAMP:20260421T135932
CREATED:20230904T091817Z
LAST-MODIFIED:20230904T091817Z
UID:17282-1431907200-1431993599@orionis.nl
SUMMARY:Boeien dies
DESCRIPTION:
URL:https://orionis.nl/event/boeien-dies-34/
END:VEVENT
BEGIN:VEVENT
DTSTART;VALUE=DATE:20150518
DTEND;VALUE=DATE:20150519
DTSTAMP:20260421T135932
CREATED:20230904T091818Z
LAST-MODIFIED:20230904T091818Z
UID:17285-1431907200-1431993599@orionis.nl
SUMMARY:Spreekuur
DESCRIPTION:
URL:https://orionis.nl/event/spreekuur-255/
END:VEVENT
BEGIN:VEVENT
DTSTART;VALUE=DATE:20150519
DTEND;VALUE=DATE:20150520
DTSTAMP:20260421T135932
CREATED:20230904T091817Z
LAST-MODIFIED:20230904T091817Z
UID:17281-1431993600-1432079999@orionis.nl
SUMMARY:Mei ALV
DESCRIPTION:
URL:https://orionis.nl/event/mei-alv-6/
END:VEVENT
BEGIN:VEVENT
DTSTART;VALUE=DATE:20150520
DTEND;VALUE=DATE:20150521
DTSTAMP:20260421T135932
CREATED:20230904T144916Z
LAST-MODIFIED:20230904T144916Z
UID:18393-1432080000-1432166399@orionis.nl
SUMMARY:Borrel
DESCRIPTION:Gezellig borrel op woensdag in de Heilige Zeug. Bekijk onze facebook\, voor eventuele ludieke drankacties of diesen.
URL:https://orionis.nl/event/borrel-1711/
END:VEVENT
BEGIN:VEVENT
DTSTART;VALUE=DATE:20150522
DTEND;VALUE=DATE:20150526
DTSTAMP:20260421T135932
CREATED:20230904T091744Z
LAST-MODIFIED:20230904T091805Z
UID:17270-1432252800-1432598399@orionis.nl
SUMMARY:SLAK
DESCRIPTION:
URL:https://orionis.nl/event/slak-39/
END:VEVENT
BEGIN:VEVENT
DTSTART;VALUE=DATE:20150526
DTEND;VALUE=DATE:20150527
DTSTAMP:20260421T135932
CREATED:20230904T161020Z
LAST-MODIFIED:20230904T161020Z
UID:18769-1432598400-1432684799@orionis.nl
SUMMARY:Spreekuur
DESCRIPTION:
URL:https://orionis.nl/event/spreekuur-286/
END:VEVENT
BEGIN:VEVENT
DTSTART;VALUE=DATE:20150527
DTEND;VALUE=DATE:20150528
DTSTAMP:20260421T135932
CREATED:20230904T144917Z
LAST-MODIFIED:20230904T144917Z
UID:18394-1432684800-1432771199@orionis.nl
SUMMARY:Borrel
DESCRIPTION:Gezellig borrel op woensdag in de Heilige Zeug. Bekijk onze facebook\, voor eventuele ludieke drankacties of diesen.
URL:https://orionis.nl/event/borrel-1712/
END:VEVENT
BEGIN:VEVENT
DTSTART;VALUE=DATE:20150601
DTEND;VALUE=DATE:20150602
DTSTAMP:20260421T135932
CREATED:20230904T091744Z
LAST-MODIFIED:20230904T091805Z
UID:17269-1433116800-1433203199@orionis.nl
SUMMARY:Vlotenvoorzittersoverleg
DESCRIPTION:
URL:https://orionis.nl/event/vlotenvoorzittersoverleg-36/
END:VEVENT
BEGIN:VEVENT
DTSTART;VALUE=DATE:20150602
DTEND;VALUE=DATE:20150603
DTSTAMP:20260421T135932
CREATED:20230904T161020Z
LAST-MODIFIED:20230904T161020Z
UID:18770-1433203200-1433289599@orionis.nl
SUMMARY:Spreekuur
DESCRIPTION:
URL:https://orionis.nl/event/spreekuur-287/
END:VEVENT
BEGIN:VEVENT
DTSTART;VALUE=DATE:20150603
DTEND;VALUE=DATE:20150604
DTSTAMP:20260421T135932
CREATED:20230904T075558Z
LAST-MODIFIED:20230904T075558Z
UID:16666-1433289600-1433375999@orionis.nl
SUMMARY:Speciale borrel
DESCRIPTION:Gezellig borrel op woensdag in de Heilige Zeug. Bekijk onze facebook\, voor eventuele ludieke drankacties of diesen.
URL:https://orionis.nl/event/speciale-borrel-11/
END:VEVENT
BEGIN:VEVENT
DTSTART;VALUE=DATE:20150603
DTEND;VALUE=DATE:20150604
DTSTAMP:20260421T135932
CREATED:20230904T091744Z
LAST-MODIFIED:20230904T091805Z
UID:17268-1433289600-1433375999@orionis.nl
SUMMARY:Grachten BBQ
DESCRIPTION:
URL:https://orionis.nl/event/grachten-bbq-19/
END:VEVENT
BEGIN:VEVENT
DTSTART;VALUE=DATE:20150606
DTEND;VALUE=DATE:20150607
DTSTAMP:20260421T135932
CREATED:20230904T091744Z
LAST-MODIFIED:20230904T091805Z
UID:17267-1433548800-1433635199@orionis.nl
SUMMARY:Natte Sectie dag
DESCRIPTION:
URL:https://orionis.nl/event/natte-sectie-dag-20/
END:VEVENT
BEGIN:VEVENT
DTSTART;VALUE=DATE:20150609
DTEND;VALUE=DATE:20150610
DTSTAMP:20260421T135932
CREATED:20230904T161021Z
LAST-MODIFIED:20230904T161021Z
UID:18771-1433808000-1433894399@orionis.nl
SUMMARY:Spreekuur
DESCRIPTION:
URL:https://orionis.nl/event/spreekuur-288/
END:VEVENT
BEGIN:VEVENT
DTSTART;VALUE=DATE:20150610
DTEND;VALUE=DATE:20150611
DTSTAMP:20260421T135932
CREATED:20230904T091744Z
LAST-MODIFIED:20230904T091805Z
UID:17266-1433894400-1433980799@orionis.nl
SUMMARY:JC activiteit
DESCRIPTION:
URL:https://orionis.nl/event/jc-activiteit-6/
END:VEVENT
BEGIN:VEVENT
DTSTART;VALUE=DATE:20150610
DTEND;VALUE=DATE:20150611
DTSTAMP:20260421T135932
CREATED:20230904T144917Z
LAST-MODIFIED:20230904T144917Z
UID:18395-1433894400-1433980799@orionis.nl
SUMMARY:Borrel
DESCRIPTION:Gezellig borrel op woensdag in de Heilige Zeug. Bekijk onze facebook\, voor eventuele ludieke drankacties of diesen.
URL:https://orionis.nl/event/borrel-1713/
END:VEVENT
BEGIN:VEVENT
DTSTART;VALUE=DATE:20150612
DTEND;VALUE=DATE:20150615
DTSTAMP:20260421T135932
CREATED:20230904T091739Z
LAST-MODIFIED:20230904T091749Z
UID:17265-1434067200-1434326399@orionis.nl
SUMMARY:Zusterweekend Histos (Lustrum)
DESCRIPTION:
URL:https://orionis.nl/event/zusterweekend-histos-lustrum-5/
END:VEVENT
BEGIN:VEVENT
DTSTART;VALUE=DATE:20150616
DTEND;VALUE=DATE:20150617
DTSTAMP:20260421T135932
CREATED:20230904T161021Z
LAST-MODIFIED:20230904T161021Z
UID:18772-1434412800-1434499199@orionis.nl
SUMMARY:Spreekuur
DESCRIPTION:
URL:https://orionis.nl/event/spreekuur-289/
END:VEVENT
BEGIN:VEVENT
DTSTART;VALUE=DATE:20150617
DTEND;VALUE=DATE:20150618
DTSTAMP:20260421T135932
CREATED:20230904T144917Z
LAST-MODIFIED:20230904T144917Z
UID:18396-1434499200-1434585599@orionis.nl
SUMMARY:Borrel
DESCRIPTION:Gezellig borrel op woensdag in de Heilige Zeug. Bekijk onze facebook\, voor eventuele ludieke drankacties of diesen.
URL:https://orionis.nl/event/borrel-1714/
END:VEVENT
END:VCALENDAR