BEGIN:VCALENDAR
VERSION:2.0
PRODID:-//Orionis - ECPv6.15.16.1//NONSGML v1.0//EN
CALSCALE:GREGORIAN
METHOD:PUBLISH
X-WR-CALNAME:Orionis
X-ORIGINAL-URL:https://orionis.nl
X-WR-CALDESC:Evenementen voor Orionis
REFRESH-INTERVAL;VALUE=DURATION:PT1H
X-Robots-Tag:noindex
X-PUBLISHED-TTL:PT1H
BEGIN:VTIMEZONE
TZID:UTC
BEGIN:STANDARD
TZOFFSETFROM:+0000
TZOFFSETTO:+0000
TZNAME:UTC
DTSTART:20140101T000000
END:STANDARD
END:VTIMEZONE
BEGIN:VEVENT
DTSTART;VALUE=DATE:20160210
DTEND;VALUE=DATE:20160211
DTSTAMP:20260421T155758
CREATED:20230904T145052Z
LAST-MODIFIED:20230904T145052Z
UID:18423-1455062400-1455148799@orionis.nl
SUMMARY:Borrel
DESCRIPTION:Gezellig borrel op woensdag in de Heilige Zeug. Bekijk onze facebook\, voor eventuele ludieke drankacties of diesen.
URL:https://orionis.nl/event/borrel-1741/
END:VEVENT
BEGIN:VEVENT
DTSTART;VALUE=DATE:20160208
DTEND;VALUE=DATE:20160209
DTSTAMP:20260421T155758
CREATED:20230904T090935Z
LAST-MODIFIED:20230904T090935Z
UID:17127-1454889600-1454975999@orionis.nl
SUMMARY:Scepter Dies
DESCRIPTION:
URL:https://orionis.nl/event/scepter-dies-37/
END:VEVENT
BEGIN:VEVENT
DTSTART;VALUE=DATE:20160203
DTEND;VALUE=DATE:20160204
DTSTAMP:20260421T155758
CREATED:20230904T145051Z
LAST-MODIFIED:20230904T145051Z
UID:18422-1454457600-1454543999@orionis.nl
SUMMARY:Borrel
DESCRIPTION:Gezellig borrel op woensdag in de Heilige Zeug. Bekijk onze facebook\, voor eventuele ludieke drankacties of diesen.
URL:https://orionis.nl/event/borrel-1740/
END:VEVENT
BEGIN:VEVENT
DTSTART;VALUE=DATE:20160203
DTEND;VALUE=DATE:20160204
DTSTAMP:20260421T155758
CREATED:20230904T091456Z
LAST-MODIFIED:20230904T091504Z
UID:17190-1454457600-1454543999@orionis.nl
SUMMARY:Zout pubquiz
DESCRIPTION:
URL:https://orionis.nl/event/zout-pubquiz-22/
END:VEVENT
BEGIN:VEVENT
DTSTART;VALUE=DATE:20160203
DTEND;VALUE=DATE:20160204
DTSTAMP:20260421T155758
CREATED:20230904T090902Z
LAST-MODIFIED:20230904T090902Z
UID:17116-1454457600-1454543999@orionis.nl
SUMMARY:Carnavalborrel
DESCRIPTION:
URL:https://orionis.nl/event/carnavalborrel-5/
END:VEVENT
BEGIN:VEVENT
DTSTART;VALUE=DATE:20160202
DTEND;VALUE=DATE:20160203
DTSTAMP:20260421T155758
CREATED:20230904T090648Z
LAST-MODIFIED:20230904T090648Z
UID:17109-1454371200-1454457599@orionis.nl
SUMMARY:Bestuursinformatieavond
DESCRIPTION:
URL:https://orionis.nl/event/bestuursinformatieavond-4/
END:VEVENT
BEGIN:VEVENT
DTSTART;VALUE=DATE:20160201
DTEND;VALUE=DATE:20160202
DTSTAMP:20260421T155758
CREATED:20230904T091303Z
LAST-MODIFIED:20230904T091303Z
UID:17147-1454284800-1454371199@orionis.nl
SUMMARY:Undrifta feest
DESCRIPTION:
URL:https://orionis.nl/event/undrifta-feest-5/
END:VEVENT
BEGIN:VEVENT
DTSTART;VALUE=DATE:20160127
DTEND;VALUE=DATE:20160128
DTSTAMP:20260421T155758
CREATED:20230904T145033Z
LAST-MODIFIED:20230904T145033Z
UID:18421-1453852800-1453939199@orionis.nl
SUMMARY:Borrel
DESCRIPTION:Gezellig borrel op woensdag in de Heilige Zeug. Bekijk onze facebook\, voor eventuele ludieke drankacties of diesen.
URL:https://orionis.nl/event/borrel-1739/
END:VEVENT
BEGIN:VEVENT
DTSTART;VALUE=DATE:20160120
DTEND;VALUE=DATE:20160121
DTSTAMP:20260421T155758
CREATED:20230904T145033Z
LAST-MODIFIED:20230904T145033Z
UID:18420-1453248000-1453334399@orionis.nl
SUMMARY:Borrel
DESCRIPTION:Gezellig borrel op woensdag in de Heilige Zeug. Bekijk onze facebook\, voor eventuele ludieke drankacties of diesen.
URL:https://orionis.nl/event/borrel-1738/
END:VEVENT
BEGIN:VEVENT
DTSTART;VALUE=DATE:20160120
DTEND;VALUE=DATE:20160121
DTSTAMP:20260421T155758
CREATED:20230904T091434Z
LAST-MODIFIED:20230904T091448Z
UID:17179-1453248000-1453334399@orionis.nl
SUMMARY:Playbackshow
DESCRIPTION:
URL:https://orionis.nl/event/playbackshow-15/
END:VEVENT
BEGIN:VEVENT
DTSTART;VALUE=DATE:20160120
DTEND;VALUE=DATE:20160121
DTSTAMP:20260421T155758
CREATED:20230904T090908Z
LAST-MODIFIED:20230904T090908Z
UID:17122-1453248000-1453334399@orionis.nl
SUMMARY:Almanakuitreiking
DESCRIPTION:
URL:https://orionis.nl/event/almanakuitreiking-9/
END:VEVENT
BEGIN:VEVENT
DTSTART;VALUE=DATE:20160113
DTEND;VALUE=DATE:20160114
DTSTAMP:20260421T155758
CREATED:20230904T145032Z
LAST-MODIFIED:20230904T145032Z
UID:18419-1452643200-1452729599@orionis.nl
SUMMARY:Borrel
DESCRIPTION:Gezellig borrel op woensdag in de Heilige Zeug. Bekijk onze facebook\, voor eventuele ludieke drankacties of diesen.
URL:https://orionis.nl/event/borrel-1737/
END:VEVENT
BEGIN:VEVENT
DTSTART;VALUE=DATE:20160113
DTEND;VALUE=DATE:20160114
DTSTAMP:20260421T155758
CREATED:20230904T090935Z
LAST-MODIFIED:20230904T090935Z
UID:17126-1452643200-1452729599@orionis.nl
SUMMARY:Vlotenvoorzittersoverleg
DESCRIPTION:
URL:https://orionis.nl/event/vlotenvoorzittersoverleg-34/
END:VEVENT
BEGIN:VEVENT
DTSTART;VALUE=DATE:20160106
DTEND;VALUE=DATE:20160107
DTSTAMP:20260421T155758
CREATED:20230904T145032Z
LAST-MODIFIED:20230904T145032Z
UID:18418-1452038400-1452124799@orionis.nl
SUMMARY:Borrel
DESCRIPTION:Gezellig borrel op woensdag in de Heilige Zeug. Bekijk onze facebook\, voor eventuele ludieke drankacties of diesen.
URL:https://orionis.nl/event/borrel-1736/
END:VEVENT
BEGIN:VEVENT
DTSTART;VALUE=DATE:20160104
DTEND;VALUE=DATE:20160105
DTSTAMP:20260421T155758
CREATED:20230904T091100Z
LAST-MODIFIED:20230904T091100Z
UID:17137-1451865600-1451951999@orionis.nl
SUMMARY:Nieuwjaarsfeest
DESCRIPTION:
URL:https://orionis.nl/event/nieuwjaarsfeest-27/
END:VEVENT
BEGIN:VEVENT
DTSTART;VALUE=DATE:20151230
DTEND;VALUE=DATE:20151231
DTSTAMP:20260421T155758
CREATED:20230904T145032Z
LAST-MODIFIED:20230904T145032Z
UID:18417-1451433600-1451519999@orionis.nl
SUMMARY:Borrel
DESCRIPTION:Gezellig borrel op woensdag in de Heilige Zeug. Bekijk onze facebook\, voor eventuele ludieke drankacties of diesen.
URL:https://orionis.nl/event/borrel-1735/
END:VEVENT
BEGIN:VEVENT
DTSTART;VALUE=DATE:20151223
DTEND;VALUE=DATE:20151224
DTSTAMP:20260421T155758
CREATED:20230904T145018Z
LAST-MODIFIED:20230904T145018Z
UID:18416-1450828800-1450915199@orionis.nl
SUMMARY:Borrel
DESCRIPTION:Gezellig borrel op woensdag in de Heilige Zeug. Bekijk onze facebook\, voor eventuele ludieke drankacties of diesen.
URL:https://orionis.nl/event/borrel-1734/
END:VEVENT
BEGIN:VEVENT
DTSTART;VALUE=DATE:20151216
DTEND;VALUE=DATE:20151217
DTSTAMP:20260421T155758
CREATED:20230904T145018Z
LAST-MODIFIED:20230904T145018Z
UID:18415-1450224000-1450310399@orionis.nl
SUMMARY:Borrel
DESCRIPTION:Gezellig borrel op woensdag in de Heilige Zeug. Bekijk onze facebook\, voor eventuele ludieke drankacties of diesen.
URL:https://orionis.nl/event/borrel-1733/
END:VEVENT
BEGIN:VEVENT
DTSTART;VALUE=DATE:20151209
DTEND;VALUE=DATE:20151210
DTSTAMP:20260421T155758
CREATED:20230904T145017Z
LAST-MODIFIED:20230904T145017Z
UID:18414-1449619200-1449705599@orionis.nl
SUMMARY:Borrel
DESCRIPTION:Gezellig borrel op woensdag in de Heilige Zeug. Bekijk onze facebook\, voor eventuele ludieke drankacties of diesen.
URL:https://orionis.nl/event/borrel-1732/
END:VEVENT
BEGIN:VEVENT
DTSTART;VALUE=DATE:20151207
DTEND;VALUE=DATE:20151208
DTSTAMP:20260421T155758
CREATED:20230904T091328Z
LAST-MODIFIED:20230904T091328Z
UID:17158-1449446400-1449532799@orionis.nl
SUMMARY:Boeien-Schuim feest
DESCRIPTION:
URL:https://orionis.nl/event/boeien-schuim-feest-22/
END:VEVENT
BEGIN:VEVENT
DTSTART;VALUE=DATE:20151202
DTEND;VALUE=DATE:20151203
DTSTAMP:20260421T155758
CREATED:20230904T145017Z
LAST-MODIFIED:20230904T145017Z
UID:18413-1449014400-1449100799@orionis.nl
SUMMARY:Borrel
DESCRIPTION:Gezellig borrel op woensdag in de Heilige Zeug. Bekijk onze facebook\, voor eventuele ludieke drankacties of diesen.
URL:https://orionis.nl/event/borrel-1731/
END:VEVENT
BEGIN:VEVENT
DTSTART;VALUE=DATE:20151202
DTEND;VALUE=DATE:20151203
DTSTAMP:20260421T155758
CREATED:20230904T092539Z
LAST-MODIFIED:20230904T092545Z
UID:17436-1449014400-1449100799@orionis.nl
SUMMARY:Zoeterklaas
DESCRIPTION:
URL:https://orionis.nl/event/zoeterklaas-49/
END:VEVENT
BEGIN:VEVENT
DTSTART;VALUE=DATE:20151201
DTEND;VALUE=DATE:20151202
DTSTAMP:20260421T155758
CREATED:20230904T091727Z
LAST-MODIFIED:20230904T091736Z
UID:17253-1448928000-1449014399@orionis.nl
SUMMARY:ALV
DESCRIPTION:
URL:https://orionis.nl/event/alv-71/
END:VEVENT
BEGIN:VEVENT
DTSTART;VALUE=DATE:20151125
DTEND;VALUE=DATE:20151126
DTSTAMP:20260421T155758
CREATED:20230904T145017Z
LAST-MODIFIED:20230904T145017Z
UID:18412-1448409600-1448495999@orionis.nl
SUMMARY:Borrel
DESCRIPTION:Gezellig borrel op woensdag in de Heilige Zeug. Bekijk onze facebook\, voor eventuele ludieke drankacties of diesen.
URL:https://orionis.nl/event/borrel-1730/
END:VEVENT
BEGIN:VEVENT
DTSTART;VALUE=DATE:20151125
DTEND;VALUE=DATE:20151126
DTSTAMP:20260421T155758
CREATED:20230904T091021Z
LAST-MODIFIED:20230904T091021Z
UID:17135-1448409600-1448495999@orionis.nl
SUMMARY:Karaokeshow
DESCRIPTION:
URL:https://orionis.nl/event/karaokeshow-7/
END:VEVENT
BEGIN:VEVENT
DTSTART;VALUE=DATE:20151123
DTEND;VALUE=DATE:20151124
DTSTAMP:20260421T155758
CREATED:20230904T091100Z
LAST-MODIFIED:20230904T091100Z
UID:17138-1448236800-1448323199@orionis.nl
SUMMARY:Chiek Dies
DESCRIPTION:
URL:https://orionis.nl/event/chiek-dies-25/
END:VEVENT
BEGIN:VEVENT
DTSTART;VALUE=DATE:20151118
DTEND;VALUE=DATE:20151119
DTSTAMP:20260421T155758
CREATED:20230904T145003Z
LAST-MODIFIED:20230904T145003Z
UID:18411-1447804800-1447891199@orionis.nl
SUMMARY:Borrel
DESCRIPTION:Gezellig borrel op woensdag in de Heilige Zeug. Bekijk onze facebook\, voor eventuele ludieke drankacties of diesen.
URL:https://orionis.nl/event/borrel-1729/
END:VEVENT
BEGIN:VEVENT
DTSTART;VALUE=DATE:20151116
DTEND;VALUE=DATE:20151117
DTSTAMP:20260421T155758
CREATED:20230904T091606Z
LAST-MODIFIED:20230904T091606Z
UID:17220-1447632000-1447718399@orionis.nl
SUMMARY:Sirene dies
DESCRIPTION:
URL:https://orionis.nl/event/sirene-dies-39/
END:VEVENT
BEGIN:VEVENT
DTSTART;VALUE=DATE:20151113
DTEND;VALUE=DATE:20151116
DTSTAMP:20260421T155758
CREATED:20230904T092539Z
LAST-MODIFIED:20230904T092545Z
UID:17437-1447372800-1447631999@orionis.nl
SUMMARY:Winterzeilen
DESCRIPTION:
URL:https://orionis.nl/event/winterzeilen-10/
END:VEVENT
BEGIN:VEVENT
DTSTART;VALUE=DATE:20151111
DTEND;VALUE=DATE:20151112
DTSTAMP:20260421T155758
CREATED:20230904T145002Z
LAST-MODIFIED:20230904T145002Z
UID:18410-1447200000-1447286399@orionis.nl
SUMMARY:Borrel
DESCRIPTION:Gezellig borrel op woensdag in de Heilige Zeug. Bekijk onze facebook\, voor eventuele ludieke drankacties of diesen.
URL:https://orionis.nl/event/borrel-1728/
END:VEVENT
END:VCALENDAR