BEGIN:VCALENDAR
VERSION:2.0
PRODID:-//Orionis - ECPv6.15.16.1//NONSGML v1.0//EN
CALSCALE:GREGORIAN
METHOD:PUBLISH
X-WR-CALNAME:Orionis
X-ORIGINAL-URL:https://orionis.nl
X-WR-CALDESC:Evenementen voor Orionis
REFRESH-INTERVAL;VALUE=DURATION:PT1H
X-Robots-Tag:noindex
X-PUBLISHED-TTL:PT1H
BEGIN:VTIMEZONE
TZID:UTC
BEGIN:STANDARD
TZOFFSETFROM:+0000
TZOFFSETTO:+0000
TZNAME:UTC
DTSTART:20140101T000000
END:STANDARD
END:VTIMEZONE
BEGIN:VEVENT
DTSTART;VALUE=DATE:20150824
DTEND;VALUE=DATE:20150829
DTSTAMP:20260421T174006
CREATED:20230904T091727Z
LAST-MODIFIED:20230904T091736Z
UID:17251-1440374400-1440806399@orionis.nl
SUMMARY:INTREE-week
DESCRIPTION:
URL:https://orionis.nl/event/intree-week-22/
END:VEVENT
BEGIN:VEVENT
DTSTART;VALUE=DATE:20150819
DTEND;VALUE=DATE:20150824
DTSTAMP:20260421T174006
CREATED:20230904T091727Z
LAST-MODIFIED:20230904T091736Z
UID:17252-1439942400-1440374399@orionis.nl
SUMMARY:SAIL Amsterdam
DESCRIPTION:
URL:https://orionis.nl/event/sail-amsterdam-5/
END:VEVENT
BEGIN:VEVENT
DTSTART;VALUE=DATE:20150819
DTEND;VALUE=DATE:20150824
DTSTAMP:20260421T174006
CREATED:20230904T091536Z
LAST-MODIFIED:20230904T091549Z
UID:17206-1439942400-1440374399@orionis.nl
SUMMARY:IDEE-week
DESCRIPTION:
URL:https://orionis.nl/event/idee-week-20/
END:VEVENT
BEGIN:VEVENT
DTSTART;VALUE=DATE:20150819
DTEND;VALUE=DATE:20150820
DTSTAMP:20260421T174006
CREATED:20230904T144932Z
LAST-MODIFIED:20230904T144932Z
UID:18398-1439942400-1440028799@orionis.nl
SUMMARY:Borrel
DESCRIPTION:Gezellig borrel op woensdag in de Heilige Zeug. Bekijk onze facebook\, voor eventuele ludieke drankacties of diesen.
URL:https://orionis.nl/event/borrel-1716/
END:VEVENT
BEGIN:VEVENT
DTSTART;VALUE=DATE:20150819
DTEND;VALUE=DATE:20150820
DTSTAMP:20260421T174006
CREATED:20230904T091536Z
LAST-MODIFIED:20230904T091549Z
UID:17207-1439942400-1440028799@orionis.nl
SUMMARY:Open borrel
DESCRIPTION:
URL:https://orionis.nl/event/open-borrel-202/
END:VEVENT
BEGIN:VEVENT
DTSTART;VALUE=DATE:20150818
DTEND;VALUE=DATE:20150819
DTSTAMP:20260421T174006
CREATED:20230904T161035Z
LAST-MODIFIED:20230904T161035Z
UID:18774-1439856000-1439942399@orionis.nl
SUMMARY:Spreekuur
DESCRIPTION:
URL:https://orionis.nl/event/spreekuur-291/
END:VEVENT
BEGIN:VEVENT
DTSTART;VALUE=DATE:20150812
DTEND;VALUE=DATE:20150813
DTSTAMP:20260421T174006
CREATED:20230904T075639Z
LAST-MODIFIED:20230904T075642Z
UID:16692-1439337600-1439423999@orionis.nl
SUMMARY:Borrel
DESCRIPTION:Gezellig borrel op woensdag in de Heilige Zeug. Bekijk onze facebook\, voor eventuele ludieke drankacties of diesen.
URL:https://orionis.nl/event/borrel-1529/
END:VEVENT
BEGIN:VEVENT
DTSTART;VALUE=DATE:20150805
DTEND;VALUE=DATE:20150806
DTSTAMP:20260421T174006
CREATED:20230904T075639Z
LAST-MODIFIED:20230904T075642Z
UID:16693-1438732800-1438819199@orionis.nl
SUMMARY:Borrel
DESCRIPTION:Gezellig borrel op woensdag in de Heilige Zeug. Bekijk onze facebook\, voor eventuele ludieke drankacties of diesen.
URL:https://orionis.nl/event/borrel-1530/
END:VEVENT
BEGIN:VEVENT
DTSTART;VALUE=DATE:20150729
DTEND;VALUE=DATE:20150730
DTSTAMP:20260421T174006
CREATED:20230904T075656Z
LAST-MODIFIED:20230904T075656Z
UID:16699-1438128000-1438214399@orionis.nl
SUMMARY:Borrel
DESCRIPTION:Gezellig borrel op woensdag in de Heilige Zeug. Bekijk onze facebook\, voor eventuele ludieke drankacties of diesen.
URL:https://orionis.nl/event/borrel-1531/
END:VEVENT
BEGIN:VEVENT
DTSTART;VALUE=DATE:20150722
DTEND;VALUE=DATE:20150723
DTSTAMP:20260421T174006
CREATED:20230904T075656Z
LAST-MODIFIED:20230904T075656Z
UID:16700-1437523200-1437609599@orionis.nl
SUMMARY:Borrel
DESCRIPTION:Gezellig borrel op woensdag in de Heilige Zeug. Bekijk onze facebook\, voor eventuele ludieke drankacties of diesen.
URL:https://orionis.nl/event/borrel-1532/
END:VEVENT
BEGIN:VEVENT
DTSTART;VALUE=DATE:20150720
DTEND;VALUE=DATE:20150725
DTSTAMP:20260421T174006
CREATED:20230904T091727Z
LAST-MODIFIED:20230904T091736Z
UID:17255-1437350400-1437782399@orionis.nl
SUMMARY:ZSW
DESCRIPTION:
URL:https://orionis.nl/event/zsw-29/
END:VEVENT
BEGIN:VEVENT
DTSTART;VALUE=DATE:20150715
DTEND;VALUE=DATE:20150716
DTSTAMP:20260421T174006
CREATED:20230904T075657Z
LAST-MODIFIED:20230904T075657Z
UID:16701-1436918400-1437004799@orionis.nl
SUMMARY:Borrel
DESCRIPTION:Gezellig borrel op woensdag in de Heilige Zeug. Bekijk onze facebook\, voor eventuele ludieke drankacties of diesen.
URL:https://orionis.nl/event/borrel-1533/
END:VEVENT
BEGIN:VEVENT
DTSTART;VALUE=DATE:20150713
DTEND;VALUE=DATE:20150718
DTSTAMP:20260421T174006
CREATED:20230904T091738Z
LAST-MODIFIED:20230904T091749Z
UID:17261-1436745600-1437177599@orionis.nl
SUMMARY:Waddenweek
DESCRIPTION:
URL:https://orionis.nl/event/waddenweek-28/
END:VEVENT
BEGIN:VEVENT
DTSTART;VALUE=DATE:20150708
DTEND;VALUE=DATE:20150709
DTSTAMP:20260421T174006
CREATED:20230904T075657Z
LAST-MODIFIED:20230904T075657Z
UID:16702-1436313600-1436399999@orionis.nl
SUMMARY:Borrel
DESCRIPTION:Gezellig borrel op woensdag in de Heilige Zeug. Bekijk onze facebook\, voor eventuele ludieke drankacties of diesen.
URL:https://orionis.nl/event/borrel-1534/
END:VEVENT
BEGIN:VEVENT
DTSTART;VALUE=DATE:20150701
DTEND;VALUE=DATE:20150702
DTSTAMP:20260421T174006
CREATED:20230904T091738Z
LAST-MODIFIED:20230904T091749Z
UID:17262-1435708800-1435795199@orionis.nl
SUMMARY:Gemini Zomerfeest
DESCRIPTION:
URL:https://orionis.nl/event/gemini-zomerfeest-5/
END:VEVENT
BEGIN:VEVENT
DTSTART;VALUE=DATE:20150701
DTEND;VALUE=DATE:20150702
DTSTAMP:20260421T174006
CREATED:20230904T091738Z
LAST-MODIFIED:20230904T091749Z
UID:17263-1435708800-1435795199@orionis.nl
SUMMARY:Jaarclub activiteit
DESCRIPTION:
URL:https://orionis.nl/event/jaarclub-activiteit-7/
END:VEVENT
BEGIN:VEVENT
DTSTART;VALUE=DATE:20150701
DTEND;VALUE=DATE:20150702
DTSTAMP:20260421T174006
CREATED:20230904T075657Z
LAST-MODIFIED:20230904T075657Z
UID:16703-1435708800-1435795199@orionis.nl
SUMMARY:Borrel
DESCRIPTION:Gezellig borrel op woensdag in de Heilige Zeug. Bekijk onze facebook\, voor eventuele ludieke drankacties of diesen.
URL:https://orionis.nl/event/borrel-1535/
END:VEVENT
BEGIN:VEVENT
DTSTART;VALUE=DATE:20150624
DTEND;VALUE=DATE:20150625
DTSTAMP:20260421T174006
CREATED:20230904T144931Z
LAST-MODIFIED:20230904T144931Z
UID:18397-1435104000-1435190399@orionis.nl
SUMMARY:Borrel
DESCRIPTION:Gezellig borrel op woensdag in de Heilige Zeug. Bekijk onze facebook\, voor eventuele ludieke drankacties of diesen.
URL:https://orionis.nl/event/borrel-1715/
END:VEVENT
BEGIN:VEVENT
DTSTART;VALUE=DATE:20150623
DTEND;VALUE=DATE:20150624
DTSTAMP:20260421T174006
CREATED:20230904T161021Z
LAST-MODIFIED:20230904T161021Z
UID:18773-1435017600-1435103999@orionis.nl
SUMMARY:Spreekuur
DESCRIPTION:
URL:https://orionis.nl/event/spreekuur-290/
END:VEVENT
BEGIN:VEVENT
DTSTART;VALUE=DATE:20150620
DTEND;VALUE=DATE:20150621
DTSTAMP:20260421T174006
CREATED:20230904T091738Z
LAST-MODIFIED:20230904T091749Z
UID:17264-1434758400-1434844799@orionis.nl
SUMMARY:Lustrum Broertjes &amp\, Zusjesdag
DESCRIPTION:
URL:https://orionis.nl/event/lustrum-broertjes-amp-zusjesdag/
END:VEVENT
BEGIN:VEVENT
DTSTART;VALUE=DATE:20150617
DTEND;VALUE=DATE:20150618
DTSTAMP:20260421T174006
CREATED:20230904T144917Z
LAST-MODIFIED:20230904T144917Z
UID:18396-1434499200-1434585599@orionis.nl
SUMMARY:Borrel
DESCRIPTION:Gezellig borrel op woensdag in de Heilige Zeug. Bekijk onze facebook\, voor eventuele ludieke drankacties of diesen.
URL:https://orionis.nl/event/borrel-1714/
END:VEVENT
BEGIN:VEVENT
DTSTART;VALUE=DATE:20150616
DTEND;VALUE=DATE:20150617
DTSTAMP:20260421T174006
CREATED:20230904T161021Z
LAST-MODIFIED:20230904T161021Z
UID:18772-1434412800-1434499199@orionis.nl
SUMMARY:Spreekuur
DESCRIPTION:
URL:https://orionis.nl/event/spreekuur-289/
END:VEVENT
BEGIN:VEVENT
DTSTART;VALUE=DATE:20150612
DTEND;VALUE=DATE:20150615
DTSTAMP:20260421T174006
CREATED:20230904T091739Z
LAST-MODIFIED:20230904T091749Z
UID:17265-1434067200-1434326399@orionis.nl
SUMMARY:Zusterweekend Histos (Lustrum)
DESCRIPTION:
URL:https://orionis.nl/event/zusterweekend-histos-lustrum-5/
END:VEVENT
BEGIN:VEVENT
DTSTART;VALUE=DATE:20150610
DTEND;VALUE=DATE:20150611
DTSTAMP:20260421T174006
CREATED:20230904T144917Z
LAST-MODIFIED:20230904T144917Z
UID:18395-1433894400-1433980799@orionis.nl
SUMMARY:Borrel
DESCRIPTION:Gezellig borrel op woensdag in de Heilige Zeug. Bekijk onze facebook\, voor eventuele ludieke drankacties of diesen.
URL:https://orionis.nl/event/borrel-1713/
END:VEVENT
BEGIN:VEVENT
DTSTART;VALUE=DATE:20150610
DTEND;VALUE=DATE:20150611
DTSTAMP:20260421T174006
CREATED:20230904T091744Z
LAST-MODIFIED:20230904T091805Z
UID:17266-1433894400-1433980799@orionis.nl
SUMMARY:JC activiteit
DESCRIPTION:
URL:https://orionis.nl/event/jc-activiteit-6/
END:VEVENT
BEGIN:VEVENT
DTSTART;VALUE=DATE:20150609
DTEND;VALUE=DATE:20150610
DTSTAMP:20260421T174006
CREATED:20230904T161021Z
LAST-MODIFIED:20230904T161021Z
UID:18771-1433808000-1433894399@orionis.nl
SUMMARY:Spreekuur
DESCRIPTION:
URL:https://orionis.nl/event/spreekuur-288/
END:VEVENT
BEGIN:VEVENT
DTSTART;VALUE=DATE:20150606
DTEND;VALUE=DATE:20150607
DTSTAMP:20260421T174006
CREATED:20230904T091744Z
LAST-MODIFIED:20230904T091805Z
UID:17267-1433548800-1433635199@orionis.nl
SUMMARY:Natte Sectie dag
DESCRIPTION:
URL:https://orionis.nl/event/natte-sectie-dag-20/
END:VEVENT
BEGIN:VEVENT
DTSTART;VALUE=DATE:20150603
DTEND;VALUE=DATE:20150604
DTSTAMP:20260421T174006
CREATED:20230904T091744Z
LAST-MODIFIED:20230904T091805Z
UID:17268-1433289600-1433375999@orionis.nl
SUMMARY:Grachten BBQ
DESCRIPTION:
URL:https://orionis.nl/event/grachten-bbq-19/
END:VEVENT
BEGIN:VEVENT
DTSTART;VALUE=DATE:20150603
DTEND;VALUE=DATE:20150604
DTSTAMP:20260421T174006
CREATED:20230904T075558Z
LAST-MODIFIED:20230904T075558Z
UID:16666-1433289600-1433375999@orionis.nl
SUMMARY:Speciale borrel
DESCRIPTION:Gezellig borrel op woensdag in de Heilige Zeug. Bekijk onze facebook\, voor eventuele ludieke drankacties of diesen.
URL:https://orionis.nl/event/speciale-borrel-11/
END:VEVENT
BEGIN:VEVENT
DTSTART;VALUE=DATE:20150602
DTEND;VALUE=DATE:20150603
DTSTAMP:20260421T174006
CREATED:20230904T161020Z
LAST-MODIFIED:20230904T161020Z
UID:18770-1433203200-1433289599@orionis.nl
SUMMARY:Spreekuur
DESCRIPTION:
URL:https://orionis.nl/event/spreekuur-287/
END:VEVENT
END:VCALENDAR