BEGIN:VCALENDAR
VERSION:2.0
PRODID:-//Orionis - ECPv6.15.16.1//NONSGML v1.0//EN
CALSCALE:GREGORIAN
METHOD:PUBLISH
X-WR-CALNAME:Orionis
X-ORIGINAL-URL:https://orionis.nl
X-WR-CALDESC:Evenementen voor Orionis
REFRESH-INTERVAL;VALUE=DURATION:PT1H
X-Robots-Tag:noindex
X-PUBLISHED-TTL:PT1H
BEGIN:VTIMEZONE
TZID:UTC
BEGIN:STANDARD
TZOFFSETFROM:+0000
TZOFFSETTO:+0000
TZNAME:UTC
DTSTART:20130101T000000
END:STANDARD
END:VTIMEZONE
BEGIN:VEVENT
DTSTART;VALUE=DATE:20150127
DTEND;VALUE=DATE:20150128
DTSTAMP:20260421T155718
CREATED:20230904T160935Z
LAST-MODIFIED:20230904T160935Z
UID:18754-1422316800-1422403199@orionis.nl
SUMMARY:Spreekuur
DESCRIPTION:
URL:https://orionis.nl/event/spreekuur-271/
END:VEVENT
BEGIN:VEVENT
DTSTART;VALUE=DATE:20150126
DTEND;VALUE=DATE:20150127
DTSTAMP:20260421T155718
CREATED:20230904T092117Z
LAST-MODIFIED:20230904T092117Z
UID:17379-1422230400-1422316799@orionis.nl
SUMMARY:Scepter dies
DESCRIPTION:
URL:https://orionis.nl/event/scepter-dies-38/
END:VEVENT
BEGIN:VEVENT
DTSTART;VALUE=DATE:20150121
DTEND;VALUE=DATE:20150122
DTSTAMP:20260421T155718
CREATED:20230904T144831Z
LAST-MODIFIED:20230904T144831Z
UID:18379-1421798400-1421884799@orionis.nl
SUMMARY:Borrel
DESCRIPTION:Gezellig borrel op woensdag in de Heilige Zeug. Bekijk onze facebook\, voor eventuele ludieke drankacties of diesen.
URL:https://orionis.nl/event/borrel-1697/
END:VEVENT
BEGIN:VEVENT
DTSTART;VALUE=DATE:20150121
DTEND;VALUE=DATE:20150122
DTSTAMP:20260421T155718
CREATED:20230904T092131Z
LAST-MODIFIED:20230904T092131Z
UID:17381-1421798400-1421884799@orionis.nl
SUMMARY:Zout theorie avond skûtsje
DESCRIPTION:
URL:https://orionis.nl/event/zout-theorie-avond-skutsje-5/
END:VEVENT
BEGIN:VEVENT
DTSTART;VALUE=DATE:20150120
DTEND;VALUE=DATE:20150121
DTSTAMP:20260421T155718
CREATED:20230904T160921Z
LAST-MODIFIED:20230904T160921Z
UID:18753-1421712000-1421798399@orionis.nl
SUMMARY:Spreekuur
DESCRIPTION:
URL:https://orionis.nl/event/spreekuur-270/
END:VEVENT
BEGIN:VEVENT
DTSTART;VALUE=DATE:20150119
DTEND;VALUE=DATE:20150120
DTSTAMP:20260421T155718
CREATED:20230904T092131Z
LAST-MODIFIED:20230904T092131Z
UID:17382-1421625600-1421711999@orionis.nl
SUMMARY:Boeien-Schuim feest
DESCRIPTION:
URL:https://orionis.nl/event/boeien-schuim-feest-23/
END:VEVENT
BEGIN:VEVENT
DTSTART;VALUE=DATE:20150114
DTEND;VALUE=DATE:20150115
DTSTAMP:20260421T155718
CREATED:20230904T144831Z
LAST-MODIFIED:20230904T144831Z
UID:18378-1421193600-1421279999@orionis.nl
SUMMARY:Borrel
DESCRIPTION:Gezellig borrel op woensdag in de Heilige Zeug. Bekijk onze facebook\, voor eventuele ludieke drankacties of diesen.
URL:https://orionis.nl/event/borrel-1696/
END:VEVENT
BEGIN:VEVENT
DTSTART;VALUE=DATE:20150114
DTEND;VALUE=DATE:20150115
DTSTAMP:20260421T155718
CREATED:20230904T092131Z
LAST-MODIFIED:20230904T092131Z
UID:17383-1421193600-1421279999@orionis.nl
SUMMARY:Almanak uitreiking
DESCRIPTION:
URL:https://orionis.nl/event/almanak-uitreiking-17/
END:VEVENT
BEGIN:VEVENT
DTSTART;VALUE=DATE:20150113
DTEND;VALUE=DATE:20150114
DTSTAMP:20260421T155718
CREATED:20230904T160921Z
LAST-MODIFIED:20230904T160921Z
UID:18752-1421107200-1421193599@orionis.nl
SUMMARY:Spreekuur
DESCRIPTION:
URL:https://orionis.nl/event/spreekuur-269/
END:VEVENT
BEGIN:VEVENT
DTSTART;VALUE=DATE:20150107
DTEND;VALUE=DATE:20150108
DTSTAMP:20260421T155718
CREATED:20230904T144831Z
LAST-MODIFIED:20230904T144831Z
UID:18377-1420588800-1420675199@orionis.nl
SUMMARY:Borrel
DESCRIPTION:Gezellig borrel op woensdag in de Heilige Zeug. Bekijk onze facebook\, voor eventuele ludieke drankacties of diesen.
URL:https://orionis.nl/event/borrel-1695/
END:VEVENT
BEGIN:VEVENT
DTSTART;VALUE=DATE:20150107
DTEND;VALUE=DATE:20150108
DTSTAMP:20260421T155718
CREATED:20230904T092200Z
LAST-MODIFIED:20230904T092214Z
UID:17398-1420588800-1420675199@orionis.nl
SUMMARY:Overdrachtsborrel
DESCRIPTION:
URL:https://orionis.nl/event/overdrachtsborrel-23/
END:VEVENT
BEGIN:VEVENT
DTSTART;VALUE=DATE:20150106
DTEND;VALUE=DATE:20150107
DTSTAMP:20260421T155718
CREATED:20230904T160921Z
LAST-MODIFIED:20230904T160921Z
UID:18751-1420502400-1420588799@orionis.nl
SUMMARY:Spreekuur
DESCRIPTION:
URL:https://orionis.nl/event/spreekuur-268/
END:VEVENT
BEGIN:VEVENT
DTSTART;VALUE=DATE:20150105
DTEND;VALUE=DATE:20150106
DTSTAMP:20260421T155718
CREATED:20230904T092201Z
LAST-MODIFIED:20230904T092214Z
UID:17399-1420416000-1420502399@orionis.nl
SUMMARY:Lustrum Kick Off Nieuwjaarsfeest
DESCRIPTION:
URL:https://orionis.nl/event/lustrum-kick-off-nieuwjaarsfeest-4/
END:VEVENT
BEGIN:VEVENT
DTSTART;VALUE=DATE:20141231
DTEND;VALUE=DATE:20150101
DTSTAMP:20260421T155718
CREATED:20230904T075712Z
LAST-MODIFIED:20230904T075712Z
UID:16705-1419984000-1420070399@orionis.nl
SUMMARY:Borrel
DESCRIPTION:Gezellig borrel op woensdag in de Heilige Zeug. Bekijk onze facebook\, voor eventuele ludieke drankacties of diesen.
URL:https://orionis.nl/event/borrel-1537/
END:VEVENT
BEGIN:VEVENT
DTSTART;VALUE=DATE:20141230
DTEND;VALUE=DATE:20141231
DTSTAMP:20260421T155718
CREATED:20230904T160920Z
LAST-MODIFIED:20230904T160920Z
UID:18750-1419897600-1419983999@orionis.nl
SUMMARY:Spreekuur
DESCRIPTION:
URL:https://orionis.nl/event/spreekuur-267/
END:VEVENT
BEGIN:VEVENT
DTSTART;VALUE=DATE:20141224
DTEND;VALUE=DATE:20141225
DTSTAMP:20260421T155718
CREATED:20230904T075712Z
LAST-MODIFIED:20230904T075712Z
UID:16706-1419379200-1419465599@orionis.nl
SUMMARY:Borrel
DESCRIPTION:Gezellig borrel op woensdag in de Heilige Zeug. Bekijk onze facebook\, voor eventuele ludieke drankacties of diesen.
URL:https://orionis.nl/event/borrel-1538/
END:VEVENT
BEGIN:VEVENT
DTSTART;VALUE=DATE:20141223
DTEND;VALUE=DATE:20141224
DTSTAMP:20260421T155718
CREATED:20230904T160920Z
LAST-MODIFIED:20230904T160920Z
UID:18749-1419292800-1419379199@orionis.nl
SUMMARY:Spreekuur
DESCRIPTION:
URL:https://orionis.nl/event/spreekuur-266/
END:VEVENT
BEGIN:VEVENT
DTSTART;VALUE=DATE:20141217
DTEND;VALUE=DATE:20141218
DTSTAMP:20260421T155718
CREATED:20230904T144817Z
LAST-MODIFIED:20230904T144817Z
UID:18376-1418774400-1418860799@orionis.nl
SUMMARY:Borrel
DESCRIPTION:Gezellig borrel op woensdag in de Heilige Zeug. Bekijk onze facebook\, voor eventuele ludieke drankacties of diesen.
URL:https://orionis.nl/event/borrel-1694/
END:VEVENT
BEGIN:VEVENT
DTSTART;VALUE=DATE:20141217
DTEND;VALUE=DATE:20141218
DTSTAMP:20260421T155718
CREATED:20230904T092208Z
LAST-MODIFIED:20230904T092341Z
UID:17402-1418774400-1418860799@orionis.nl
SUMMARY:Zoeterklaas
DESCRIPTION:
URL:https://orionis.nl/event/zoeterklaas-48/
END:VEVENT
BEGIN:VEVENT
DTSTART;VALUE=DATE:20141216
DTEND;VALUE=DATE:20141217
DTSTAMP:20260421T155718
CREATED:20230904T090935Z
LAST-MODIFIED:20230904T090935Z
UID:17128-1418688000-1418774399@orionis.nl
SUMMARY:Spreekuur
DESCRIPTION:
URL:https://orionis.nl/event/spreekuur-252/
END:VEVENT
BEGIN:VEVENT
DTSTART;VALUE=DATE:20141210
DTEND;VALUE=DATE:20141211
DTSTAMP:20260421T155718
CREATED:20230904T144817Z
LAST-MODIFIED:20230904T144817Z
UID:18375-1418169600-1418255999@orionis.nl
SUMMARY:Borrel
DESCRIPTION:Gezellig borrel op woensdag in de Heilige Zeug. Bekijk onze facebook\, voor eventuele ludieke drankacties of diesen.
URL:https://orionis.nl/event/borrel-1693/
END:VEVENT
BEGIN:VEVENT
DTSTART;VALUE=DATE:20141210
DTEND;VALUE=DATE:20141211
DTSTAMP:20260421T155718
CREATED:20230904T092209Z
LAST-MODIFIED:20230904T092341Z
UID:17403-1418169600-1418255999@orionis.nl
SUMMARY:Oud &amp\, Nieuw diner
DESCRIPTION:
URL:https://orionis.nl/event/oud-amp-nieuw-diner/
END:VEVENT
BEGIN:VEVENT
DTSTART;VALUE=DATE:20141209
DTEND;VALUE=DATE:20141210
DTSTAMP:20260421T155718
CREATED:20230904T160858Z
LAST-MODIFIED:20230904T160858Z
UID:18748-1418083200-1418169599@orionis.nl
SUMMARY:Spreekuur
DESCRIPTION:
URL:https://orionis.nl/event/spreekuur-265/
END:VEVENT
BEGIN:VEVENT
DTSTART;VALUE=DATE:20141209
DTEND;VALUE=DATE:20141210
DTSTAMP:20260421T155718
CREATED:20230904T092209Z
LAST-MODIFIED:20230904T092341Z
UID:17404-1418083200-1418169599@orionis.nl
SUMMARY:December ALV
DESCRIPTION:
URL:https://orionis.nl/event/december-alv-10/
END:VEVENT
BEGIN:VEVENT
DTSTART;VALUE=DATE:20141203
DTEND;VALUE=DATE:20141204
DTSTAMP:20260421T155718
CREATED:20230904T144816Z
LAST-MODIFIED:20230904T144816Z
UID:18374-1417564800-1417651199@orionis.nl
SUMMARY:Borrel
DESCRIPTION:Gezellig borrel op woensdag in de Heilige Zeug. Bekijk onze facebook\, voor eventuele ludieke drankacties of diesen.
URL:https://orionis.nl/event/borrel-1692/
END:VEVENT
BEGIN:VEVENT
DTSTART;VALUE=DATE:20141203
DTEND;VALUE=DATE:20141204
DTSTAMP:20260421T155718
CREATED:20230904T092209Z
LAST-MODIFIED:20230904T092341Z
UID:17405-1417564800-1417651199@orionis.nl
SUMMARY:ALV Gemini
DESCRIPTION:
URL:https://orionis.nl/event/alv-gemini-4/
END:VEVENT
BEGIN:VEVENT
DTSTART;VALUE=DATE:20141202
DTEND;VALUE=DATE:20141203
DTSTAMP:20260421T155718
CREATED:20230904T160858Z
LAST-MODIFIED:20230904T160858Z
UID:18747-1417478400-1417564799@orionis.nl
SUMMARY:Spreekuur
DESCRIPTION:
URL:https://orionis.nl/event/spreekuur-264/
END:VEVENT
BEGIN:VEVENT
DTSTART;VALUE=DATE:20141128
DTEND;VALUE=DATE:20141129
DTSTAMP:20260421T155718
CREATED:20230904T092446Z
LAST-MODIFIED:20230904T092452Z
UID:17418-1417132800-1417219199@orionis.nl
SUMMARY:Gala
DESCRIPTION:
URL:https://orionis.nl/event/gala-15/
END:VEVENT
BEGIN:VEVENT
DTSTART;VALUE=DATE:20141126
DTEND;VALUE=DATE:20141127
DTSTAMP:20260421T155718
CREATED:20230904T144816Z
LAST-MODIFIED:20230904T144816Z
UID:18373-1416960000-1417046399@orionis.nl
SUMMARY:Borrel
DESCRIPTION:Gezellig borrel op woensdag in de Heilige Zeug. Bekijk onze facebook\, voor eventuele ludieke drankacties of diesen.
URL:https://orionis.nl/event/borrel-1691/
END:VEVENT
BEGIN:VEVENT
DTSTART;VALUE=DATE:20141126
DTEND;VALUE=DATE:20141127
DTSTAMP:20260421T155718
CREATED:20230904T092446Z
LAST-MODIFIED:20230904T092452Z
UID:17419-1416960000-1417046399@orionis.nl
SUMMARY:Playbackshow
DESCRIPTION:
URL:https://orionis.nl/event/playbackshow-17/
END:VEVENT
END:VCALENDAR