BEGIN:VCALENDAR
VERSION:2.0
PRODID:-//Orionis - ECPv6.15.16.1//NONSGML v1.0//EN
CALSCALE:GREGORIAN
METHOD:PUBLISH
X-WR-CALNAME:Orionis
X-ORIGINAL-URL:https://orionis.nl
X-WR-CALDESC:Evenementen voor Orionis
REFRESH-INTERVAL;VALUE=DURATION:PT1H
X-Robots-Tag:noindex
X-PUBLISHED-TTL:PT1H
BEGIN:VTIMEZONE
TZID:UTC
BEGIN:STANDARD
TZOFFSETFROM:+0000
TZOFFSETTO:+0000
TZNAME:UTC
DTSTART:20120101T000000
END:STANDARD
END:VTIMEZONE
BEGIN:VEVENT
DTSTART;VALUE=DATE:20130903
DTEND;VALUE=DATE:20130904
DTSTAMP:20260421T140421
CREATED:20230904T161646Z
LAST-MODIFIED:20230904T161646Z
UID:18896-1378166400-1378252799@orionis.nl
SUMMARY:Spreekuur
DESCRIPTION:
URL:https://orionis.nl/event/spreekuur-361/
END:VEVENT
BEGIN:VEVENT
DTSTART;VALUE=DATE:20130830
DTEND;VALUE=DATE:20130831
DTSTAMP:20260421T140421
CREATED:20230904T093252Z
LAST-MODIFIED:20230904T093259Z
UID:17665-1377820800-1377907199@orionis.nl
SUMMARY:Eten op ms risico
DESCRIPTION:
URL:https://orionis.nl/event/eten-op-ms-risico-9/
END:VEVENT
BEGIN:VEVENT
DTSTART;VALUE=DATE:20130829
DTEND;VALUE=DATE:20130830
DTSTAMP:20260421T140421
CREATED:20230904T093256Z
LAST-MODIFIED:20230904T093256Z
UID:17667-1377734400-1377820799@orionis.nl
SUMMARY:Eten op ms risico
DESCRIPTION:
URL:https://orionis.nl/event/eten-op-ms-risico-10/
END:VEVENT
BEGIN:VEVENT
DTSTART;VALUE=DATE:20130829
DTEND;VALUE=DATE:20130830
DTSTAMP:20260421T140421
CREATED:20230904T093253Z
LAST-MODIFIED:20230904T093259Z
UID:17666-1377734400-1377820799@orionis.nl
SUMMARY:Cinema sail
DESCRIPTION:
URL:https://orionis.nl/event/cinema-sail-3/
END:VEVENT
BEGIN:VEVENT
DTSTART;VALUE=DATE:20130828
DTEND;VALUE=DATE:20130829
DTSTAMP:20260421T140421
CREATED:20230904T094228Z
LAST-MODIFIED:20230904T144328Z
UID:18244-1377648000-1377734399@orionis.nl
SUMMARY:Borrel
DESCRIPTION:Gezellig borrel op woensdag in de Heilige Zeug. Bekijk onze facebook\, voor eventuele ludieke drankacties of diesen.
URL:https://orionis.nl/event/borrel-1634/
END:VEVENT
BEGIN:VEVENT
DTSTART;VALUE=DATE:20130828
DTEND;VALUE=DATE:20130829
DTSTAMP:20260421T140421
CREATED:20230904T093420Z
LAST-MODIFIED:20230904T093420Z
UID:17736-1377648000-1377734399@orionis.nl
SUMMARY:Open Borrel
DESCRIPTION:
URL:https://orionis.nl/event/open-borrel-214/
END:VEVENT
BEGIN:VEVENT
DTSTART;VALUE=DATE:20130827
DTEND;VALUE=DATE:20130828
DTSTAMP:20260421T140421
CREATED:20230904T161646Z
LAST-MODIFIED:20230904T161646Z
UID:18895-1377561600-1377647999@orionis.nl
SUMMARY:Spreekuur
DESCRIPTION:
URL:https://orionis.nl/event/spreekuur-360/
END:VEVENT
BEGIN:VEVENT
DTSTART;VALUE=DATE:20130827
DTEND;VALUE=DATE:20130828
DTSTAMP:20260421T140421
CREATED:20230904T093317Z
LAST-MODIFIED:20230904T093326Z
UID:17686-1377561600-1377647999@orionis.nl
SUMMARY:Orionis Introductie feest
DESCRIPTION:
URL:https://orionis.nl/event/orionis-introductie-feest-4/
END:VEVENT
BEGIN:VEVENT
DTSTART;VALUE=DATE:20130827
DTEND;VALUE=DATE:20130828
DTSTAMP:20260421T140421
CREATED:20230904T093256Z
LAST-MODIFIED:20230904T093256Z
UID:17668-1377561600-1377647999@orionis.nl
SUMMARY:Eten op MS risico
DESCRIPTION:
URL:https://orionis.nl/event/eten-op-ms-risico-11/
END:VEVENT
BEGIN:VEVENT
DTSTART;VALUE=DATE:20130826
DTEND;VALUE=DATE:20130831
DTSTAMP:20260421T140421
CREATED:20230904T093444Z
LAST-MODIFIED:20230904T093454Z
UID:17750-1377475200-1377907199@orionis.nl
SUMMARY:INTREE-week
DESCRIPTION:
URL:https://orionis.nl/event/intree-week-24/
END:VEVENT
BEGIN:VEVENT
DTSTART;VALUE=DATE:20130826
DTEND;VALUE=DATE:20130827
DTSTAMP:20260421T140421
CREATED:20230904T093256Z
LAST-MODIFIED:20230904T093256Z
UID:17669-1377475200-1377561599@orionis.nl
SUMMARY:Eten op MS risico
DESCRIPTION:
URL:https://orionis.nl/event/eten-op-ms-risico-12/
END:VEVENT
BEGIN:VEVENT
DTSTART;VALUE=DATE:20130825
DTEND;VALUE=DATE:20130826
DTSTAMP:20260421T140421
CREATED:20230904T093256Z
LAST-MODIFIED:20230904T093256Z
UID:17670-1377388800-1377475199@orionis.nl
SUMMARY:Robbencompetitie op ms risico
DESCRIPTION:
URL:https://orionis.nl/event/robbencompetitie-op-ms-risico-3/
END:VEVENT
BEGIN:VEVENT
DTSTART;VALUE=DATE:20130821
DTEND;VALUE=DATE:20130822
DTSTAMP:20260421T140421
CREATED:20230904T094228Z
LAST-MODIFIED:20230904T144328Z
UID:18243-1377043200-1377129599@orionis.nl
SUMMARY:Borrel
DESCRIPTION:Gezellig borrel op woensdag in de Heilige Zeug. Bekijk onze facebook\, voor eventuele ludieke drankacties of diesen.
URL:https://orionis.nl/event/borrel-1633/
END:VEVENT
BEGIN:VEVENT
DTSTART;VALUE=DATE:20130821
DTEND;VALUE=DATE:20130822
DTSTAMP:20260421T140421
CREATED:20230904T093430Z
LAST-MODIFIED:20230904T093430Z
UID:17737-1377043200-1377129599@orionis.nl
SUMMARY:Open Borrel
DESCRIPTION:
URL:https://orionis.nl/event/open-borrel-215/
END:VEVENT
BEGIN:VEVENT
DTSTART;VALUE=DATE:20130821
DTEND;VALUE=DATE:20130822
DTSTAMP:20260421T140421
CREATED:20230904T093316Z
LAST-MODIFIED:20230904T093326Z
UID:17684-1377043200-1377129599@orionis.nl
SUMMARY:ALV Barco Stichting
DESCRIPTION:
URL:https://orionis.nl/event/alv-barco-stichting-4/
END:VEVENT
BEGIN:VEVENT
DTSTART;VALUE=DATE:20130820
DTEND;VALUE=DATE:20130821
DTSTAMP:20260421T140421
CREATED:20230904T161645Z
LAST-MODIFIED:20230904T161645Z
UID:18894-1376956800-1377043199@orionis.nl
SUMMARY:Spreekuur
DESCRIPTION:
URL:https://orionis.nl/event/spreekuur-359/
END:VEVENT
BEGIN:VEVENT
DTSTART;VALUE=DATE:20130819
DTEND;VALUE=DATE:20130823
DTSTAMP:20260421T140421
CREATED:20230904T093445Z
LAST-MODIFIED:20230904T093454Z
UID:17751-1376870400-1377215999@orionis.nl
SUMMARY:IDEE-week
DESCRIPTION:
URL:https://orionis.nl/event/idee-week-22/
END:VEVENT
BEGIN:VEVENT
DTSTART;VALUE=DATE:20130814
DTEND;VALUE=DATE:20130815
DTSTAMP:20260421T140421
CREATED:20230904T094227Z
LAST-MODIFIED:20230904T144328Z
UID:18242-1376438400-1376524799@orionis.nl
SUMMARY:Borrel
DESCRIPTION:Gezellig borrel op woensdag in de Heilige Zeug. Bekijk onze facebook\, voor eventuele ludieke drankacties of diesen.
URL:https://orionis.nl/event/borrel-1632/
END:VEVENT
BEGIN:VEVENT
DTSTART;VALUE=DATE:20130814
DTEND;VALUE=DATE:20130815
DTSTAMP:20260421T140421
CREATED:20230904T093430Z
LAST-MODIFIED:20230904T093430Z
UID:17738-1376438400-1376524799@orionis.nl
SUMMARY:Eerste Borrel
DESCRIPTION:
URL:https://orionis.nl/event/eerste-borrel-4/
END:VEVENT
BEGIN:VEVENT
DTSTART;VALUE=DATE:20130813
DTEND;VALUE=DATE:20130814
DTSTAMP:20260421T140421
CREATED:20230904T093430Z
LAST-MODIFIED:20230904T093430Z
UID:17739-1376352000-1376438399@orionis.nl
SUMMARY:Spreekuur
DESCRIPTION:
URL:https://orionis.nl/event/spreekuur-259/
END:VEVENT
BEGIN:VEVENT
DTSTART;VALUE=DATE:20130807
DTEND;VALUE=DATE:20130808
DTSTAMP:20260421T140421
CREATED:20230904T075733Z
LAST-MODIFIED:20230904T075742Z
UID:16720-1375833600-1375919999@orionis.nl
SUMMARY:Borrel
DESCRIPTION:Gezellig borrel op woensdag in de Heilige Zeug. Bekijk onze facebook\, voor eventuele ludieke drankacties of diesen.
URL:https://orionis.nl/event/borrel-1547/
END:VEVENT
BEGIN:VEVENT
DTSTART;VALUE=DATE:20130731
DTEND;VALUE=DATE:20130801
DTSTAMP:20260421T140421
CREATED:20230904T075734Z
LAST-MODIFIED:20230904T075742Z
UID:16721-1375228800-1375315199@orionis.nl
SUMMARY:Borrel
DESCRIPTION:Gezellig borrel op woensdag in de Heilige Zeug. Bekijk onze facebook\, voor eventuele ludieke drankacties of diesen.
URL:https://orionis.nl/event/borrel-1548/
END:VEVENT
BEGIN:VEVENT
DTSTART;VALUE=DATE:20130724
DTEND;VALUE=DATE:20130725
DTSTAMP:20260421T140421
CREATED:20230904T075734Z
LAST-MODIFIED:20230904T075743Z
UID:16722-1374624000-1374710399@orionis.nl
SUMMARY:Borrel
DESCRIPTION:Gezellig borrel op woensdag in de Heilige Zeug. Bekijk onze facebook\, voor eventuele ludieke drankacties of diesen.
URL:https://orionis.nl/event/borrel-1549/
END:VEVENT
BEGIN:VEVENT
DTSTART;VALUE=DATE:20130717
DTEND;VALUE=DATE:20130718
DTSTAMP:20260421T140421
CREATED:20230904T075735Z
LAST-MODIFIED:20230904T075743Z
UID:16723-1374019200-1374105599@orionis.nl
SUMMARY:Borrel
DESCRIPTION:Gezellig borrel op woensdag in de Heilige Zeug. Bekijk onze facebook\, voor eventuele ludieke drankacties of diesen.
URL:https://orionis.nl/event/borrel-1550/
END:VEVENT
BEGIN:VEVENT
DTSTART;VALUE=DATE:20130715
DTEND;VALUE=DATE:20130720
DTSTAMP:20260421T140421
CREATED:20230904T093334Z
LAST-MODIFIED:20230904T093355Z
UID:17699-1373846400-1374278399@orionis.nl
SUMMARY:Waddenweek
DESCRIPTION:
URL:https://orionis.nl/event/waddenweek-30/
END:VEVENT
BEGIN:VEVENT
DTSTART;VALUE=DATE:20130710
DTEND;VALUE=DATE:20130711
DTSTAMP:20260421T140421
CREATED:20230904T075752Z
LAST-MODIFIED:20230904T075755Z
UID:16729-1373414400-1373500799@orionis.nl
SUMMARY:Borrel
DESCRIPTION:Gezellig borrel op woensdag in de Heilige Zeug. Bekijk onze facebook\, voor eventuele ludieke drankacties of diesen.
URL:https://orionis.nl/event/borrel-1551/
END:VEVENT
BEGIN:VEVENT
DTSTART;VALUE=DATE:20130708
DTEND;VALUE=DATE:20130713
DTSTAMP:20260421T140421
CREATED:20230904T093334Z
LAST-MODIFIED:20230904T093355Z
UID:17697-1373241600-1373673599@orionis.nl
SUMMARY:WOS
DESCRIPTION:
URL:https://orionis.nl/event/wos-9/
END:VEVENT
BEGIN:VEVENT
DTSTART;VALUE=DATE:20130703
DTEND;VALUE=DATE:20130704
DTSTAMP:20260421T140421
CREATED:20230904T075752Z
LAST-MODIFIED:20230904T075755Z
UID:16730-1372809600-1372895999@orionis.nl
SUMMARY:Borrel
DESCRIPTION:Gezellig borrel op woensdag in de Heilige Zeug. Bekijk onze facebook\, voor eventuele ludieke drankacties of diesen.
URL:https://orionis.nl/event/borrel-1552/
END:VEVENT
BEGIN:VEVENT
DTSTART;VALUE=DATE:20130626
DTEND;VALUE=DATE:20130627
DTSTAMP:20260421T140421
CREATED:20230904T094227Z
LAST-MODIFIED:20230904T144328Z
UID:18241-1372204800-1372291199@orionis.nl
SUMMARY:Borrel
DESCRIPTION:Gezellig borrel op woensdag in de Heilige Zeug. Bekijk onze facebook\, voor eventuele ludieke drankacties of diesen.
URL:https://orionis.nl/event/borrel-1631/
END:VEVENT
BEGIN:VEVENT
DTSTART;VALUE=DATE:20130626
DTEND;VALUE=DATE:20130627
DTSTAMP:20260421T140421
CREATED:20230904T093431Z
LAST-MODIFIED:20230904T093431Z
UID:17740-1372204800-1372291199@orionis.nl
SUMMARY:Laatste Borrel
DESCRIPTION:
URL:https://orionis.nl/event/laatste-borrel-4/
END:VEVENT
END:VCALENDAR