BEGIN:VCALENDAR
VERSION:2.0
PRODID:-//Orionis - ECPv6.15.16.1//NONSGML v1.0//EN
CALSCALE:GREGORIAN
METHOD:PUBLISH
X-WR-CALNAME:Orionis
X-ORIGINAL-URL:https://orionis.nl
X-WR-CALDESC:Evenementen voor Orionis
REFRESH-INTERVAL;VALUE=DURATION:PT1H
X-Robots-Tag:noindex
X-PUBLISHED-TTL:PT1H
BEGIN:VTIMEZONE
TZID:UTC
BEGIN:STANDARD
TZOFFSETFROM:+0000
TZOFFSETTO:+0000
TZNAME:UTC
DTSTART:20130101T000000
END:STANDARD
END:VTIMEZONE
BEGIN:VEVENT
DTSTART;VALUE=DATE:20141029
DTEND;VALUE=DATE:20141030
DTSTAMP:20260421T104604
CREATED:20230904T144801Z
LAST-MODIFIED:20230904T144801Z
UID:18369-1414540800-1414627199@orionis.nl
SUMMARY:Borrel
DESCRIPTION:Gezellig borrel op woensdag in de Heilige Zeug. Bekijk onze facebook\, voor eventuele ludieke drankacties of diesen.
URL:https://orionis.nl/event/borrel-1687/
END:VEVENT
BEGIN:VEVENT
DTSTART;VALUE=DATE:20141029
DTEND;VALUE=DATE:20141030
DTSTAMP:20260421T104604
CREATED:20230904T092637Z
LAST-MODIFIED:20230904T092650Z
UID:17449-1414540800-1414627199@orionis.nl
SUMMARY:Sail In
DESCRIPTION:
URL:https://orionis.nl/event/sail-in-430/
END:VEVENT
BEGIN:VEVENT
DTSTART;VALUE=DATE:20141028
DTEND;VALUE=DATE:20141029
DTSTAMP:20260421T104604
CREATED:20230904T160838Z
LAST-MODIFIED:20230904T160838Z
UID:18742-1414454400-1414540799@orionis.nl
SUMMARY:Spreekuur
DESCRIPTION:
URL:https://orionis.nl/event/spreekuur-249/
END:VEVENT
BEGIN:VEVENT
DTSTART;VALUE=DATE:20141028
DTEND;VALUE=DATE:20141029
DTSTAMP:20260421T104604
CREATED:20230904T092637Z
LAST-MODIFIED:20230904T092650Z
UID:17450-1414454400-1414540799@orionis.nl
SUMMARY:Sail In
DESCRIPTION:
URL:https://orionis.nl/event/sail-in-431/
END:VEVENT
BEGIN:VEVENT
DTSTART;VALUE=DATE:20141027
DTEND;VALUE=DATE:20141028
DTSTAMP:20260421T104604
CREATED:20230904T092608Z
LAST-MODIFIED:20230904T092608Z
UID:17443-1414368000-1414454399@orionis.nl
SUMMARY:Oktoberfest Sirene
DESCRIPTION:
URL:https://orionis.nl/event/oktoberfest-sirene-4/
END:VEVENT
BEGIN:VEVENT
DTSTART;VALUE=DATE:20141024
DTEND;VALUE=DATE:20141027
DTSTAMP:20260421T104604
CREATED:20230904T092716Z
LAST-MODIFIED:20230904T092716Z
UID:17472-1414108800-1414367999@orionis.nl
SUMMARY:NSW
DESCRIPTION:
URL:https://orionis.nl/event/nsw-43/
END:VEVENT
BEGIN:VEVENT
DTSTART;VALUE=DATE:20141022
DTEND;VALUE=DATE:20141023
DTSTAMP:20260421T104604
CREATED:20230904T144801Z
LAST-MODIFIED:20230904T144801Z
UID:18368-1413936000-1414022399@orionis.nl
SUMMARY:Borrel
DESCRIPTION:Gezellig borrel op woensdag in de Heilige Zeug. Bekijk onze facebook\, voor eventuele ludieke drankacties of diesen.
URL:https://orionis.nl/event/borrel-1686/
END:VEVENT
BEGIN:VEVENT
DTSTART;VALUE=DATE:20141021
DTEND;VALUE=DATE:20141022
DTSTAMP:20260421T104604
CREATED:20230904T160838Z
LAST-MODIFIED:20230904T160838Z
UID:18741-1413849600-1413935999@orionis.nl
SUMMARY:Spreekuur
DESCRIPTION:
URL:https://orionis.nl/event/spreekuur-248/
END:VEVENT
BEGIN:VEVENT
DTSTART;VALUE=DATE:20141016
DTEND;VALUE=DATE:20141017
DTSTAMP:20260421T104604
CREATED:20230904T092637Z
LAST-MODIFIED:20230904T092650Z
UID:17451-1413417600-1413503999@orionis.nl
SUMMARY:Sail In
DESCRIPTION:
URL:https://orionis.nl/event/sail-in-432/
END:VEVENT
BEGIN:VEVENT
DTSTART;VALUE=DATE:20141015
DTEND;VALUE=DATE:20141016
DTSTAMP:20260421T104604
CREATED:20230904T144800Z
LAST-MODIFIED:20230904T144800Z
UID:18367-1413331200-1413417599@orionis.nl
SUMMARY:Borrel
DESCRIPTION:Gezellig borrel op woensdag in de Heilige Zeug. Bekijk onze facebook\, voor eventuele ludieke drankacties of diesen.
URL:https://orionis.nl/event/borrel-1685/
END:VEVENT
BEGIN:VEVENT
DTSTART;VALUE=DATE:20141015
DTEND;VALUE=DATE:20141016
DTSTAMP:20260421T104604
CREATED:20230904T092745Z
LAST-MODIFIED:20230904T092745Z
UID:17476-1413331200-1413417599@orionis.nl
SUMMARY:JC oprichtingseten
DESCRIPTION:
URL:https://orionis.nl/event/jc-oprichtingseten-19/
END:VEVENT
BEGIN:VEVENT
DTSTART;VALUE=DATE:20141015
DTEND;VALUE=DATE:20141016
DTSTAMP:20260421T104604
CREATED:20230904T092637Z
LAST-MODIFIED:20230904T092650Z
UID:17452-1413331200-1413417599@orionis.nl
SUMMARY:Sail In
DESCRIPTION:
URL:https://orionis.nl/event/sail-in-433/
END:VEVENT
BEGIN:VEVENT
DTSTART;VALUE=DATE:20141014
DTEND;VALUE=DATE:20141015
DTSTAMP:20260421T104604
CREATED:20230904T160838Z
LAST-MODIFIED:20230904T160838Z
UID:18740-1413244800-1413331199@orionis.nl
SUMMARY:Spreekuur
DESCRIPTION:
URL:https://orionis.nl/event/spreekuur-247/
END:VEVENT
BEGIN:VEVENT
DTSTART;VALUE=DATE:20141014
DTEND;VALUE=DATE:20141015
DTSTAMP:20260421T104604
CREATED:20230904T092640Z
LAST-MODIFIED:20230904T092707Z
UID:17458-1413244800-1413331199@orionis.nl
SUMMARY:Sail In
DESCRIPTION:
URL:https://orionis.nl/event/sail-in-434/
END:VEVENT
BEGIN:VEVENT
DTSTART;VALUE=DATE:20141013
DTEND;VALUE=DATE:20141014
DTSTAMP:20260421T104604
CREATED:20230904T092745Z
LAST-MODIFIED:20230904T092745Z
UID:17477-1413158400-1413244799@orionis.nl
SUMMARY:JC borrel
DESCRIPTION:
URL:https://orionis.nl/event/jc-borrel-8/
END:VEVENT
BEGIN:VEVENT
DTSTART;VALUE=DATE:20141010
DTEND;VALUE=DATE:20141013
DTSTAMP:20260421T104604
CREATED:20230904T092716Z
LAST-MODIFIED:20230904T092716Z
UID:17471-1412899200-1413158399@orionis.nl
SUMMARY:Instrukcieweekend
DESCRIPTION:
URL:https://orionis.nl/event/instrukcieweekend-34/
END:VEVENT
BEGIN:VEVENT
DTSTART;VALUE=DATE:20141009
DTEND;VALUE=DATE:20141010
DTSTAMP:20260421T104604
CREATED:20230904T092716Z
LAST-MODIFIED:20230904T092716Z
UID:17470-1412812800-1412899199@orionis.nl
SUMMARY:Cocktailfeest
DESCRIPTION:
URL:https://orionis.nl/event/cocktailfeest-18/
END:VEVENT
BEGIN:VEVENT
DTSTART;VALUE=DATE:20141009
DTEND;VALUE=DATE:20141010
DTSTAMP:20260421T104604
CREATED:20230904T092640Z
LAST-MODIFIED:20230904T092707Z
UID:17459-1412812800-1412899199@orionis.nl
SUMMARY:Sail In
DESCRIPTION:
URL:https://orionis.nl/event/sail-in-435/
END:VEVENT
BEGIN:VEVENT
DTSTART;VALUE=DATE:20141008
DTEND;VALUE=DATE:20141009
DTSTAMP:20260421T104604
CREATED:20230904T144735Z
LAST-MODIFIED:20230904T144735Z
UID:18366-1412726400-1412812799@orionis.nl
SUMMARY:Borrel
DESCRIPTION:Gezellig borrel op woensdag in de Heilige Zeug. Bekijk onze facebook\, voor eventuele ludieke drankacties of diesen.
URL:https://orionis.nl/event/borrel-1684/
END:VEVENT
BEGIN:VEVENT
DTSTART;VALUE=DATE:20141008
DTEND;VALUE=DATE:20141009
DTSTAMP:20260421T104604
CREATED:20230904T092640Z
LAST-MODIFIED:20230904T092707Z
UID:17460-1412726400-1412812799@orionis.nl
SUMMARY:Sail In
DESCRIPTION:
URL:https://orionis.nl/event/sail-in-436/
END:VEVENT
BEGIN:VEVENT
DTSTART;VALUE=DATE:20141007
DTEND;VALUE=DATE:20141008
DTSTAMP:20260421T104604
CREATED:20230904T160837Z
LAST-MODIFIED:20230904T160837Z
UID:18739-1412640000-1412726399@orionis.nl
SUMMARY:Spreekuur
DESCRIPTION:
URL:https://orionis.nl/event/spreekuur-246/
END:VEVENT
BEGIN:VEVENT
DTSTART;VALUE=DATE:20141007
DTEND;VALUE=DATE:20141008
DTSTAMP:20260421T104604
CREATED:20230904T092641Z
LAST-MODIFIED:20230904T092707Z
UID:17461-1412640000-1412726399@orionis.nl
SUMMARY:Sail In
DESCRIPTION:
URL:https://orionis.nl/event/sail-in-437/
END:VEVENT
BEGIN:VEVENT
DTSTART;VALUE=DATE:20141006
DTEND;VALUE=DATE:20141007
DTSTAMP:20260421T104604
CREATED:20230904T092812Z
LAST-MODIFIED:20230904T092812Z
UID:17478-1412553600-1412639999@orionis.nl
SUMMARY:JC borrel
DESCRIPTION:
URL:https://orionis.nl/event/jc-borrel-9/
END:VEVENT
BEGIN:VEVENT
DTSTART;VALUE=DATE:20141002
DTEND;VALUE=DATE:20141003
DTSTAMP:20260421T104604
CREATED:20230904T092812Z
LAST-MODIFIED:20230904T092812Z
UID:17479-1412208000-1412294399@orionis.nl
SUMMARY:Speeddaten
DESCRIPTION:
URL:https://orionis.nl/event/speeddaten-7/
END:VEVENT
BEGIN:VEVENT
DTSTART;VALUE=DATE:20141002
DTEND;VALUE=DATE:20141003
DTSTAMP:20260421T104604
CREATED:20230904T092641Z
LAST-MODIFIED:20230904T092707Z
UID:17462-1412208000-1412294399@orionis.nl
SUMMARY:Sail In
DESCRIPTION:
URL:https://orionis.nl/event/sail-in-438/
END:VEVENT
BEGIN:VEVENT
DTSTART;VALUE=DATE:20141001
DTEND;VALUE=DATE:20141002
DTSTAMP:20260421T104604
CREATED:20230904T144734Z
LAST-MODIFIED:20230904T144734Z
UID:18365-1412121600-1412207999@orionis.nl
SUMMARY:Borrel
DESCRIPTION:Gezellig borrel op woensdag in de Heilige Zeug. Bekijk onze facebook\, voor eventuele ludieke drankacties of diesen.
URL:https://orionis.nl/event/borrel-1683/
END:VEVENT
BEGIN:VEVENT
DTSTART;VALUE=DATE:20141001
DTEND;VALUE=DATE:20141002
DTSTAMP:20260421T104604
CREATED:20230904T092716Z
LAST-MODIFIED:20230904T092716Z
UID:17468-1412121600-1412207999@orionis.nl
SUMMARY:Sail In
DESCRIPTION:
URL:https://orionis.nl/event/sail-in-439/
END:VEVENT
BEGIN:VEVENT
DTSTART;VALUE=DATE:20140930
DTEND;VALUE=DATE:20141001
DTSTAMP:20260421T104604
CREATED:20230904T160805Z
LAST-MODIFIED:20230904T160805Z
UID:18738-1412035200-1412121599@orionis.nl
SUMMARY:Spreekuur
DESCRIPTION:
URL:https://orionis.nl/event/spreekuur-245/
END:VEVENT
BEGIN:VEVENT
DTSTART;VALUE=DATE:20140930
DTEND;VALUE=DATE:20141001
DTSTAMP:20260421T104604
CREATED:20230904T092716Z
LAST-MODIFIED:20230904T092716Z
UID:17469-1412035200-1412121599@orionis.nl
SUMMARY:Sail In
DESCRIPTION:
URL:https://orionis.nl/event/sail-in-440/
END:VEVENT
BEGIN:VEVENT
DTSTART;VALUE=DATE:20140926
DTEND;VALUE=DATE:20140929
DTSTAMP:20260421T104604
CREATED:20230904T093220Z
LAST-MODIFIED:20230904T093230Z
UID:17638-1411689600-1411948799@orionis.nl
SUMMARY:Monsterweekend
DESCRIPTION:
URL:https://orionis.nl/event/monsterweekend-35/
END:VEVENT
END:VCALENDAR