BEGIN:VCALENDAR
VERSION:2.0
PRODID:-//Orionis - ECPv6.15.16.1//NONSGML v1.0//EN
CALSCALE:GREGORIAN
METHOD:PUBLISH
X-WR-CALNAME:Orionis
X-ORIGINAL-URL:https://orionis.nl
X-WR-CALDESC:Evenementen voor Orionis
REFRESH-INTERVAL;VALUE=DURATION:PT1H
X-Robots-Tag:noindex
X-PUBLISHED-TTL:PT1H
BEGIN:VTIMEZONE
TZID:UTC
BEGIN:STANDARD
TZOFFSETFROM:+0000
TZOFFSETTO:+0000
TZNAME:UTC
DTSTART:20120101T000000
END:STANDARD
END:VTIMEZONE
BEGIN:VEVENT
DTSTART;VALUE=DATE:20131016
DTEND;VALUE=DATE:20131017
DTSTAMP:20260422T012748
CREATED:20230904T093235Z
LAST-MODIFIED:20230904T093235Z
UID:17651-1381881600-1381967999@orionis.nl
SUMMARY:Sail in
DESCRIPTION:
URL:https://orionis.nl/event/sail-in-453/
END:VEVENT
BEGIN:VEVENT
DTSTART;VALUE=DATE:20131015
DTEND;VALUE=DATE:20131016
DTSTAMP:20260422T012748
CREATED:20230904T161701Z
LAST-MODIFIED:20230904T161701Z
UID:18902-1381795200-1381881599@orionis.nl
SUMMARY:Spreekuur
DESCRIPTION:
URL:https://orionis.nl/event/spreekuur-367/
END:VEVENT
BEGIN:VEVENT
DTSTART;VALUE=DATE:20131015
DTEND;VALUE=DATE:20131016
DTSTAMP:20260422T012748
CREATED:20230904T093238Z
LAST-MODIFIED:20230904T093238Z
UID:17652-1381795200-1381881599@orionis.nl
SUMMARY:Sail in
DESCRIPTION:
URL:https://orionis.nl/event/sail-in-454/
END:VEVENT
BEGIN:VEVENT
DTSTART;VALUE=DATE:20131014
DTEND;VALUE=DATE:20131015
DTSTAMP:20260422T012748
CREATED:20230904T093252Z
LAST-MODIFIED:20230904T093259Z
UID:17662-1381708800-1381795199@orionis.nl
SUMMARY:Sirene Oktoberfest
DESCRIPTION:
URL:https://orionis.nl/event/sirene-oktoberfest-16/
END:VEVENT
BEGIN:VEVENT
DTSTART;VALUE=DATE:20131011
DTEND;VALUE=DATE:20131014
DTSTAMP:20260422T012748
CREATED:20230904T093523Z
LAST-MODIFIED:20230904T093530Z
UID:17785-1381449600-1381708799@orionis.nl
SUMMARY:BOS
DESCRIPTION:
URL:https://orionis.nl/event/bos-6/
END:VEVENT
BEGIN:VEVENT
DTSTART;VALUE=DATE:20131010
DTEND;VALUE=DATE:20131011
DTSTAMP:20260422T012748
CREATED:20230904T093238Z
LAST-MODIFIED:20230904T093238Z
UID:17653-1381363200-1381449599@orionis.nl
SUMMARY:Sail in
DESCRIPTION:
URL:https://orionis.nl/event/sail-in-455/
END:VEVENT
BEGIN:VEVENT
DTSTART;VALUE=DATE:20131009
DTEND;VALUE=DATE:20131010
DTSTAMP:20260422T012748
CREATED:20230904T094231Z
LAST-MODIFIED:20230904T144532Z
UID:18250-1381276800-1381363199@orionis.nl
SUMMARY:Borrel
DESCRIPTION:Gezellig borrel op woensdag in de Heilige Zeug. Bekijk onze facebook\, voor eventuele ludieke drankacties of diesen.
URL:https://orionis.nl/event/borrel-1640/
END:VEVENT
BEGIN:VEVENT
DTSTART;VALUE=DATE:20131009
DTEND;VALUE=DATE:20131010
DTSTAMP:20260422T012748
CREATED:20230904T093238Z
LAST-MODIFIED:20230904T093238Z
UID:17654-1381276800-1381363199@orionis.nl
SUMMARY:Sail in
DESCRIPTION:
URL:https://orionis.nl/event/sail-in-456/
END:VEVENT
BEGIN:VEVENT
DTSTART;VALUE=DATE:20131008
DTEND;VALUE=DATE:20131009
DTSTAMP:20260422T012748
CREATED:20230904T161701Z
LAST-MODIFIED:20230904T161701Z
UID:18901-1381190400-1381276799@orionis.nl
SUMMARY:Spreekuur
DESCRIPTION:
URL:https://orionis.nl/event/spreekuur-366/
END:VEVENT
BEGIN:VEVENT
DTSTART;VALUE=DATE:20131008
DTEND;VALUE=DATE:20131009
DTSTAMP:20260422T012748
CREATED:20230904T093239Z
LAST-MODIFIED:20230904T093239Z
UID:17655-1381190400-1381276799@orionis.nl
SUMMARY:Sail in
DESCRIPTION:
URL:https://orionis.nl/event/sail-in-457/
END:VEVENT
BEGIN:VEVENT
DTSTART;VALUE=DATE:20131007
DTEND;VALUE=DATE:20131008
DTSTAMP:20260422T012748
CREATED:20230904T093316Z
LAST-MODIFIED:20230904T093326Z
UID:17682-1381104000-1381190399@orionis.nl
SUMMARY:Genua Oprichtingsfeest
DESCRIPTION:
URL:https://orionis.nl/event/genua-oprichtingsfeest-4/
END:VEVENT
BEGIN:VEVENT
DTSTART;VALUE=DATE:20131007
DTEND;VALUE=DATE:20131008
DTSTAMP:20260422T012748
CREATED:20230904T093244Z
LAST-MODIFIED:20230904T093244Z
UID:17661-1381104000-1381190399@orionis.nl
SUMMARY:JC oprichtingsborrel
DESCRIPTION:
URL:https://orionis.nl/event/jc-oprichtingsborrel-3/
END:VEVENT
BEGIN:VEVENT
DTSTART;VALUE=DATE:20131003
DTEND;VALUE=DATE:20131004
DTSTAMP:20260422T012748
CREATED:20230904T093244Z
LAST-MODIFIED:20230904T093244Z
UID:17660-1380758400-1380844799@orionis.nl
SUMMARY:Speeddaten
DESCRIPTION:
URL:https://orionis.nl/event/speeddaten-8/
END:VEVENT
BEGIN:VEVENT
DTSTART;VALUE=DATE:20131003
DTEND;VALUE=DATE:20131004
DTSTAMP:20260422T012748
CREATED:20230904T093239Z
LAST-MODIFIED:20230904T093239Z
UID:17656-1380758400-1380844799@orionis.nl
SUMMARY:Sail in
DESCRIPTION:
URL:https://orionis.nl/event/sail-in-458/
END:VEVENT
BEGIN:VEVENT
DTSTART;VALUE=DATE:20131002
DTEND;VALUE=DATE:20131003
DTSTAMP:20260422T012748
CREATED:20230904T094231Z
LAST-MODIFIED:20230904T144529Z
UID:18249-1380672000-1380758399@orionis.nl
SUMMARY:Borrel
DESCRIPTION:Gezellig borrel op woensdag in de Heilige Zeug. Bekijk onze facebook\, voor eventuele ludieke drankacties of diesen.
URL:https://orionis.nl/event/borrel-1639/
END:VEVENT
BEGIN:VEVENT
DTSTART;VALUE=DATE:20131002
DTEND;VALUE=DATE:20131003
DTSTAMP:20260422T012748
CREATED:20230904T093243Z
LAST-MODIFIED:20230904T093243Z
UID:17657-1380672000-1380758399@orionis.nl
SUMMARY:Sail in
DESCRIPTION:
URL:https://orionis.nl/event/sail-in-459/
END:VEVENT
BEGIN:VEVENT
DTSTART;VALUE=DATE:20131001
DTEND;VALUE=DATE:20131002
DTSTAMP:20260422T012748
CREATED:20230904T161701Z
LAST-MODIFIED:20230904T161701Z
UID:18900-1380585600-1380671999@orionis.nl
SUMMARY:Spreekuur
DESCRIPTION:
URL:https://orionis.nl/event/spreekuur-365/
END:VEVENT
BEGIN:VEVENT
DTSTART;VALUE=DATE:20131001
DTEND;VALUE=DATE:20131002
DTSTAMP:20260422T012748
CREATED:20230904T093243Z
LAST-MODIFIED:20230904T093243Z
UID:17658-1380585600-1380671999@orionis.nl
SUMMARY:Sail in
DESCRIPTION:
URL:https://orionis.nl/event/sail-in-460/
END:VEVENT
BEGIN:VEVENT
DTSTART;VALUE=DATE:20130927
DTEND;VALUE=DATE:20130930
DTSTAMP:20260422T012748
CREATED:20230904T093547Z
LAST-MODIFIED:20230904T093614Z
UID:17801-1380240000-1380499199@orionis.nl
SUMMARY:Monsterweekend
DESCRIPTION:
URL:https://orionis.nl/event/monsterweekend-36/
END:VEVENT
BEGIN:VEVENT
DTSTART;VALUE=DATE:20130925
DTEND;VALUE=DATE:20130926
DTSTAMP:20260422T012748
CREATED:20230904T094231Z
LAST-MODIFIED:20230904T144529Z
UID:18248-1380067200-1380153599@orionis.nl
SUMMARY:Borrel
DESCRIPTION:Gezellig borrel op woensdag in de Heilige Zeug. Bekijk onze facebook\, voor eventuele ludieke drankacties of diesen.
URL:https://orionis.nl/event/borrel-1638/
END:VEVENT
BEGIN:VEVENT
DTSTART;VALUE=DATE:20130924
DTEND;VALUE=DATE:20130925
DTSTAMP:20260422T012748
CREATED:20230904T161700Z
LAST-MODIFIED:20230904T161700Z
UID:18899-1379980800-1380067199@orionis.nl
SUMMARY:Spreekuur
DESCRIPTION:
URL:https://orionis.nl/event/spreekuur-364/
END:VEVENT
BEGIN:VEVENT
DTSTART;VALUE=DATE:20130923
DTEND;VALUE=DATE:20130924
DTSTAMP:20260422T012748
CREATED:20230904T093257Z
LAST-MODIFIED:20230904T093257Z
UID:17671-1379894400-1379980799@orionis.nl
SUMMARY:Crazy'88
DESCRIPTION:
URL:https://orionis.nl/event/crazy88-3/
END:VEVENT
BEGIN:VEVENT
DTSTART;VALUE=DATE:20130920
DTEND;VALUE=DATE:20130921
DTSTAMP:20260422T012748
CREATED:20230904T093311Z
LAST-MODIFIED:20230904T093311Z
UID:17679-1379635200-1379721599@orionis.nl
SUMMARY:Pubquiz (moco)
DESCRIPTION:
URL:https://orionis.nl/event/pubquiz-moco-3/
END:VEVENT
BEGIN:VEVENT
DTSTART;VALUE=DATE:20130918
DTEND;VALUE=DATE:20130919
DTSTAMP:20260422T012748
CREATED:20230904T094230Z
LAST-MODIFIED:20230904T144529Z
UID:18247-1379462400-1379548799@orionis.nl
SUMMARY:Borrel
DESCRIPTION:Gezellig borrel op woensdag in de Heilige Zeug. Bekijk onze facebook\, voor eventuele ludieke drankacties of diesen.
URL:https://orionis.nl/event/borrel-1637/
END:VEVENT
BEGIN:VEVENT
DTSTART;VALUE=DATE:20130918
DTEND;VALUE=DATE:20130919
DTSTAMP:20260422T012748
CREATED:20230904T093311Z
LAST-MODIFIED:20230904T093311Z
UID:17678-1379462400-1379548799@orionis.nl
SUMMARY:Sloterpleasure
DESCRIPTION:
URL:https://orionis.nl/event/sloterpleasure-30/
END:VEVENT
BEGIN:VEVENT
DTSTART;VALUE=DATE:20130917
DTEND;VALUE=DATE:20130918
DTSTAMP:20260422T012748
CREATED:20230904T161646Z
LAST-MODIFIED:20230904T161646Z
UID:18898-1379376000-1379462399@orionis.nl
SUMMARY:Spreekuur
DESCRIPTION:
URL:https://orionis.nl/event/spreekuur-363/
END:VEVENT
BEGIN:VEVENT
DTSTART;VALUE=DATE:20130916
DTEND;VALUE=DATE:20130917
DTSTAMP:20260422T012748
CREATED:20230904T093310Z
LAST-MODIFIED:20230904T093310Z
UID:17677-1379289600-1379375999@orionis.nl
SUMMARY:Commissie kroegentocht
DESCRIPTION:
URL:https://orionis.nl/event/commissie-kroegentocht-9/
END:VEVENT
BEGIN:VEVENT
DTSTART;VALUE=DATE:20130911
DTEND;VALUE=DATE:20130912
DTSTAMP:20260422T012748
CREATED:20230904T094230Z
LAST-MODIFIED:20230904T144529Z
UID:18246-1378857600-1378943999@orionis.nl
SUMMARY:Borrel
DESCRIPTION:Gezellig borrel op woensdag in de Heilige Zeug. Bekijk onze facebook\, voor eventuele ludieke drankacties of diesen.
URL:https://orionis.nl/event/borrel-1636/
END:VEVENT
BEGIN:VEVENT
DTSTART;VALUE=DATE:20130911
DTEND;VALUE=DATE:20130912
DTSTAMP:20260422T012748
CREATED:20230904T093419Z
LAST-MODIFIED:20230904T093419Z
UID:17734-1378857600-1378943999@orionis.nl
SUMMARY:Open Borrel
DESCRIPTION:
URL:https://orionis.nl/event/open-borrel-212/
END:VEVENT
BEGIN:VEVENT
DTSTART;VALUE=DATE:20130910
DTEND;VALUE=DATE:20130911
DTSTAMP:20260422T012748
CREATED:20230904T161646Z
LAST-MODIFIED:20230904T161646Z
UID:18897-1378771200-1378857599@orionis.nl
SUMMARY:Spreekuur
DESCRIPTION:
URL:https://orionis.nl/event/spreekuur-362/
END:VEVENT
END:VCALENDAR