BEGIN:VCALENDAR
VERSION:2.0
PRODID:-//Orionis - ECPv6.15.16.1//NONSGML v1.0//EN
CALSCALE:GREGORIAN
METHOD:PUBLISH
X-WR-CALNAME:Orionis
X-ORIGINAL-URL:https://orionis.nl
X-WR-CALDESC:Evenementen voor Orionis
REFRESH-INTERVAL;VALUE=DURATION:PT1H
X-Robots-Tag:noindex
X-PUBLISHED-TTL:PT1H
BEGIN:VTIMEZONE
TZID:UTC
BEGIN:STANDARD
TZOFFSETFROM:+0000
TZOFFSETTO:+0000
TZNAME:UTC
DTSTART:20110101T000000
END:STANDARD
END:VTIMEZONE
BEGIN:VEVENT
DTSTART;VALUE=DATE:20130130
DTEND;VALUE=DATE:20130131
DTSTAMP:20260422T021329
CREATED:20230904T094144Z
LAST-MODIFIED:20230904T143950Z
UID:18195-1359504000-1359590399@orionis.nl
SUMMARY:Borrel
DESCRIPTION:Gezellig borrel op woensdag in de Heilige Zeug. Bekijk onze facebook\, voor eventuele ludieke drankacties of diesen.
URL:https://orionis.nl/event/borrel-1610/
END:VEVENT
BEGIN:VEVENT
DTSTART;VALUE=DATE:20130130
DTEND;VALUE=DATE:20130131
DTSTAMP:20260422T021329
CREATED:20230904T093500Z
LAST-MODIFIED:20230904T093500Z
UID:17763-1359504000-1359590399@orionis.nl
SUMMARY:Infoavond J22
DESCRIPTION:Infoavond voor alle leden die geïnteresseerd zijn in deelname aan het J22 wedstrijdtraject
URL:https://orionis.nl/event/infoavond-j22-3/
END:VEVENT
BEGIN:VEVENT
DTSTART;VALUE=DATE:20130129
DTEND;VALUE=DATE:20130130
DTSTAMP:20260422T021329
CREATED:20230904T161531Z
LAST-MODIFIED:20230904T161531Z
UID:18872-1359417600-1359503999@orionis.nl
SUMMARY:Spreekuur
DESCRIPTION:
URL:https://orionis.nl/event/spreekuur-337/
END:VEVENT
BEGIN:VEVENT
DTSTART;VALUE=DATE:20130125
DTEND;VALUE=DATE:20130126
DTSTAMP:20260422T021329
CREATED:20230904T093500Z
LAST-MODIFIED:20230904T093500Z
UID:17764-1359072000-1359158399@orionis.nl
SUMMARY:Infoavond Dart 18
DESCRIPTION:Infoavond voor alle leden die geïnteresseerd zijn in deelname aan het Dart 18 wedstrijdtraject
URL:https://orionis.nl/event/infoavond-dart-18-3/
END:VEVENT
BEGIN:VEVENT
DTSTART;VALUE=DATE:20130123
DTEND;VALUE=DATE:20130124
DTSTAMP:20260422T021329
CREATED:20230904T094144Z
LAST-MODIFIED:20230904T143923Z
UID:18194-1358899200-1358985599@orionis.nl
SUMMARY:Borrel
DESCRIPTION:Gezellig borrel op woensdag in de Heilige Zeug. Bekijk onze facebook\, voor eventuele ludieke drankacties of diesen.
URL:https://orionis.nl/event/borrel-1609/
END:VEVENT
BEGIN:VEVENT
DTSTART;VALUE=DATE:20130123
DTEND;VALUE=DATE:20130124
DTSTAMP:20260422T021329
CREATED:20230904T093500Z
LAST-MODIFIED:20230904T093500Z
UID:17762-1358899200-1358985599@orionis.nl
SUMMARY:AOO Vaarkalender
DESCRIPTION:
URL:https://orionis.nl/event/aoo-vaarkalender-3/
END:VEVENT
BEGIN:VEVENT
DTSTART;VALUE=DATE:20130122
DTEND;VALUE=DATE:20130123
DTSTAMP:20260422T021329
CREATED:20230904T161531Z
LAST-MODIFIED:20230904T161531Z
UID:18871-1358812800-1358899199@orionis.nl
SUMMARY:Spreekuur
DESCRIPTION:
URL:https://orionis.nl/event/spreekuur-336/
END:VEVENT
BEGIN:VEVENT
DTSTART;VALUE=DATE:20130121
DTEND;VALUE=DATE:20130122
DTSTAMP:20260422T021329
CREATED:20230904T093444Z
LAST-MODIFIED:20230904T093454Z
UID:17748-1358726400-1358812799@orionis.nl
SUMMARY:Almanak Uitreiking
DESCRIPTION:
URL:https://orionis.nl/event/almanak-uitreiking-19/
END:VEVENT
BEGIN:VEVENT
DTSTART;VALUE=DATE:20130119
DTEND;VALUE=DATE:20130120
DTSTAMP:20260422T021329
CREATED:20230904T093605Z
LAST-MODIFIED:20230904T093620Z
UID:17813-1358553600-1358639999@orionis.nl
SUMMARY:OLE '12
DESCRIPTION:
URL:https://orionis.nl/event/ole-12-5/
END:VEVENT
BEGIN:VEVENT
DTSTART;VALUE=DATE:20130116
DTEND;VALUE=DATE:20130117
DTSTAMP:20260422T021329
CREATED:20230904T094144Z
LAST-MODIFIED:20230904T143923Z
UID:18193-1358294400-1358380799@orionis.nl
SUMMARY:Borrel
DESCRIPTION:Gezellig borrel op woensdag in de Heilige Zeug. Bekijk onze facebook\, voor eventuele ludieke drankacties of diesen.
URL:https://orionis.nl/event/borrel-1608/
END:VEVENT
BEGIN:VEVENT
DTSTART;VALUE=DATE:20130116
DTEND;VALUE=DATE:20130117
DTSTAMP:20260422T021329
CREATED:20230904T093510Z
LAST-MODIFIED:20230904T093511Z
UID:17773-1358294400-1358380799@orionis.nl
SUMMARY:Pooltoernooi
DESCRIPTION:
URL:https://orionis.nl/event/pooltoernooi-10/
END:VEVENT
BEGIN:VEVENT
DTSTART;VALUE=DATE:20130115
DTEND;VALUE=DATE:20130116
DTSTAMP:20260422T021329
CREATED:20230904T161531Z
LAST-MODIFIED:20230904T161531Z
UID:18870-1358208000-1358294399@orionis.nl
SUMMARY:Spreekuur
DESCRIPTION:
URL:https://orionis.nl/event/spreekuur-335/
END:VEVENT
BEGIN:VEVENT
DTSTART;VALUE=DATE:20130114
DTEND;VALUE=DATE:20130115
DTSTAMP:20260422T021329
CREATED:20230904T093610Z
LAST-MODIFIED:20230904T093623Z
UID:17818-1358121600-1358207999@orionis.nl
SUMMARY:BoeienSchuim-feest
DESCRIPTION:
URL:https://orionis.nl/event/boeienschuim-feest-12/
END:VEVENT
BEGIN:VEVENT
DTSTART;VALUE=DATE:20130109
DTEND;VALUE=DATE:20130110
DTSTAMP:20260422T021329
CREATED:20230904T094143Z
LAST-MODIFIED:20230904T143923Z
UID:18192-1357689600-1357775999@orionis.nl
SUMMARY:Borrel
DESCRIPTION:Gezellig borrel op woensdag in de Heilige Zeug. Bekijk onze facebook\, voor eventuele ludieke drankacties of diesen.
URL:https://orionis.nl/event/borrel-1607/
END:VEVENT
BEGIN:VEVENT
DTSTART;VALUE=DATE:20130108
DTEND;VALUE=DATE:20130109
DTSTAMP:20260422T021329
CREATED:20230904T093501Z
LAST-MODIFIED:20230904T093501Z
UID:17765-1357603200-1357689599@orionis.nl
SUMMARY:Spreekuur
DESCRIPTION:
URL:https://orionis.nl/event/spreekuur-260/
END:VEVENT
BEGIN:VEVENT
DTSTART;VALUE=DATE:20130107
DTEND;VALUE=DATE:20130108
DTSTAMP:20260422T021329
CREATED:20230904T093610Z
LAST-MODIFIED:20230904T093623Z
UID:17817-1357516800-1357603199@orionis.nl
SUMMARY:Nieuwjaarsfeest
DESCRIPTION:
URL:https://orionis.nl/event/nieuwjaarsfeest-29/
END:VEVENT
BEGIN:VEVENT
DTSTART;VALUE=DATE:20130102
DTEND;VALUE=DATE:20130104
DTSTAMP:20260422T021329
CREATED:20230904T075753Z
LAST-MODIFIED:20230904T093511Z
UID:16731-1357084800-1357257599@orionis.nl
SUMMARY:Borrel
DESCRIPTION:
URL:https://orionis.nl/event/borrel-1553/
END:VEVENT
BEGIN:VEVENT
DTSTART;VALUE=DATE:20121226
DTEND;VALUE=DATE:20121227
DTSTAMP:20260422T021329
CREATED:20230904T075753Z
LAST-MODIFIED:20230904T075756Z
UID:16732-1356480000-1356566399@orionis.nl
SUMMARY:Borrel
DESCRIPTION:Gezellig borrel op woensdag in de Heilige Zeug. Bekijk onze facebook\, voor eventuele ludieke drankacties of diesen.
URL:https://orionis.nl/event/borrel-1554/
END:VEVENT
BEGIN:VEVENT
DTSTART;VALUE=DATE:20121219
DTEND;VALUE=DATE:20121220
DTSTAMP:20260422T021329
CREATED:20230904T075753Z
LAST-MODIFIED:20230904T075756Z
UID:16733-1355875200-1355961599@orionis.nl
SUMMARY:Borrel
DESCRIPTION:Gezellig borrel op woensdag in de Heilige Zeug. Bekijk onze facebook\, voor eventuele ludieke drankacties of diesen.
URL:https://orionis.nl/event/borrel-1555/
END:VEVENT
BEGIN:VEVENT
DTSTART;VALUE=DATE:20121212
DTEND;VALUE=DATE:20121213
DTSTAMP:20260422T021329
CREATED:20230904T093548Z
LAST-MODIFIED:20230904T093614Z
UID:17805-1355270400-1355356799@orionis.nl
SUMMARY:Oud &amp\, Nieuw diner
DESCRIPTION:
URL:https://orionis.nl/event/oud-amp-nieuw-diner-3/
END:VEVENT
BEGIN:VEVENT
DTSTART;VALUE=DATE:20121212
DTEND;VALUE=DATE:20121213
DTSTAMP:20260422T021329
CREATED:20230904T093510Z
LAST-MODIFIED:20230904T093511Z
UID:17774-1355270400-1355356799@orionis.nl
SUMMARY:Overdrachtsborrel
DESCRIPTION:
URL:https://orionis.nl/event/overdrachtsborrel-24/
END:VEVENT
BEGIN:VEVENT
DTSTART;VALUE=DATE:20121212
DTEND;VALUE=DATE:20121213
DTSTAMP:20260422T021329
CREATED:20230904T075802Z
LAST-MODIFIED:20230904T075802Z
UID:16739-1355270400-1355356799@orionis.nl
SUMMARY:Borrel
DESCRIPTION:Gezellig borrel op woensdag in de Heilige Zeug. Bekijk onze facebook\, voor eventuele ludieke drankacties of diesen.
URL:https://orionis.nl/event/borrel-1556/
END:VEVENT
BEGIN:VEVENT
DTSTART;VALUE=DATE:20121211
DTEND;VALUE=DATE:20121212
DTSTAMP:20260422T021329
CREATED:20230904T093510Z
LAST-MODIFIED:20230904T093511Z
UID:17775-1355184000-1355270399@orionis.nl
SUMMARY:December ALV
DESCRIPTION:
URL:https://orionis.nl/event/december-alv-12/
END:VEVENT
BEGIN:VEVENT
DTSTART;VALUE=DATE:20121207
DTEND;VALUE=DATE:20121208
DTSTAMP:20260422T021329
CREATED:20230904T093637Z
LAST-MODIFIED:20230904T093637Z
UID:17842-1354838400-1354924799@orionis.nl
SUMMARY:Gala
DESCRIPTION:
URL:https://orionis.nl/event/gala-17/
END:VEVENT
BEGIN:VEVENT
DTSTART;VALUE=DATE:20121205
DTEND;VALUE=DATE:20121206
DTSTAMP:20260422T021329
CREATED:20230904T094143Z
LAST-MODIFIED:20230904T143923Z
UID:18191-1354665600-1354751999@orionis.nl
SUMMARY:Borrel
DESCRIPTION:Gezellig borrel op woensdag in de Heilige Zeug. Bekijk onze facebook\, voor eventuele ludieke drankacties of diesen.
URL:https://orionis.nl/event/borrel-1606/
END:VEVENT
BEGIN:VEVENT
DTSTART;VALUE=DATE:20121205
DTEND;VALUE=DATE:20121206
DTSTAMP:20260422T021329
CREATED:20230904T093606Z
LAST-MODIFIED:20230904T093620Z
UID:17815-1354665600-1354751999@orionis.nl
SUMMARY:Zoeterklaas
DESCRIPTION:
URL:https://orionis.nl/event/zoeterklaas-51/
END:VEVENT
BEGIN:VEVENT
DTSTART;VALUE=DATE:20121204
DTEND;VALUE=DATE:20121205
DTSTAMP:20260422T021329
CREATED:20230904T161336Z
LAST-MODIFIED:20230904T161336Z
UID:18836-1354579200-1354665599@orionis.nl
SUMMARY:Spreekuur
DESCRIPTION:
URL:https://orionis.nl/event/spreekuur-313/
END:VEVENT
BEGIN:VEVENT
DTSTART;VALUE=DATE:20121201
DTEND;VALUE=DATE:20121202
DTSTAMP:20260422T021329
CREATED:20230904T093522Z
LAST-MODIFIED:20230904T093530Z
UID:17781-1354320000-1354406399@orionis.nl
SUMMARY:Schippersbedankdag
DESCRIPTION:
URL:https://orionis.nl/event/schippersbedankdag-20/
END:VEVENT
BEGIN:VEVENT
DTSTART;VALUE=DATE:20121129
DTEND;VALUE=DATE:20121130
DTSTAMP:20260422T021329
CREATED:20230904T093522Z
LAST-MODIFIED:20230904T093530Z
UID:17782-1354147200-1354233599@orionis.nl
SUMMARY:Commissiebedankdag
DESCRIPTION:
URL:https://orionis.nl/event/commissiebedankdag-19/
END:VEVENT
BEGIN:VEVENT
DTSTART;VALUE=DATE:20121128
DTEND;VALUE=DATE:20121129
DTSTAMP:20260422T021329
CREATED:20230904T094138Z
LAST-MODIFIED:20230904T143923Z
UID:18185-1354060800-1354147199@orionis.nl
SUMMARY:Borrel
DESCRIPTION:Gezellig borrel op woensdag in de Heilige Zeug. Bekijk onze facebook\, voor eventuele ludieke drankacties of diesen.
URL:https://orionis.nl/event/borrel-1605/
END:VEVENT
END:VCALENDAR