BEGIN:VCALENDAR
VERSION:2.0
PRODID:-//Orionis - ECPv6.15.16.1//NONSGML v1.0//EN
CALSCALE:GREGORIAN
METHOD:PUBLISH
X-WR-CALNAME:Orionis
X-ORIGINAL-URL:https://orionis.nl
X-WR-CALDESC:Evenementen voor Orionis
REFRESH-INTERVAL;VALUE=DURATION:PT1H
X-Robots-Tag:noindex
X-PUBLISHED-TTL:PT1H
BEGIN:VTIMEZONE
TZID:UTC
BEGIN:STANDARD
TZOFFSETFROM:+0000
TZOFFSETTO:+0000
TZNAME:UTC
DTSTART:20130101T000000
END:STANDARD
END:VTIMEZONE
BEGIN:VEVENT
DTSTART;VALUE=DATE:20140401
DTEND;VALUE=DATE:20140402
DTSTAMP:20260421T155449
CREATED:20230904T160504Z
LAST-MODIFIED:20230904T160504Z
UID:18718-1396310400-1396396799@orionis.nl
SUMMARY:Spreekuur
DESCRIPTION:
URL:https://orionis.nl/event/spreekuur-225/
END:VEVENT
BEGIN:VEVENT
DTSTART;VALUE=DATE:20140326
DTEND;VALUE=DATE:20140327
DTSTAMP:20260421T155449
CREATED:20230904T144645Z
LAST-MODIFIED:20230904T144645Z
UID:18344-1395792000-1395878399@orionis.nl
SUMMARY:Borrel
DESCRIPTION:Gezellig borrel op woensdag in de Heilige Zeug. Bekijk onze facebook\, voor eventuele ludieke drankacties of diesen.
URL:https://orionis.nl/event/borrel-1662/
END:VEVENT
BEGIN:VEVENT
DTSTART;VALUE=DATE:20140326
DTEND;VALUE=DATE:20140327
DTSTAMP:20260421T155449
CREATED:20230904T092847Z
LAST-MODIFIED:20230904T092910Z
UID:17502-1395792000-1395878399@orionis.nl
SUMMARY:Lezing wedstrijdzeilen
DESCRIPTION:
URL:https://orionis.nl/event/lezing-wedstrijdzeilen-5/
END:VEVENT
BEGIN:VEVENT
DTSTART;VALUE=DATE:20140326
DTEND;VALUE=DATE:20140327
DTSTAMP:20260421T155449
CREATED:20230904T092841Z
LAST-MODIFIED:20230904T092855Z
UID:17488-1395792000-1395878399@orionis.nl
SUMMARY:BondingBorrel
DESCRIPTION:
URL:https://orionis.nl/event/bondingborrel-37/
END:VEVENT
BEGIN:VEVENT
DTSTART;VALUE=DATE:20140325
DTEND;VALUE=DATE:20140326
DTSTAMP:20260421T155449
CREATED:20230904T160504Z
LAST-MODIFIED:20230904T160504Z
UID:18717-1395705600-1395791999@orionis.nl
SUMMARY:Spreekuur
DESCRIPTION:
URL:https://orionis.nl/event/spreekuur-224/
END:VEVENT
BEGIN:VEVENT
DTSTART;VALUE=DATE:20140324
DTEND;VALUE=DATE:20140325
DTSTAMP:20260421T155449
CREATED:20230904T092841Z
LAST-MODIFIED:20230904T092855Z
UID:17489-1395619200-1395705599@orionis.nl
SUMMARY:Werkgroep Vloot
DESCRIPTION:
URL:https://orionis.nl/event/werkgroep-vloot-4/
END:VEVENT
BEGIN:VEVENT
DTSTART;VALUE=DATE:20140322
DTEND;VALUE=DATE:20140323
DTSTAMP:20260421T155449
CREATED:20230904T093058Z
LAST-MODIFIED:20230904T093121Z
UID:17586-1395446400-1395532799@orionis.nl
SUMMARY:Opening vaarseizoen
DESCRIPTION:
URL:https://orionis.nl/event/opening-vaarseizoen-29/
END:VEVENT
BEGIN:VEVENT
DTSTART;VALUE=DATE:20140319
DTEND;VALUE=DATE:20140320
DTSTAMP:20260421T155449
CREATED:20230904T144644Z
LAST-MODIFIED:20230904T144644Z
UID:18343-1395187200-1395273599@orionis.nl
SUMMARY:Borrel
DESCRIPTION:Gezellig borrel op woensdag in de Heilige Zeug. Bekijk onze facebook\, voor eventuele ludieke drankacties of diesen.
URL:https://orionis.nl/event/borrel-1661/
END:VEVENT
BEGIN:VEVENT
DTSTART;VALUE=DATE:20140319
DTEND;VALUE=DATE:20140320
DTSTAMP:20260421T155449
CREATED:20230904T093058Z
LAST-MODIFIED:20230904T093122Z
UID:17588-1395187200-1395273599@orionis.nl
SUMMARY:Comedynight
DESCRIPTION:
URL:https://orionis.nl/event/comedynight-6/
END:VEVENT
BEGIN:VEVENT
DTSTART;VALUE=DATE:20140318
DTEND;VALUE=DATE:20140319
DTSTAMP:20260421T155449
CREATED:20230904T160504Z
LAST-MODIFIED:20230904T160504Z
UID:18716-1395100800-1395187199@orionis.nl
SUMMARY:Spreekuur
DESCRIPTION:
URL:https://orionis.nl/event/spreekuur-223/
END:VEVENT
BEGIN:VEVENT
DTSTART;VALUE=DATE:20140314
DTEND;VALUE=DATE:20140317
DTSTAMP:20260421T155449
CREATED:20230904T093221Z
LAST-MODIFIED:20230904T093230Z
UID:17640-1394755200-1395014399@orionis.nl
SUMMARY:Maartmonsterweekend
DESCRIPTION:
URL:https://orionis.nl/event/maartmonsterweekend-25/
END:VEVENT
BEGIN:VEVENT
DTSTART;VALUE=DATE:20140312
DTEND;VALUE=DATE:20140313
DTSTAMP:20260421T155449
CREATED:20230904T144644Z
LAST-MODIFIED:20230904T144644Z
UID:18342-1394582400-1394668799@orionis.nl
SUMMARY:Borrel
DESCRIPTION:Gezellig borrel op woensdag in de Heilige Zeug. Bekijk onze facebook\, voor eventuele ludieke drankacties of diesen.
URL:https://orionis.nl/event/borrel-1660/
END:VEVENT
BEGIN:VEVENT
DTSTART;VALUE=DATE:20140312
DTEND;VALUE=DATE:20140313
DTSTAMP:20260421T155449
CREATED:20230904T093043Z
LAST-MODIFIED:20230904T093105Z
UID:17575-1394582400-1394668799@orionis.nl
SUMMARY:Open borrel
DESCRIPTION:
URL:https://orionis.nl/event/open-borrel-209/
END:VEVENT
BEGIN:VEVENT
DTSTART;VALUE=DATE:20140312
DTEND;VALUE=DATE:20140313
DTSTAMP:20260421T155449
CREATED:20230904T093037Z
LAST-MODIFIED:20230904T093047Z
UID:17572-1394582400-1394668799@orionis.nl
SUMMARY:Eten voor de borrel
DESCRIPTION:
URL:https://orionis.nl/event/eten-voor-de-borrel-15/
END:VEVENT
BEGIN:VEVENT
DTSTART;VALUE=DATE:20140311
DTEND;VALUE=DATE:20140312
DTSTAMP:20260421T155449
CREATED:20230904T160504Z
LAST-MODIFIED:20230904T160504Z
UID:18715-1394496000-1394582399@orionis.nl
SUMMARY:Spreekuur
DESCRIPTION:
URL:https://orionis.nl/event/spreekuur-222/
END:VEVENT
BEGIN:VEVENT
DTSTART;VALUE=DATE:20140310
DTEND;VALUE=DATE:20140311
DTSTAMP:20260421T155449
CREATED:20230904T093139Z
LAST-MODIFIED:20230904T093148Z
UID:17608-1394409600-1394495999@orionis.nl
SUMMARY:Drift dies
DESCRIPTION:
URL:https://orionis.nl/event/drift-dies-42/
END:VEVENT
BEGIN:VEVENT
DTSTART;VALUE=DATE:20140305
DTEND;VALUE=DATE:20140307
DTSTAMP:20260421T155449
CREATED:20230904T075716Z
LAST-MODIFIED:20230904T093105Z
UID:16713-1393977600-1394150399@orionis.nl
SUMMARY:Borrel
DESCRIPTION:
URL:https://orionis.nl/event/borrel-1545/
END:VEVENT
BEGIN:VEVENT
DTSTART;VALUE=DATE:20140305
DTEND;VALUE=DATE:20140306
DTSTAMP:20260421T155449
CREATED:20230904T093043Z
LAST-MODIFIED:20230904T093105Z
UID:17577-1393977600-1394063999@orionis.nl
SUMMARY:Open borrel
DESCRIPTION:
URL:https://orionis.nl/event/open-borrel-211/
END:VEVENT
BEGIN:VEVENT
DTSTART;VALUE=DATE:20140305
DTEND;VALUE=DATE:20140306
DTSTAMP:20260421T155449
CREATED:20230904T093018Z
LAST-MODIFIED:20230904T093028Z
UID:17557-1393977600-1394063999@orionis.nl
SUMMARY:Playbackshow
DESCRIPTION:
URL:https://orionis.nl/event/playbackshow-18/
END:VEVENT
BEGIN:VEVENT
DTSTART;VALUE=DATE:20140305
DTEND;VALUE=DATE:20140306
DTSTAMP:20260421T155449
CREATED:20230904T092922Z
LAST-MODIFIED:20230904T092940Z
UID:17519-1393977600-1394063999@orionis.nl
SUMMARY:BondingBorrel
DESCRIPTION:
URL:https://orionis.nl/event/bondingborrel-43/
END:VEVENT
BEGIN:VEVENT
DTSTART;VALUE=DATE:20140304
DTEND;VALUE=DATE:20140305
DTSTAMP:20260421T155449
CREATED:20230904T160504Z
LAST-MODIFIED:20230904T160504Z
UID:18714-1393891200-1393977599@orionis.nl
SUMMARY:Spreekuur
DESCRIPTION:
URL:https://orionis.nl/event/spreekuur-221/
END:VEVENT
BEGIN:VEVENT
DTSTART;VALUE=DATE:20140303
DTEND;VALUE=DATE:20140304
DTSTAMP:20260421T155449
CREATED:20230904T093013Z
LAST-MODIFIED:20230904T093021Z
UID:17552-1393804800-1393891199@orionis.nl
SUMMARY:Scepter dies
DESCRIPTION:
URL:https://orionis.nl/event/scepter-dies-39/
END:VEVENT
BEGIN:VEVENT
DTSTART;VALUE=DATE:20140226
DTEND;VALUE=DATE:20140228
DTSTAMP:20260421T155449
CREATED:20230904T075733Z
LAST-MODIFIED:20230904T093105Z
UID:16719-1393372800-1393545599@orionis.nl
SUMMARY:Borrel
DESCRIPTION:
URL:https://orionis.nl/event/borrel-1546/
END:VEVENT
BEGIN:VEVENT
DTSTART;VALUE=DATE:20140226
DTEND;VALUE=DATE:20140227
DTSTAMP:20260421T155449
CREATED:20230904T093043Z
LAST-MODIFIED:20230904T093105Z
UID:17576-1393372800-1393459199@orionis.nl
SUMMARY:Open borrel
DESCRIPTION:
URL:https://orionis.nl/event/open-borrel-210/
END:VEVENT
BEGIN:VEVENT
DTSTART;VALUE=DATE:20140226
DTEND;VALUE=DATE:20140227
DTSTAMP:20260421T155449
CREATED:20230904T093017Z
LAST-MODIFIED:20230904T093028Z
UID:17553-1393372800-1393459199@orionis.nl
SUMMARY:Bierproeverij
DESCRIPTION:
URL:https://orionis.nl/event/bierproeverij-5/
END:VEVENT
BEGIN:VEVENT
DTSTART;VALUE=DATE:20140225
DTEND;VALUE=DATE:20140226
DTSTAMP:20260421T155449
CREATED:20230904T160440Z
LAST-MODIFIED:20230904T160440Z
UID:18713-1393286400-1393372799@orionis.nl
SUMMARY:Spreekuur
DESCRIPTION:
URL:https://orionis.nl/event/spreekuur-220/
END:VEVENT
BEGIN:VEVENT
DTSTART;VALUE=DATE:20140224
DTEND;VALUE=DATE:20140225
DTSTAMP:20260421T155449
CREATED:20230904T093104Z
LAST-MODIFIED:20230904T093134Z
UID:17593-1393200000-1393286399@orionis.nl
SUMMARY:Schuim Dies
DESCRIPTION:
URL:https://orionis.nl/event/schuim-dies-43/
END:VEVENT
BEGIN:VEVENT
DTSTART;VALUE=DATE:20140220
DTEND;VALUE=DATE:20140221
DTSTAMP:20260421T155449
CREATED:20230904T093139Z
LAST-MODIFIED:20230904T093148Z
UID:17607-1392854400-1392940799@orionis.nl
SUMMARY:Februari ALV
DESCRIPTION:
URL:https://orionis.nl/event/februari-alv-13/
END:VEVENT
BEGIN:VEVENT
DTSTART;VALUE=DATE:20140219
DTEND;VALUE=DATE:20140220
DTSTAMP:20260421T155449
CREATED:20230904T144630Z
LAST-MODIFIED:20230904T144630Z
UID:18341-1392768000-1392854399@orionis.nl
SUMMARY:Borrel
DESCRIPTION:Gezellig borrel op woensdag in de Heilige Zeug. Bekijk onze facebook\, voor eventuele ludieke drankacties of diesen.
URL:https://orionis.nl/event/borrel-1659/
END:VEVENT
BEGIN:VEVENT
DTSTART;VALUE=DATE:20140219
DTEND;VALUE=DATE:20140220
DTSTAMP:20260421T155449
CREATED:20230904T093013Z
LAST-MODIFIED:20230904T093021Z
UID:17551-1392768000-1392854399@orionis.nl
SUMMARY:Zout pubquiz
DESCRIPTION:
URL:https://orionis.nl/event/zout-pubquiz-24/
END:VEVENT
END:VCALENDAR