BEGIN:VCALENDAR
VERSION:2.0
PRODID:-//Orionis - ECPv6.15.16.1//NONSGML v1.0//EN
CALSCALE:GREGORIAN
METHOD:PUBLISH
X-WR-CALNAME:Orionis
X-ORIGINAL-URL:https://orionis.nl
X-WR-CALDESC:Evenementen voor Orionis
REFRESH-INTERVAL;VALUE=DURATION:PT1H
X-Robots-Tag:noindex
X-PUBLISHED-TTL:PT1H
BEGIN:VTIMEZONE
TZID:UTC
BEGIN:STANDARD
TZOFFSETFROM:+0000
TZOFFSETTO:+0000
TZNAME:UTC
DTSTART:20120101T000000
END:STANDARD
END:VTIMEZONE
BEGIN:VEVENT
DTSTART;VALUE=DATE:20130506
DTEND;VALUE=DATE:20130507
DTSTAMP:20260421T192001
CREATED:20230904T093413Z
LAST-MODIFIED:20230904T093413Z
UID:17730-1367798400-1367884799@orionis.nl
SUMMARY:Fock Dies
DESCRIPTION:
URL:https://orionis.nl/event/fock-dies-36/
END:VEVENT
BEGIN:VEVENT
DTSTART;VALUE=DATE:20130501
DTEND;VALUE=DATE:20130502
DTSTAMP:20260421T192002
CREATED:20230904T094202Z
LAST-MODIFIED:20230904T144050Z
UID:18218-1367366400-1367452799@orionis.nl
SUMMARY:Borrel
DESCRIPTION:Gezellig borrel op woensdag in de Heilige Zeug. Bekijk onze facebook\, voor eventuele ludieke drankacties of diesen.
URL:https://orionis.nl/event/borrel-1623/
END:VEVENT
BEGIN:VEVENT
DTSTART;VALUE=DATE:20130501
DTEND;VALUE=DATE:20130502
DTSTAMP:20260421T192002
CREATED:20230904T093351Z
LAST-MODIFIED:20230904T093402Z
UID:17713-1367366400-1367452799@orionis.nl
SUMMARY:Jaarclubborrel
DESCRIPTION:
URL:https://orionis.nl/event/jaarclubborrel-8/
END:VEVENT
BEGIN:VEVENT
DTSTART;VALUE=DATE:20130430
DTEND;VALUE=DATE:20130501
DTSTAMP:20260421T192002
CREATED:20230904T161616Z
LAST-MODIFIED:20230904T161616Z
UID:18885-1367280000-1367366399@orionis.nl
SUMMARY:Spreekuur
DESCRIPTION:
URL:https://orionis.nl/event/spreekuur-350/
END:VEVENT
BEGIN:VEVENT
DTSTART;VALUE=DATE:20130427
DTEND;VALUE=DATE:20130428
DTSTAMP:20260421T192002
CREATED:20230904T093409Z
LAST-MODIFIED:20230904T093409Z
UID:17726-1367020800-1367107199@orionis.nl
SUMMARY:Opening Vaarseizoen
DESCRIPTION:
URL:https://orionis.nl/event/opening-vaarseizoen-30/
END:VEVENT
BEGIN:VEVENT
DTSTART;VALUE=DATE:20130424
DTEND;VALUE=DATE:20130425
DTSTAMP:20260421T192002
CREATED:20230904T094201Z
LAST-MODIFIED:20230904T144050Z
UID:18217-1366761600-1366847999@orionis.nl
SUMMARY:Borrel
DESCRIPTION:Gezellig borrel op woensdag in de Heilige Zeug. Bekijk onze facebook\, voor eventuele ludieke drankacties of diesen.
URL:https://orionis.nl/event/borrel-1622/
END:VEVENT
BEGIN:VEVENT
DTSTART;VALUE=DATE:20130424
DTEND;VALUE=DATE:20130425
DTSTAMP:20260421T192002
CREATED:20230904T093334Z
LAST-MODIFIED:20230904T093355Z
UID:17700-1366761600-1366847999@orionis.nl
SUMMARY:Jaarclub Presentatie Maart
DESCRIPTION:
URL:https://orionis.nl/event/jaarclub-presentatie-maart-4/
END:VEVENT
BEGIN:VEVENT
DTSTART;VALUE=DATE:20130423
DTEND;VALUE=DATE:20130424
DTSTAMP:20260421T192002
CREATED:20230904T161615Z
LAST-MODIFIED:20230904T161615Z
UID:18884-1366675200-1366761599@orionis.nl
SUMMARY:Spreekuur
DESCRIPTION:
URL:https://orionis.nl/event/spreekuur-349/
END:VEVENT
BEGIN:VEVENT
DTSTART;VALUE=DATE:20130419
DTEND;VALUE=DATE:20130422
DTSTAMP:20260421T192002
CREATED:20230904T093528Z
LAST-MODIFIED:20230904T093552Z
UID:17788-1366329600-1366588799@orionis.nl
SUMMARY:KOZLAR
DESCRIPTION:
URL:https://orionis.nl/event/kozlar-34/
END:VEVENT
BEGIN:VEVENT
DTSTART;VALUE=DATE:20130417
DTEND;VALUE=DATE:20130418
DTSTAMP:20260421T192002
CREATED:20230904T094201Z
LAST-MODIFIED:20230904T144050Z
UID:18216-1366156800-1366243199@orionis.nl
SUMMARY:Borrel
DESCRIPTION:Gezellig borrel op woensdag in de Heilige Zeug. Bekijk onze facebook\, voor eventuele ludieke drankacties of diesen.
URL:https://orionis.nl/event/borrel-1621/
END:VEVENT
BEGIN:VEVENT
DTSTART;VALUE=DATE:20130416
DTEND;VALUE=DATE:20130417
DTSTAMP:20260421T192002
CREATED:20230904T161601Z
LAST-MODIFIED:20230904T161601Z
UID:18883-1366070400-1366156799@orionis.nl
SUMMARY:Spreekuur
DESCRIPTION:
URL:https://orionis.nl/event/spreekuur-348/
END:VEVENT
BEGIN:VEVENT
DTSTART;VALUE=DATE:20130410
DTEND;VALUE=DATE:20130411
DTSTAMP:20260421T192002
CREATED:20230904T094156Z
LAST-MODIFIED:20230904T144050Z
UID:18215-1365552000-1365638399@orionis.nl
SUMMARY:Borrel
DESCRIPTION:Gezellig borrel op woensdag in de Heilige Zeug. Bekijk onze facebook\, voor eventuele ludieke drankacties of diesen.
URL:https://orionis.nl/event/borrel-1620/
END:VEVENT
BEGIN:VEVENT
DTSTART;VALUE=DATE:20130410
DTEND;VALUE=DATE:20130411
DTSTAMP:20260421T192002
CREATED:20230904T093419Z
LAST-MODIFIED:20230904T093419Z
UID:17732-1365552000-1365638399@orionis.nl
SUMMARY:AOO binding eerstejaars leden
DESCRIPTION:
URL:https://orionis.nl/event/aoo-binding-eerstejaars-leden-4/
END:VEVENT
BEGIN:VEVENT
DTSTART;VALUE=DATE:20130409
DTEND;VALUE=DATE:20130410
DTSTAMP:20260421T192002
CREATED:20230904T161601Z
LAST-MODIFIED:20230904T161601Z
UID:18882-1365465600-1365551999@orionis.nl
SUMMARY:Spreekuur
DESCRIPTION:
URL:https://orionis.nl/event/spreekuur-347/
END:VEVENT
BEGIN:VEVENT
DTSTART;VALUE=DATE:20130408
DTEND;VALUE=DATE:20130409
DTSTAMP:20260421T192002
CREATED:20230904T093409Z
LAST-MODIFIED:20230904T093409Z
UID:17724-1365379200-1365465599@orionis.nl
SUMMARY:Vloten kroegentocht Maartlichting
DESCRIPTION:
URL:https://orionis.nl/event/vloten-kroegentocht-maartlichting-4/
END:VEVENT
BEGIN:VEVENT
DTSTART;VALUE=DATE:20130403
DTEND;VALUE=DATE:20130404
DTSTAMP:20260421T192002
CREATED:20230904T094156Z
LAST-MODIFIED:20230904T144026Z
UID:18214-1364947200-1365033599@orionis.nl
SUMMARY:Borrel
DESCRIPTION:Gezellig borrel op woensdag in de Heilige Zeug. Bekijk onze facebook\, voor eventuele ludieke drankacties of diesen.
URL:https://orionis.nl/event/borrel-1619/
END:VEVENT
BEGIN:VEVENT
DTSTART;VALUE=DATE:20130403
DTEND;VALUE=DATE:20130404
DTSTAMP:20260421T192002
CREATED:20230904T093352Z
LAST-MODIFIED:20230904T093402Z
UID:17716-1364947200-1365033599@orionis.nl
SUMMARY:Jaarclubborrel: Bierestafette
DESCRIPTION:
URL:https://orionis.nl/event/jaarclubborrel-bierestafette-4/
END:VEVENT
BEGIN:VEVENT
DTSTART;VALUE=DATE:20130402
DTEND;VALUE=DATE:20130403
DTSTAMP:20260421T192002
CREATED:20230904T161601Z
LAST-MODIFIED:20230904T161601Z
UID:18881-1364860800-1364947199@orionis.nl
SUMMARY:Spreekuur
DESCRIPTION:
URL:https://orionis.nl/event/spreekuur-346/
END:VEVENT
BEGIN:VEVENT
DTSTART;VALUE=DATE:20130329
DTEND;VALUE=DATE:20130402
DTSTAMP:20260421T192002
CREATED:20230904T093528Z
LAST-MODIFIED:20230904T093552Z
UID:17790-1364515200-1364860799@orionis.nl
SUMMARY:MOS
DESCRIPTION:
URL:https://orionis.nl/event/mos-7/
END:VEVENT
BEGIN:VEVENT
DTSTART;VALUE=DATE:20130329
DTEND;VALUE=DATE:20130402
DTSTAMP:20260421T192002
CREATED:20230904T093528Z
LAST-MODIFIED:20230904T093552Z
UID:17789-1364515200-1364860799@orionis.nl
SUMMARY:Scherp paasweekend
DESCRIPTION:
URL:https://orionis.nl/event/scherp-paasweekend-8/
END:VEVENT
BEGIN:VEVENT
DTSTART;VALUE=DATE:20130327
DTEND;VALUE=DATE:20130328
DTSTAMP:20260421T192002
CREATED:20230904T094156Z
LAST-MODIFIED:20230904T144026Z
UID:18213-1364342400-1364428799@orionis.nl
SUMMARY:Borrel
DESCRIPTION:Gezellig borrel op woensdag in de Heilige Zeug. Bekijk onze facebook\, voor eventuele ludieke drankacties of diesen.
URL:https://orionis.nl/event/borrel-1618/
END:VEVENT
BEGIN:VEVENT
DTSTART;VALUE=DATE:20130326
DTEND;VALUE=DATE:20130327
DTSTAMP:20260421T192002
CREATED:20230904T161601Z
LAST-MODIFIED:20230904T161601Z
UID:18880-1364256000-1364342399@orionis.nl
SUMMARY:Spreekuur
DESCRIPTION:
URL:https://orionis.nl/event/spreekuur-345/
END:VEVENT
BEGIN:VEVENT
DTSTART;VALUE=DATE:20130320
DTEND;VALUE=DATE:20130321
DTSTAMP:20260421T192002
CREATED:20230904T094155Z
LAST-MODIFIED:20230904T144026Z
UID:18212-1363737600-1363823999@orionis.nl
SUMMARY:Borrel
DESCRIPTION:Gezellig borrel op woensdag in de Heilige Zeug. Bekijk onze facebook\, voor eventuele ludieke drankacties of diesen.
URL:https://orionis.nl/event/borrel-1617/
END:VEVENT
BEGIN:VEVENT
DTSTART;VALUE=DATE:20130320
DTEND;VALUE=DATE:20130321
DTSTAMP:20260421T192002
CREATED:20230904T093412Z
LAST-MODIFIED:20230904T093412Z
UID:17729-1363737600-1363823999@orionis.nl
SUMMARY:Gescheiden Diner
DESCRIPTION:
URL:https://orionis.nl/event/gescheiden-diner-16/
END:VEVENT
BEGIN:VEVENT
DTSTART;VALUE=DATE:20130319
DTEND;VALUE=DATE:20130320
DTSTAMP:20260421T192002
CREATED:20230904T161600Z
LAST-MODIFIED:20230904T161600Z
UID:18879-1363651200-1363737599@orionis.nl
SUMMARY:Spreekuur
DESCRIPTION:
URL:https://orionis.nl/event/spreekuur-344/
END:VEVENT
BEGIN:VEVENT
DTSTART;VALUE=DATE:20130318
DTEND;VALUE=DATE:20130319
DTSTAMP:20260421T192002
CREATED:20230904T093412Z
LAST-MODIFIED:20230904T093412Z
UID:17727-1363564800-1363651199@orionis.nl
SUMMARY:Genua i.o. Feest
DESCRIPTION:
URL:https://orionis.nl/event/genua-i-o-feest-3/
END:VEVENT
BEGIN:VEVENT
DTSTART;VALUE=DATE:20130315
DTEND;VALUE=DATE:20130318
DTSTAMP:20260421T192002
CREATED:20230904T093504Z
LAST-MODIFIED:20230904T093504Z
UID:17769-1363305600-1363564799@orionis.nl
SUMMARY:Maart Monster Weekend
DESCRIPTION:
URL:https://orionis.nl/event/maart-monster-weekend-4/
END:VEVENT
BEGIN:VEVENT
DTSTART;VALUE=DATE:20130313
DTEND;VALUE=DATE:20130314
DTSTAMP:20260421T192002
CREATED:20230904T094155Z
LAST-MODIFIED:20230904T144026Z
UID:18211-1363132800-1363219199@orionis.nl
SUMMARY:Borrel
DESCRIPTION:Gezellig borrel op woensdag in de Heilige Zeug. Bekijk onze facebook\, voor eventuele ludieke drankacties of diesen.
URL:https://orionis.nl/event/borrel-1616/
END:VEVENT
BEGIN:VEVENT
DTSTART;VALUE=DATE:20130313
DTEND;VALUE=DATE:20130314
DTSTAMP:20260421T192002
CREATED:20230904T093437Z
LAST-MODIFIED:20230904T093447Z
UID:17746-1363132800-1363219199@orionis.nl
SUMMARY:Open Borrel
DESCRIPTION:
URL:https://orionis.nl/event/open-borrel-218/
END:VEVENT
BEGIN:VEVENT
DTSTART;VALUE=DATE:20130313
DTEND;VALUE=DATE:20130314
DTSTAMP:20260421T192002
CREATED:20230904T093408Z
LAST-MODIFIED:20230904T093408Z
UID:17723-1363132800-1363219199@orionis.nl
SUMMARY:Eten voor de borrel
DESCRIPTION:
URL:https://orionis.nl/event/eten-voor-de-borrel-16/
END:VEVENT
END:VCALENDAR