BEGIN:VCALENDAR
VERSION:2.0
PRODID:-//Orionis - ECPv6.15.16.1//NONSGML v1.0//EN
CALSCALE:GREGORIAN
METHOD:PUBLISH
X-WR-CALNAME:Orionis
X-ORIGINAL-URL:https://orionis.nl
X-WR-CALDESC:Evenementen voor Orionis
REFRESH-INTERVAL;VALUE=DURATION:PT1H
X-Robots-Tag:noindex
X-PUBLISHED-TTL:PT1H
BEGIN:VTIMEZONE
TZID:UTC
BEGIN:STANDARD
TZOFFSETFROM:+0000
TZOFFSETTO:+0000
TZNAME:UTC
DTSTART:20120101T000000
END:STANDARD
END:VTIMEZONE
BEGIN:VEVENT
DTSTART;VALUE=DATE:20130813
DTEND;VALUE=DATE:20130814
DTSTAMP:20260421T210810
CREATED:20230904T093430Z
LAST-MODIFIED:20230904T093430Z
UID:17739-1376352000-1376438399@orionis.nl
SUMMARY:Spreekuur
DESCRIPTION:
URL:https://orionis.nl/event/spreekuur-259/
END:VEVENT
BEGIN:VEVENT
DTSTART;VALUE=DATE:20130807
DTEND;VALUE=DATE:20130808
DTSTAMP:20260421T210810
CREATED:20230904T075733Z
LAST-MODIFIED:20230904T075742Z
UID:16720-1375833600-1375919999@orionis.nl
SUMMARY:Borrel
DESCRIPTION:Gezellig borrel op woensdag in de Heilige Zeug. Bekijk onze facebook\, voor eventuele ludieke drankacties of diesen.
URL:https://orionis.nl/event/borrel-1547/
END:VEVENT
BEGIN:VEVENT
DTSTART;VALUE=DATE:20130731
DTEND;VALUE=DATE:20130801
DTSTAMP:20260421T210810
CREATED:20230904T075734Z
LAST-MODIFIED:20230904T075742Z
UID:16721-1375228800-1375315199@orionis.nl
SUMMARY:Borrel
DESCRIPTION:Gezellig borrel op woensdag in de Heilige Zeug. Bekijk onze facebook\, voor eventuele ludieke drankacties of diesen.
URL:https://orionis.nl/event/borrel-1548/
END:VEVENT
BEGIN:VEVENT
DTSTART;VALUE=DATE:20130724
DTEND;VALUE=DATE:20130725
DTSTAMP:20260421T210810
CREATED:20230904T075734Z
LAST-MODIFIED:20230904T075743Z
UID:16722-1374624000-1374710399@orionis.nl
SUMMARY:Borrel
DESCRIPTION:Gezellig borrel op woensdag in de Heilige Zeug. Bekijk onze facebook\, voor eventuele ludieke drankacties of diesen.
URL:https://orionis.nl/event/borrel-1549/
END:VEVENT
BEGIN:VEVENT
DTSTART;VALUE=DATE:20130717
DTEND;VALUE=DATE:20130718
DTSTAMP:20260421T210810
CREATED:20230904T075735Z
LAST-MODIFIED:20230904T075743Z
UID:16723-1374019200-1374105599@orionis.nl
SUMMARY:Borrel
DESCRIPTION:Gezellig borrel op woensdag in de Heilige Zeug. Bekijk onze facebook\, voor eventuele ludieke drankacties of diesen.
URL:https://orionis.nl/event/borrel-1550/
END:VEVENT
BEGIN:VEVENT
DTSTART;VALUE=DATE:20130715
DTEND;VALUE=DATE:20130720
DTSTAMP:20260421T210810
CREATED:20230904T093334Z
LAST-MODIFIED:20230904T093355Z
UID:17699-1373846400-1374278399@orionis.nl
SUMMARY:Waddenweek
DESCRIPTION:
URL:https://orionis.nl/event/waddenweek-30/
END:VEVENT
BEGIN:VEVENT
DTSTART;VALUE=DATE:20130710
DTEND;VALUE=DATE:20130711
DTSTAMP:20260421T210810
CREATED:20230904T075752Z
LAST-MODIFIED:20230904T075755Z
UID:16729-1373414400-1373500799@orionis.nl
SUMMARY:Borrel
DESCRIPTION:Gezellig borrel op woensdag in de Heilige Zeug. Bekijk onze facebook\, voor eventuele ludieke drankacties of diesen.
URL:https://orionis.nl/event/borrel-1551/
END:VEVENT
BEGIN:VEVENT
DTSTART;VALUE=DATE:20130708
DTEND;VALUE=DATE:20130713
DTSTAMP:20260421T210810
CREATED:20230904T093334Z
LAST-MODIFIED:20230904T093355Z
UID:17697-1373241600-1373673599@orionis.nl
SUMMARY:WOS
DESCRIPTION:
URL:https://orionis.nl/event/wos-9/
END:VEVENT
BEGIN:VEVENT
DTSTART;VALUE=DATE:20130703
DTEND;VALUE=DATE:20130704
DTSTAMP:20260421T210810
CREATED:20230904T075752Z
LAST-MODIFIED:20230904T075755Z
UID:16730-1372809600-1372895999@orionis.nl
SUMMARY:Borrel
DESCRIPTION:Gezellig borrel op woensdag in de Heilige Zeug. Bekijk onze facebook\, voor eventuele ludieke drankacties of diesen.
URL:https://orionis.nl/event/borrel-1552/
END:VEVENT
BEGIN:VEVENT
DTSTART;VALUE=DATE:20130626
DTEND;VALUE=DATE:20130627
DTSTAMP:20260421T210810
CREATED:20230904T094227Z
LAST-MODIFIED:20230904T144328Z
UID:18241-1372204800-1372291199@orionis.nl
SUMMARY:Borrel
DESCRIPTION:Gezellig borrel op woensdag in de Heilige Zeug. Bekijk onze facebook\, voor eventuele ludieke drankacties of diesen.
URL:https://orionis.nl/event/borrel-1631/
END:VEVENT
BEGIN:VEVENT
DTSTART;VALUE=DATE:20130626
DTEND;VALUE=DATE:20130627
DTSTAMP:20260421T210810
CREATED:20230904T093431Z
LAST-MODIFIED:20230904T093431Z
UID:17740-1372204800-1372291199@orionis.nl
SUMMARY:Laatste Borrel
DESCRIPTION:
URL:https://orionis.nl/event/laatste-borrel-4/
END:VEVENT
BEGIN:VEVENT
DTSTART;VALUE=DATE:20130625
DTEND;VALUE=DATE:20130626
DTSTAMP:20260421T210810
CREATED:20230904T161631Z
LAST-MODIFIED:20230904T161631Z
UID:18893-1372118400-1372204799@orionis.nl
SUMMARY:Spreekuur
DESCRIPTION:
URL:https://orionis.nl/event/spreekuur-358/
END:VEVENT
BEGIN:VEVENT
DTSTART;VALUE=DATE:20130619
DTEND;VALUE=DATE:20130620
DTSTAMP:20260421T210810
CREATED:20230904T094215Z
LAST-MODIFIED:20230904T144328Z
UID:18235-1371600000-1371686399@orionis.nl
SUMMARY:Borrel
DESCRIPTION:Gezellig borrel op woensdag in de Heilige Zeug. Bekijk onze facebook\, voor eventuele ludieke drankacties of diesen.
URL:https://orionis.nl/event/borrel-1630/
END:VEVENT
BEGIN:VEVENT
DTSTART;VALUE=DATE:20130618
DTEND;VALUE=DATE:20130619
DTSTAMP:20260421T210810
CREATED:20230904T161631Z
LAST-MODIFIED:20230904T161631Z
UID:18892-1371513600-1371599999@orionis.nl
SUMMARY:Spreekuur
DESCRIPTION:
URL:https://orionis.nl/event/spreekuur-357/
END:VEVENT
BEGIN:VEVENT
DTSTART;VALUE=DATE:20130618
DTEND;VALUE=DATE:20130619
DTSTAMP:20260421T210810
CREATED:20230904T093436Z
LAST-MODIFIED:20230904T093447Z
UID:17742-1371513600-1371599999@orionis.nl
SUMMARY:Juni ALV
DESCRIPTION:
URL:https://orionis.nl/event/juni-alv-10/
END:VEVENT
BEGIN:VEVENT
DTSTART;VALUE=DATE:20130614
DTEND;VALUE=DATE:20130617
DTSTAMP:20260421T210810
CREATED:20230904T093527Z
LAST-MODIFIED:20230904T093552Z
UID:17786-1371168000-1371427199@orionis.nl
SUMMARY:Orionis op Texel
DESCRIPTION:
URL:https://orionis.nl/event/orionis-op-texel-7/
END:VEVENT
BEGIN:VEVENT
DTSTART;VALUE=DATE:20130612
DTEND;VALUE=DATE:20130613
DTSTAMP:20260421T210810
CREATED:20230904T094214Z
LAST-MODIFIED:20230904T144127Z
UID:18234-1370995200-1371081599@orionis.nl
SUMMARY:Borrel
DESCRIPTION:Gezellig borrel op woensdag in de Heilige Zeug. Bekijk onze facebook\, voor eventuele ludieke drankacties of diesen.
URL:https://orionis.nl/event/borrel-1629/
END:VEVENT
BEGIN:VEVENT
DTSTART;VALUE=DATE:20130612
DTEND;VALUE=DATE:20130613
DTSTAMP:20260421T210810
CREATED:20230904T093328Z
LAST-MODIFIED:20230904T093339Z
UID:17694-1370995200-1371081599@orionis.nl
SUMMARY:Jaarclub activiteit
DESCRIPTION:
URL:https://orionis.nl/event/jaarclub-activiteit-8/
END:VEVENT
BEGIN:VEVENT
DTSTART;VALUE=DATE:20130611
DTEND;VALUE=DATE:20130612
DTSTAMP:20260421T210810
CREATED:20230904T161631Z
LAST-MODIFIED:20230904T161631Z
UID:18891-1370908800-1370995199@orionis.nl
SUMMARY:Spreekuur
DESCRIPTION:
URL:https://orionis.nl/event/spreekuur-356/
END:VEVENT
BEGIN:VEVENT
DTSTART;VALUE=DATE:20130610
DTEND;VALUE=DATE:20130611
DTSTAMP:20260421T210810
CREATED:20230904T093328Z
LAST-MODIFIED:20230904T093339Z
UID:17695-1370822400-1370908799@orionis.nl
SUMMARY:Boeien Dies
DESCRIPTION:
URL:https://orionis.nl/event/boeien-dies-35/
END:VEVENT
BEGIN:VEVENT
DTSTART;VALUE=DATE:20130609
DTEND;VALUE=DATE:20130610
DTSTAMP:20260421T210810
CREATED:20230904T093408Z
LAST-MODIFIED:20230904T093408Z
UID:17722-1370736000-1370822399@orionis.nl
SUMMARY:Natte Sectie Dag
DESCRIPTION:
URL:https://orionis.nl/event/natte-sectie-dag-22/
END:VEVENT
BEGIN:VEVENT
DTSTART;VALUE=DATE:20130608
DTEND;VALUE=DATE:20130609
DTSTAMP:20260421T210810
CREATED:20230904T093334Z
LAST-MODIFIED:20230904T093355Z
UID:17701-1370649600-1370735999@orionis.nl
SUMMARY:Oud Besturen Dag
DESCRIPTION:
URL:https://orionis.nl/event/oud-besturen-dag-4/
END:VEVENT
BEGIN:VEVENT
DTSTART;VALUE=DATE:20130607
DTEND;VALUE=DATE:20130608
DTSTAMP:20260421T210810
CREATED:20230904T093431Z
LAST-MODIFIED:20230904T093431Z
UID:17741-1370563200-1370649599@orionis.nl
SUMMARY:Cocktailfeest
DESCRIPTION:
URL:https://orionis.nl/event/cocktailfeest-19/
END:VEVENT
BEGIN:VEVENT
DTSTART;VALUE=DATE:20130605
DTEND;VALUE=DATE:20130606
DTSTAMP:20260421T210810
CREATED:20230904T094214Z
LAST-MODIFIED:20230904T144127Z
UID:18233-1370390400-1370476799@orionis.nl
SUMMARY:Borrel
DESCRIPTION:Gezellig borrel op woensdag in de Heilige Zeug. Bekijk onze facebook\, voor eventuele ludieke drankacties of diesen.
URL:https://orionis.nl/event/borrel-1628/
END:VEVENT
BEGIN:VEVENT
DTSTART;VALUE=DATE:20130605
DTEND;VALUE=DATE:20130606
DTSTAMP:20260421T210810
CREATED:20230904T093409Z
LAST-MODIFIED:20230904T093409Z
UID:17725-1370390400-1370476799@orionis.nl
SUMMARY:Grachtenbarbecue
DESCRIPTION:
URL:https://orionis.nl/event/grachtenbarbecue-9/
END:VEVENT
BEGIN:VEVENT
DTSTART;VALUE=DATE:20130605
DTEND;VALUE=DATE:20130606
DTSTAMP:20260421T210810
CREATED:20230904T093351Z
LAST-MODIFIED:20230904T093402Z
UID:17712-1370390400-1370476799@orionis.nl
SUMMARY:Jaarclubborrel
DESCRIPTION:
URL:https://orionis.nl/event/jaarclubborrel-7/
END:VEVENT
BEGIN:VEVENT
DTSTART;VALUE=DATE:20130604
DTEND;VALUE=DATE:20130605
DTSTAMP:20260421T210810
CREATED:20230904T161631Z
LAST-MODIFIED:20230904T161631Z
UID:18890-1370304000-1370390399@orionis.nl
SUMMARY:Spreekuur
DESCRIPTION:
URL:https://orionis.nl/event/spreekuur-355/
END:VEVENT
BEGIN:VEVENT
DTSTART;VALUE=DATE:20130601
DTEND;VALUE=DATE:20130602
DTSTAMP:20260421T210810
CREATED:20230904T093527Z
LAST-MODIFIED:20230904T093552Z
UID:17787-1370044800-1370131199@orionis.nl
SUMMARY:OCK
DESCRIPTION:
URL:https://orionis.nl/event/ock-10/
END:VEVENT
BEGIN:VEVENT
DTSTART;VALUE=DATE:20130529
DTEND;VALUE=DATE:20130530
DTSTAMP:20260421T210810
CREATED:20230904T094214Z
LAST-MODIFIED:20230904T144127Z
UID:18232-1369785600-1369871999@orionis.nl
SUMMARY:Borrel
DESCRIPTION:Gezellig borrel op woensdag in de Heilige Zeug. Bekijk onze facebook\, voor eventuele ludieke drankacties of diesen.
URL:https://orionis.nl/event/borrel-1627/
END:VEVENT
BEGIN:VEVENT
DTSTART;VALUE=DATE:20130528
DTEND;VALUE=DATE:20130529
DTSTAMP:20260421T210810
CREATED:20230904T161630Z
LAST-MODIFIED:20230904T161630Z
UID:18889-1369699200-1369785599@orionis.nl
SUMMARY:Spreekuur
DESCRIPTION:
URL:https://orionis.nl/event/spreekuur-354/
END:VEVENT
END:VCALENDAR