BEGIN:VCALENDAR
VERSION:2.0
PRODID:-//Orionis - ECPv6.15.16.1//NONSGML v1.0//EN
CALSCALE:GREGORIAN
METHOD:PUBLISH
X-WR-CALNAME:Orionis
X-ORIGINAL-URL:https://orionis.nl
X-WR-CALDESC:Evenementen voor Orionis
REFRESH-INTERVAL;VALUE=DURATION:PT1H
X-Robots-Tag:noindex
X-PUBLISHED-TTL:PT1H
BEGIN:VTIMEZONE
TZID:UTC
BEGIN:STANDARD
TZOFFSETFROM:+0000
TZOFFSETTO:+0000
TZNAME:UTC
DTSTART:20110101T000000
END:STANDARD
END:VTIMEZONE
BEGIN:VEVENT
DTSTART;VALUE=DATE:20120416
DTEND;VALUE=DATE:20120417
DTSTAMP:20260421T230938
CREATED:20230904T093648Z
LAST-MODIFIED:20230904T093659Z
UID:17856-1334534400-1334620799@orionis.nl
SUMMARY:Drift-Scepter feest
DESCRIPTION:
URL:https://orionis.nl/event/drift-scepter-feest-4/
END:VEVENT
BEGIN:VEVENT
DTSTART;VALUE=DATE:20120411
DTEND;VALUE=DATE:20120412
DTSTAMP:20260421T230938
CREATED:20230904T094112Z
LAST-MODIFIED:20230904T143624Z
UID:18148-1334102400-1334188799@orionis.nl
SUMMARY:Borrel
DESCRIPTION:Gezellig borrel op woensdag in de Heilige Zeug. Bekijk onze facebook\, voor eventuele ludieke drankacties of diesen.
URL:https://orionis.nl/event/borrel-1583/
END:VEVENT
BEGIN:VEVENT
DTSTART;VALUE=DATE:20120410
DTEND;VALUE=DATE:20120411
DTSTAMP:20260421T230938
CREATED:20230904T161406Z
LAST-MODIFIED:20230904T161406Z
UID:18846-1334016000-1334102399@orionis.nl
SUMMARY:Spreekuur
DESCRIPTION:
URL:https://orionis.nl/event/spreekuur-323/
END:VEVENT
BEGIN:VEVENT
DTSTART;VALUE=DATE:20120406
DTEND;VALUE=DATE:20120410
DTSTAMP:20260421T230938
CREATED:20230904T093757Z
LAST-MODIFIED:20230904T093810Z
UID:17931-1333670400-1334015999@orionis.nl
SUMMARY:MOS
DESCRIPTION:
URL:https://orionis.nl/event/mos-8/
END:VEVENT
BEGIN:VEVENT
DTSTART;VALUE=DATE:20120406
DTEND;VALUE=DATE:20120410
DTSTAMP:20260421T230938
CREATED:20230904T093640Z
LAST-MODIFIED:20230904T093640Z
UID:17846-1333670400-1334015999@orionis.nl
SUMMARY:Scherp Weekend
DESCRIPTION:
URL:https://orionis.nl/event/scherp-weekend-4/
END:VEVENT
BEGIN:VEVENT
DTSTART;VALUE=DATE:20120404
DTEND;VALUE=DATE:20120405
DTSTAMP:20260421T230938
CREATED:20230904T094112Z
LAST-MODIFIED:20230904T143624Z
UID:18147-1333497600-1333583999@orionis.nl
SUMMARY:Borrel
DESCRIPTION:Gezellig borrel op woensdag in de Heilige Zeug. Bekijk onze facebook\, voor eventuele ludieke drankacties of diesen.
URL:https://orionis.nl/event/borrel-1582/
END:VEVENT
BEGIN:VEVENT
DTSTART;VALUE=DATE:20120403
DTEND;VALUE=DATE:20120404
DTSTAMP:20260421T230938
CREATED:20230904T161405Z
LAST-MODIFIED:20230904T161405Z
UID:18845-1333411200-1333497599@orionis.nl
SUMMARY:Spreekuur
DESCRIPTION:
URL:https://orionis.nl/event/spreekuur-322/
END:VEVENT
BEGIN:VEVENT
DTSTART;VALUE=DATE:20120328
DTEND;VALUE=DATE:20120329
DTSTAMP:20260421T230938
CREATED:20230904T094111Z
LAST-MODIFIED:20230904T143624Z
UID:18146-1332892800-1332979199@orionis.nl
SUMMARY:Borrel
DESCRIPTION:Gezellig borrel op woensdag in de Heilige Zeug. Bekijk onze facebook\, voor eventuele ludieke drankacties of diesen.
URL:https://orionis.nl/event/borrel-1581/
END:VEVENT
BEGIN:VEVENT
DTSTART;VALUE=DATE:20120327
DTEND;VALUE=DATE:20120328
DTSTAMP:20260421T230938
CREATED:20230904T161405Z
LAST-MODIFIED:20230904T161405Z
UID:18844-1332806400-1332892799@orionis.nl
SUMMARY:Spreekuur
DESCRIPTION:
URL:https://orionis.nl/event/spreekuur-321/
END:VEVENT
BEGIN:VEVENT
DTSTART;VALUE=DATE:20120323
DTEND;VALUE=DATE:20120326
DTSTAMP:20260421T230938
CREATED:20230904T093757Z
LAST-MODIFIED:20230904T093810Z
UID:17932-1332460800-1332719999@orionis.nl
SUMMARY:Maartmonsterweekend
DESCRIPTION:
URL:https://orionis.nl/event/maartmonsterweekend-26/
END:VEVENT
BEGIN:VEVENT
DTSTART;VALUE=DATE:20120321
DTEND;VALUE=DATE:20120322
DTSTAMP:20260421T230938
CREATED:20230904T094109Z
LAST-MODIFIED:20230904T143624Z
UID:18145-1332288000-1332374399@orionis.nl
SUMMARY:Borrel
DESCRIPTION:Gezellig borrel op woensdag in de Heilige Zeug. Bekijk onze facebook\, voor eventuele ludieke drankacties of diesen.
URL:https://orionis.nl/event/borrel-1580/
END:VEVENT
BEGIN:VEVENT
DTSTART;VALUE=DATE:20120321
DTEND;VALUE=DATE:20120322
DTSTAMP:20260421T230938
CREATED:20230904T093655Z
LAST-MODIFIED:20230904T093703Z
UID:17861-1332288000-1332374399@orionis.nl
SUMMARY:Gescheiden diner
DESCRIPTION:
URL:https://orionis.nl/event/gescheiden-diner-17/
END:VEVENT
BEGIN:VEVENT
DTSTART;VALUE=DATE:20120320
DTEND;VALUE=DATE:20120321
DTSTAMP:20260421T230938
CREATED:20230904T161351Z
LAST-MODIFIED:20230904T161351Z
UID:18843-1332201600-1332287999@orionis.nl
SUMMARY:Spreekuur
DESCRIPTION:
URL:https://orionis.nl/event/spreekuur-320/
END:VEVENT
BEGIN:VEVENT
DTSTART;VALUE=DATE:20120319
DTEND;VALUE=DATE:20120320
DTSTAMP:20260421T230938
CREATED:20230904T093649Z
LAST-MODIFIED:20230904T093659Z
UID:17860-1332115200-1332201599@orionis.nl
SUMMARY:Filmavond
DESCRIPTION:
URL:https://orionis.nl/event/filmavond-4/
END:VEVENT
BEGIN:VEVENT
DTSTART;VALUE=DATE:20120314
DTEND;VALUE=DATE:20120315
DTSTAMP:20260421T230938
CREATED:20230904T093648Z
LAST-MODIFIED:20230904T093659Z
UID:17857-1331683200-1331769599@orionis.nl
SUMMARY:Themaborrel
DESCRIPTION:Vanavond zal JC Boegbeeld zorgen voor een speciale borrel\, met een mooi thema. Meer info volgt zodra deze dag steeds dichterbij komt!
URL:https://orionis.nl/event/themaborrel-4/
END:VEVENT
BEGIN:VEVENT
DTSTART;VALUE=DATE:20120314
DTEND;VALUE=DATE:20120315
DTSTAMP:20260421T230938
CREATED:20230904T075822Z
LAST-MODIFIED:20230904T075829Z
UID:16751-1331683200-1331769599@orionis.nl
SUMMARY:Borrel
DESCRIPTION:Gezellig borrel op woensdag in de Heilige Zeug. Bekijk onze facebook\, voor eventuele ludieke drankacties of diesen.
URL:https://orionis.nl/event/borrel-1568/
END:VEVENT
BEGIN:VEVENT
DTSTART;VALUE=DATE:20120313
DTEND;VALUE=DATE:20120314
DTSTAMP:20260421T230938
CREATED:20230904T161351Z
LAST-MODIFIED:20230904T161351Z
UID:18842-1331596800-1331683199@orionis.nl
SUMMARY:Spreekuur
DESCRIPTION:
URL:https://orionis.nl/event/spreekuur-319/
END:VEVENT
BEGIN:VEVENT
DTSTART;VALUE=DATE:20120312
DTEND;VALUE=DATE:20120313
DTSTAMP:20260421T230938
CREATED:20230904T093713Z
LAST-MODIFIED:20230904T093713Z
UID:17886-1331510400-1331596799@orionis.nl
SUMMARY:Drift Dies
DESCRIPTION:
URL:https://orionis.nl/event/drift-dies-44/
END:VEVENT
BEGIN:VEVENT
DTSTART;VALUE=DATE:20120307
DTEND;VALUE=DATE:20120308
DTSTAMP:20260421T230938
CREATED:20230904T093641Z
LAST-MODIFIED:20230904T093641Z
UID:17849-1331078400-1331164799@orionis.nl
SUMMARY:Trefbalborrel
DESCRIPTION:
URL:https://orionis.nl/event/trefbalborrel-4/
END:VEVENT
BEGIN:VEVENT
DTSTART;VALUE=DATE:20120307
DTEND;VALUE=DATE:20120308
DTSTAMP:20260421T230938
CREATED:20230904T075822Z
LAST-MODIFIED:20230904T075829Z
UID:16752-1331078400-1331164799@orionis.nl
SUMMARY:Borrel
DESCRIPTION:Gezellig borrel op woensdag in de Heilige Zeug. Bekijk onze facebook\, voor eventuele ludieke drankacties of diesen.
URL:https://orionis.nl/event/borrel-1569/
END:VEVENT
BEGIN:VEVENT
DTSTART;VALUE=DATE:20120306
DTEND;VALUE=DATE:20120307
DTSTAMP:20260421T230938
CREATED:20230904T161351Z
LAST-MODIFIED:20230904T161351Z
UID:18841-1330992000-1331078399@orionis.nl
SUMMARY:Spreekuur
DESCRIPTION:
URL:https://orionis.nl/event/spreekuur-318/
END:VEVENT
BEGIN:VEVENT
DTSTART;VALUE=DATE:20120302
DTEND;VALUE=DATE:20120312
DTSTAMP:20260421T230938
CREATED:20230904T093713Z
LAST-MODIFIED:20230904T093713Z
UID:17887-1330646400-1331510399@orionis.nl
SUMMARY:Wintersport
DESCRIPTION:
URL:https://orionis.nl/event/wintersport-47/
END:VEVENT
BEGIN:VEVENT
DTSTART;VALUE=DATE:20120229
DTEND;VALUE=DATE:20120301
DTSTAMP:20260421T230938
CREATED:20230904T093646Z
LAST-MODIFIED:20230904T093646Z
UID:17855-1330473600-1330559999@orionis.nl
SUMMARY:Zout Pubquiz
DESCRIPTION:
URL:https://orionis.nl/event/zout-pubquiz-26/
END:VEVENT
BEGIN:VEVENT
DTSTART;VALUE=DATE:20120229
DTEND;VALUE=DATE:20120301
DTSTAMP:20260421T230938
CREATED:20230904T075823Z
LAST-MODIFIED:20230904T075830Z
UID:16753-1330473600-1330559999@orionis.nl
SUMMARY:Borrel
DESCRIPTION:Gezellig borrel op woensdag in de Heilige Zeug. Bekijk onze facebook\, voor eventuele ludieke drankacties of diesen.
URL:https://orionis.nl/event/borrel-1570/
END:VEVENT
BEGIN:VEVENT
DTSTART;VALUE=DATE:20120228
DTEND;VALUE=DATE:20120229
DTSTAMP:20260421T230938
CREATED:20230904T161350Z
LAST-MODIFIED:20230904T161350Z
UID:18840-1330387200-1330473599@orionis.nl
SUMMARY:Spreekuur
DESCRIPTION:
URL:https://orionis.nl/event/spreekuur-317/
END:VEVENT
BEGIN:VEVENT
DTSTART;VALUE=DATE:20120227
DTEND;VALUE=DATE:20120228
DTSTAMP:20260421T230938
CREATED:20230904T093645Z
LAST-MODIFIED:20230904T093645Z
UID:17854-1330300800-1330387199@orionis.nl
SUMMARY:Undara Dies
DESCRIPTION:
URL:https://orionis.nl/event/undara-dies-45/
END:VEVENT
BEGIN:VEVENT
DTSTART;VALUE=DATE:20120222
DTEND;VALUE=DATE:20120223
DTSTAMP:20260421T230938
CREATED:20230904T075840Z
LAST-MODIFIED:20230904T075853Z
UID:16764-1329868800-1329955199@orionis.nl
SUMMARY:Borrel
DESCRIPTION:Gezellig borrel op woensdag in de Heilige Zeug. Bekijk onze facebook\, voor eventuele ludieke drankacties of diesen.
URL:https://orionis.nl/event/borrel-1571/
END:VEVENT
BEGIN:VEVENT
DTSTART;VALUE=DATE:20120221
DTEND;VALUE=DATE:20120222
DTSTAMP:20260421T230938
CREATED:20230904T093656Z
LAST-MODIFIED:20230904T093703Z
UID:17865-1329782400-1329868799@orionis.nl
SUMMARY:ALV Februari
DESCRIPTION:
URL:https://orionis.nl/event/alv-februari-7/
END:VEVENT
BEGIN:VEVENT
DTSTART;VALUE=DATE:20120217
DTEND;VALUE=DATE:20120218
DTSTAMP:20260421T230938
CREATED:20230904T093655Z
LAST-MODIFIED:20230904T093703Z
UID:17863-1329436800-1329523199@orionis.nl
SUMMARY:Scepter Dies
DESCRIPTION:
URL:https://orionis.nl/event/scepter-dies-41/
END:VEVENT
BEGIN:VEVENT
DTSTART;VALUE=DATE:20120215
DTEND;VALUE=DATE:20120216
DTSTAMP:20260421T230938
CREATED:20230904T094108Z
LAST-MODIFIED:20230904T143423Z
UID:18144-1329264000-1329350399@orionis.nl
SUMMARY:Borrel
DESCRIPTION:Gezellig borrel op woensdag in de Heilige Zeug. Bekijk onze facebook\, voor eventuele ludieke drankacties of diesen.
URL:https://orionis.nl/event/borrel-1579/
END:VEVENT
END:VCALENDAR