BEGIN:VCALENDAR
VERSION:2.0
PRODID:-//Orionis - ECPv6.15.16.1//NONSGML v1.0//EN
CALSCALE:GREGORIAN
METHOD:PUBLISH
X-WR-CALNAME:Orionis
X-ORIGINAL-URL:https://orionis.nl
X-WR-CALDESC:Evenementen voor Orionis
REFRESH-INTERVAL;VALUE=DURATION:PT1H
X-Robots-Tag:noindex
X-PUBLISHED-TTL:PT1H
BEGIN:VTIMEZONE
TZID:UTC
BEGIN:STANDARD
TZOFFSETFROM:+0000
TZOFFSETTO:+0000
TZNAME:UTC
DTSTART:20110101T000000
END:STANDARD
END:VTIMEZONE
BEGIN:VEVENT
DTSTART;VALUE=DATE:20120529
DTEND;VALUE=DATE:20120530
DTSTAMP:20260422T013640
CREATED:20230904T161421Z
LAST-MODIFIED:20230904T161421Z
UID:18853-1338249600-1338335999@orionis.nl
SUMMARY:Spreekuur
DESCRIPTION:
URL:https://orionis.nl/event/spreekuur-330/
END:VEVENT
BEGIN:VEVENT
DTSTART;VALUE=DATE:20120525
DTEND;VALUE=DATE:20120529
DTSTAMP:20260422T013640
CREATED:20230904T093741Z
LAST-MODIFIED:20230904T093755Z
UID:17923-1337904000-1338249599@orionis.nl
SUMMARY:SLAK
DESCRIPTION:
URL:https://orionis.nl/event/slak-42/
END:VEVENT
BEGIN:VEVENT
DTSTART;VALUE=DATE:20120523
DTEND;VALUE=DATE:20120524
DTSTAMP:20260422T013640
CREATED:20230904T094116Z
LAST-MODIFIED:20230904T143826Z
UID:18154-1337731200-1337817599@orionis.nl
SUMMARY:Borrel
DESCRIPTION:Gezellig borrel op woensdag in de Heilige Zeug. Bekijk onze facebook\, voor eventuele ludieke drankacties of diesen.
URL:https://orionis.nl/event/borrel-1589/
END:VEVENT
BEGIN:VEVENT
DTSTART;VALUE=DATE:20120522
DTEND;VALUE=DATE:20120523
DTSTAMP:20260422T013640
CREATED:20230904T161421Z
LAST-MODIFIED:20230904T161421Z
UID:18852-1337644800-1337731199@orionis.nl
SUMMARY:Spreekuur
DESCRIPTION:
URL:https://orionis.nl/event/spreekuur-329/
END:VEVENT
BEGIN:VEVENT
DTSTART;VALUE=DATE:20120521
DTEND;VALUE=DATE:20120522
DTSTAMP:20260422T013640
CREATED:20230904T093648Z
LAST-MODIFIED:20230904T093659Z
UID:17859-1337558400-1337644799@orionis.nl
SUMMARY:Boeien Dies
DESCRIPTION:
URL:https://orionis.nl/event/boeien-dies-36/
END:VEVENT
BEGIN:VEVENT
DTSTART;VALUE=DATE:20120516
DTEND;VALUE=DATE:20120521
DTSTAMP:20260422T013640
CREATED:20230904T093741Z
LAST-MODIFIED:20230904T093755Z
UID:17924-1337126400-1337558399@orionis.nl
SUMMARY:InstrukCie Hemelvaartweekend
DESCRIPTION:
URL:https://orionis.nl/event/instrukcie-hemelvaartweekend-4/
END:VEVENT
BEGIN:VEVENT
DTSTART;VALUE=DATE:20120516
DTEND;VALUE=DATE:20120517
DTSTAMP:20260422T013640
CREATED:20230904T094116Z
LAST-MODIFIED:20230904T143826Z
UID:18153-1337126400-1337212799@orionis.nl
SUMMARY:Borrel
DESCRIPTION:Gezellig borrel op woensdag in de Heilige Zeug. Bekijk onze facebook\, voor eventuele ludieke drankacties of diesen.
URL:https://orionis.nl/event/borrel-1588/
END:VEVENT
BEGIN:VEVENT
DTSTART;VALUE=DATE:20120515
DTEND;VALUE=DATE:20120516
DTSTAMP:20260422T013640
CREATED:20230904T161421Z
LAST-MODIFIED:20230904T161421Z
UID:18851-1337040000-1337126399@orionis.nl
SUMMARY:Spreekuur
DESCRIPTION:
URL:https://orionis.nl/event/spreekuur-328/
END:VEVENT
BEGIN:VEVENT
DTSTART;VALUE=DATE:20120514
DTEND;VALUE=DATE:20120515
DTSTAMP:20260422T013640
CREATED:20230904T093645Z
LAST-MODIFIED:20230904T093645Z
UID:17851-1336953600-1337039999@orionis.nl
SUMMARY:Comedy Night
DESCRIPTION:
URL:https://orionis.nl/event/comedy-night-12/
END:VEVENT
BEGIN:VEVENT
DTSTART;VALUE=DATE:20120509
DTEND;VALUE=DATE:20120510
DTSTAMP:20260422T013640
CREATED:20230904T094115Z
LAST-MODIFIED:20230904T143826Z
UID:18152-1336521600-1336607999@orionis.nl
SUMMARY:Borrel
DESCRIPTION:Gezellig borrel op woensdag in de Heilige Zeug. Bekijk onze facebook\, voor eventuele ludieke drankacties of diesen.
URL:https://orionis.nl/event/borrel-1587/
END:VEVENT
BEGIN:VEVENT
DTSTART;VALUE=DATE:20120508
DTEND;VALUE=DATE:20120509
DTSTAMP:20260422T013640
CREATED:20230904T161421Z
LAST-MODIFIED:20230904T161421Z
UID:18850-1336435200-1336521599@orionis.nl
SUMMARY:Spreekuur
DESCRIPTION:
URL:https://orionis.nl/event/spreekuur-327/
END:VEVENT
BEGIN:VEVENT
DTSTART;VALUE=DATE:20120507
DTEND;VALUE=DATE:20120508
DTSTAMP:20260422T013640
CREATED:20230904T093645Z
LAST-MODIFIED:20230904T093645Z
UID:17852-1336348800-1336435199@orionis.nl
SUMMARY:Fock Dies
DESCRIPTION:
URL:https://orionis.nl/event/fock-dies-37/
END:VEVENT
BEGIN:VEVENT
DTSTART;VALUE=DATE:20120504
DTEND;VALUE=DATE:20120507
DTSTAMP:20260422T013640
CREATED:20230904T093658Z
LAST-MODIFIED:20230904T093706Z
UID:17867-1336089600-1336348799@orionis.nl
SUMMARY:CMW (Zout)
DESCRIPTION:
URL:https://orionis.nl/event/cmw-zout-5/
END:VEVENT
BEGIN:VEVENT
DTSTART;VALUE=DATE:20120502
DTEND;VALUE=DATE:20120503
DTSTAMP:20260422T013640
CREATED:20230904T094115Z
LAST-MODIFIED:20230904T143826Z
UID:18151-1335916800-1336003199@orionis.nl
SUMMARY:Borrel
DESCRIPTION:Gezellig borrel op woensdag in de Heilige Zeug. Bekijk onze facebook\, voor eventuele ludieke drankacties of diesen.
URL:https://orionis.nl/event/borrel-1586/
END:VEVENT
BEGIN:VEVENT
DTSTART;VALUE=DATE:20120501
DTEND;VALUE=DATE:20120502
DTSTAMP:20260422T013640
CREATED:20230904T161420Z
LAST-MODIFIED:20230904T161420Z
UID:18849-1335830400-1335916799@orionis.nl
SUMMARY:Spreekuur
DESCRIPTION:
URL:https://orionis.nl/event/spreekuur-326/
END:VEVENT
BEGIN:VEVENT
DTSTART;VALUE=DATE:20120428
DTEND;VALUE=DATE:20120429
DTSTAMP:20260422T013640
CREATED:20230904T093641Z
LAST-MODIFIED:20230904T093641Z
UID:17850-1335571200-1335657599@orionis.nl
SUMMARY:Bootje\, biertje\, bbq'tje @ Sloterplas
DESCRIPTION:
URL:https://orionis.nl/event/bootje-biertje-bbqtje-sloterplas-4/
END:VEVENT
BEGIN:VEVENT
DTSTART;VALUE=DATE:20120425
DTEND;VALUE=DATE:20120426
DTSTAMP:20260422T013640
CREATED:20230904T094113Z
LAST-MODIFIED:20230904T143826Z
UID:18150-1335312000-1335398399@orionis.nl
SUMMARY:Borrel
DESCRIPTION:Gezellig borrel op woensdag in de Heilige Zeug. Bekijk onze facebook\, voor eventuele ludieke drankacties of diesen.
URL:https://orionis.nl/event/borrel-1585/
END:VEVENT
BEGIN:VEVENT
DTSTART;VALUE=DATE:20120424
DTEND;VALUE=DATE:20120425
DTSTAMP:20260422T013640
CREATED:20230904T161406Z
LAST-MODIFIED:20230904T161406Z
UID:18848-1335225600-1335311999@orionis.nl
SUMMARY:Spreekuur
DESCRIPTION:
URL:https://orionis.nl/event/spreekuur-325/
END:VEVENT
BEGIN:VEVENT
DTSTART;VALUE=DATE:20120423
DTEND;VALUE=DATE:20120424
DTSTAMP:20260422T013640
CREATED:20230904T093637Z
LAST-MODIFIED:20230904T093637Z
UID:17844-1335139200-1335225599@orionis.nl
SUMMARY:Vlotenpresentatie maart
DESCRIPTION:
URL:https://orionis.nl/event/vlotenpresentatie-maart-5/
END:VEVENT
BEGIN:VEVENT
DTSTART;VALUE=DATE:20120420
DTEND;VALUE=DATE:20120423
DTSTAMP:20260422T013640
CREATED:20230904T093741Z
LAST-MODIFIED:20230904T093755Z
UID:17925-1334880000-1335139199@orionis.nl
SUMMARY:KOZLAR
DESCRIPTION:
URL:https://orionis.nl/event/kozlar-35/
END:VEVENT
BEGIN:VEVENT
DTSTART;VALUE=DATE:20120418
DTEND;VALUE=DATE:20120419
DTSTAMP:20260422T013640
CREATED:20230904T094112Z
LAST-MODIFIED:20230904T143624Z
UID:18149-1334707200-1334793599@orionis.nl
SUMMARY:Borrel
DESCRIPTION:Gezellig borrel op woensdag in de Heilige Zeug. Bekijk onze facebook\, voor eventuele ludieke drankacties of diesen.
URL:https://orionis.nl/event/borrel-1584/
END:VEVENT
BEGIN:VEVENT
DTSTART;VALUE=DATE:20120418
DTEND;VALUE=DATE:20120419
DTSTAMP:20260422T013640
CREATED:20230904T093638Z
LAST-MODIFIED:20230904T093638Z
UID:17845-1334707200-1334793599@orionis.nl
SUMMARY:Jaarclubpresentatie Maart
DESCRIPTION:
URL:https://orionis.nl/event/jaarclubpresentatie-maart-3/
END:VEVENT
BEGIN:VEVENT
DTSTART;VALUE=DATE:20120417
DTEND;VALUE=DATE:20120418
DTSTAMP:20260422T013640
CREATED:20230904T161406Z
LAST-MODIFIED:20230904T161406Z
UID:18847-1334620800-1334707199@orionis.nl
SUMMARY:Spreekuur
DESCRIPTION:
URL:https://orionis.nl/event/spreekuur-324/
END:VEVENT
BEGIN:VEVENT
DTSTART;VALUE=DATE:20120416
DTEND;VALUE=DATE:20120417
DTSTAMP:20260422T013640
CREATED:20230904T093648Z
LAST-MODIFIED:20230904T093659Z
UID:17856-1334534400-1334620799@orionis.nl
SUMMARY:Drift-Scepter feest
DESCRIPTION:
URL:https://orionis.nl/event/drift-scepter-feest-4/
END:VEVENT
BEGIN:VEVENT
DTSTART;VALUE=DATE:20120411
DTEND;VALUE=DATE:20120412
DTSTAMP:20260422T013640
CREATED:20230904T094112Z
LAST-MODIFIED:20230904T143624Z
UID:18148-1334102400-1334188799@orionis.nl
SUMMARY:Borrel
DESCRIPTION:Gezellig borrel op woensdag in de Heilige Zeug. Bekijk onze facebook\, voor eventuele ludieke drankacties of diesen.
URL:https://orionis.nl/event/borrel-1583/
END:VEVENT
BEGIN:VEVENT
DTSTART;VALUE=DATE:20120410
DTEND;VALUE=DATE:20120411
DTSTAMP:20260422T013640
CREATED:20230904T161406Z
LAST-MODIFIED:20230904T161406Z
UID:18846-1334016000-1334102399@orionis.nl
SUMMARY:Spreekuur
DESCRIPTION:
URL:https://orionis.nl/event/spreekuur-323/
END:VEVENT
BEGIN:VEVENT
DTSTART;VALUE=DATE:20120406
DTEND;VALUE=DATE:20120410
DTSTAMP:20260422T013640
CREATED:20230904T093757Z
LAST-MODIFIED:20230904T093810Z
UID:17931-1333670400-1334015999@orionis.nl
SUMMARY:MOS
DESCRIPTION:
URL:https://orionis.nl/event/mos-8/
END:VEVENT
BEGIN:VEVENT
DTSTART;VALUE=DATE:20120406
DTEND;VALUE=DATE:20120410
DTSTAMP:20260422T013640
CREATED:20230904T093640Z
LAST-MODIFIED:20230904T093640Z
UID:17846-1333670400-1334015999@orionis.nl
SUMMARY:Scherp Weekend
DESCRIPTION:
URL:https://orionis.nl/event/scherp-weekend-4/
END:VEVENT
BEGIN:VEVENT
DTSTART;VALUE=DATE:20120404
DTEND;VALUE=DATE:20120405
DTSTAMP:20260422T013640
CREATED:20230904T094112Z
LAST-MODIFIED:20230904T143624Z
UID:18147-1333497600-1333583999@orionis.nl
SUMMARY:Borrel
DESCRIPTION:Gezellig borrel op woensdag in de Heilige Zeug. Bekijk onze facebook\, voor eventuele ludieke drankacties of diesen.
URL:https://orionis.nl/event/borrel-1582/
END:VEVENT
BEGIN:VEVENT
DTSTART;VALUE=DATE:20120403
DTEND;VALUE=DATE:20120404
DTSTAMP:20260422T013640
CREATED:20230904T161405Z
LAST-MODIFIED:20230904T161405Z
UID:18845-1333411200-1333497599@orionis.nl
SUMMARY:Spreekuur
DESCRIPTION:
URL:https://orionis.nl/event/spreekuur-322/
END:VEVENT
END:VCALENDAR