BEGIN:VCALENDAR
VERSION:2.0
PRODID:-//Orionis - ECPv6.15.16.1//NONSGML v1.0//EN
CALSCALE:GREGORIAN
METHOD:PUBLISH
X-WR-CALNAME:Orionis
X-ORIGINAL-URL:https://orionis.nl
X-WR-CALDESC:Evenementen voor Orionis
REFRESH-INTERVAL;VALUE=DURATION:PT1H
X-Robots-Tag:noindex
X-PUBLISHED-TTL:PT1H
BEGIN:VTIMEZONE
TZID:UTC
BEGIN:STANDARD
TZOFFSETFROM:+0000
TZOFFSETTO:+0000
TZNAME:UTC
DTSTART:20100101T000000
END:STANDARD
END:VTIMEZONE
BEGIN:VEVENT
DTSTART;VALUE=DATE:20110731
DTEND;VALUE=DATE:20110806
DTSTAMP:20260422T011004
CREATED:20230904T093844Z
LAST-MODIFIED:20230904T093905Z
UID:17987-1312070400-1312588799@orionis.nl
SUMMARY:Waddenweek
DESCRIPTION:
URL:https://orionis.nl/event/waddenweek-32/
END:VEVENT
BEGIN:VEVENT
DTSTART;VALUE=DATE:20110714
DTEND;VALUE=DATE:20110717
DTSTAMP:20260422T011004
CREATED:20230904T093841Z
LAST-MODIFIED:20230904T093851Z
UID:17981-1310601600-1310860799@orionis.nl
SUMMARY:Klusdagen Elisabeth
DESCRIPTION:
URL:https://orionis.nl/event/klusdagen-elisabeth-3/
END:VEVENT
BEGIN:VEVENT
DTSTART;VALUE=DATE:20110708
DTEND;VALUE=DATE:20110714
DTSTAMP:20260422T011004
CREATED:20230904T093844Z
LAST-MODIFIED:20230904T093905Z
UID:17988-1310083200-1310601599@orionis.nl
SUMMARY:Weekopleiding Skutsje (WOS)
DESCRIPTION:
URL:https://orionis.nl/event/weekopleiding-skutsje-wos-3/
END:VEVENT
BEGIN:VEVENT
DTSTART;VALUE=DATE:20110626
DTEND;VALUE=DATE:20110627
DTSTAMP:20260422T011004
CREATED:20230904T093928Z
LAST-MODIFIED:20230904T142216Z
UID:18044-1309046400-1309132799@orionis.nl
SUMMARY:WedCie Competitiedag
DESCRIPTION:
URL:https://orionis.nl/event/wedcie-competitiedag-5/
END:VEVENT
BEGIN:VEVENT
DTSTART;VALUE=DATE:20110624
DTEND;VALUE=DATE:20110625
DTSTAMP:20260422T011004
CREATED:20230904T093923Z
LAST-MODIFIED:20230904T142201Z
UID:18034-1308873600-1308959999@orionis.nl
SUMMARY:Cocktailfeest
DESCRIPTION:
URL:https://orionis.nl/event/cocktailfeest-21/
END:VEVENT
BEGIN:VEVENT
DTSTART;VALUE=DATE:20110622
DTEND;VALUE=DATE:20110624
DTSTAMP:20260422T011004
CREATED:20230904T161931Z
LAST-MODIFIED:20230904T161931Z
UID:18951-1308700800-1308873599@orionis.nl
SUMMARY:Borrel
DESCRIPTION:
URL:https://orionis.nl/event/borrel-2009/
END:VEVENT
BEGIN:VEVENT
DTSTART;VALUE=DATE:20110622
DTEND;VALUE=DATE:20110623
DTSTAMP:20260422T011004
CREATED:20230904T093842Z
LAST-MODIFIED:20230904T093851Z
UID:17983-1308700800-1308787199@orionis.nl
SUMMARY:Chiek whiskey borrel
DESCRIPTION:
URL:https://orionis.nl/event/chiek-whiskey-borrel-3/
END:VEVENT
BEGIN:VEVENT
DTSTART;VALUE=DATE:20110621
DTEND;VALUE=DATE:20110622
DTSTAMP:20260422T011004
CREATED:20230904T161831Z
LAST-MODIFIED:20230904T161831Z
UID:18933-1308614400-1308700799@orionis.nl
SUMMARY:Spreekuur Bestuur
DESCRIPTION:
URL:https://orionis.nl/event/spreekuur-bestuur-89/
END:VEVENT
BEGIN:VEVENT
DTSTART;VALUE=DATE:20110620
DTEND;VALUE=DATE:20110621
DTSTAMP:20260422T011004
CREATED:20230904T093842Z
LAST-MODIFIED:20230904T093851Z
UID:17984-1308528000-1308614399@orionis.nl
SUMMARY:Grachten BBQ RecreaCie
DESCRIPTION:
URL:https://orionis.nl/event/grachten-bbq-recreacie-3/
END:VEVENT
BEGIN:VEVENT
DTSTART;VALUE=DATE:20110616
DTEND;VALUE=DATE:20110617
DTSTAMP:20260422T011004
CREATED:20230904T093928Z
LAST-MODIFIED:20230904T142216Z
UID:18042-1308182400-1308268799@orionis.nl
SUMMARY:ALV Juni
DESCRIPTION:
URL:https://orionis.nl/event/alv-juni-3/
END:VEVENT
BEGIN:VEVENT
DTSTART;VALUE=DATE:20110615
DTEND;VALUE=DATE:20110617
DTSTAMP:20260422T011004
CREATED:20230904T161931Z
LAST-MODIFIED:20230904T161931Z
UID:18950-1308096000-1308268799@orionis.nl
SUMMARY:Borrel
DESCRIPTION:
URL:https://orionis.nl/event/borrel-2008/
END:VEVENT
BEGIN:VEVENT
DTSTART;VALUE=DATE:20110614
DTEND;VALUE=DATE:20110615
DTSTAMP:20260422T011004
CREATED:20230904T161831Z
LAST-MODIFIED:20230904T161831Z
UID:18932-1308009600-1308095999@orionis.nl
SUMMARY:Spreekuur Bestuur
DESCRIPTION:
URL:https://orionis.nl/event/spreekuur-bestuur-88/
END:VEVENT
BEGIN:VEVENT
DTSTART;VALUE=DATE:20110610
DTEND;VALUE=DATE:20110614
DTSTAMP:20260422T011004
CREATED:20230904T094033Z
LAST-MODIFIED:20230904T143006Z
UID:18105-1307664000-1308009599@orionis.nl
SUMMARY:Skutsje Lange Afstands Kampioenschap (SLAK)
DESCRIPTION:
URL:https://orionis.nl/event/skutsje-lange-afstands-kampioenschap-slak-3/
END:VEVENT
BEGIN:VEVENT
DTSTART;VALUE=DATE:20110608
DTEND;VALUE=DATE:20110610
DTSTAMP:20260422T011004
CREATED:20230904T161931Z
LAST-MODIFIED:20230904T161931Z
UID:18949-1307491200-1307663999@orionis.nl
SUMMARY:Borrel
DESCRIPTION:
URL:https://orionis.nl/event/borrel-2007/
END:VEVENT
BEGIN:VEVENT
DTSTART;VALUE=DATE:20110607
DTEND;VALUE=DATE:20110608
DTSTAMP:20260422T011004
CREATED:20230904T161831Z
LAST-MODIFIED:20230904T161831Z
UID:18931-1307404800-1307491199@orionis.nl
SUMMARY:Spreekuur Bestuur
DESCRIPTION:
URL:https://orionis.nl/event/spreekuur-bestuur-87/
END:VEVENT
BEGIN:VEVENT
DTSTART;VALUE=DATE:20110601
DTEND;VALUE=DATE:20110606
DTSTAMP:20260422T011004
CREATED:20230904T093925Z
LAST-MODIFIED:20230904T142211Z
UID:18037-1306886400-1307318399@orionis.nl
SUMMARY:InstrukCieweekend Hemelvaart
DESCRIPTION:
URL:https://orionis.nl/event/instrukcieweekend-hemelvaart-7/
END:VEVENT
BEGIN:VEVENT
DTSTART;VALUE=DATE:20110601
DTEND;VALUE=DATE:20110603
DTSTAMP:20260422T011004
CREATED:20230904T161917Z
LAST-MODIFIED:20230904T161917Z
UID:18948-1306886400-1307059199@orionis.nl
SUMMARY:Borrel
DESCRIPTION:
URL:https://orionis.nl/event/borrel-2006/
END:VEVENT
BEGIN:VEVENT
DTSTART;VALUE=DATE:20110531
DTEND;VALUE=DATE:20110601
DTSTAMP:20260422T011004
CREATED:20230904T161831Z
LAST-MODIFIED:20230904T161831Z
UID:18930-1306800000-1306886399@orionis.nl
SUMMARY:Spreekuur Bestuur
DESCRIPTION:
URL:https://orionis.nl/event/spreekuur-bestuur-86/
END:VEVENT
BEGIN:VEVENT
DTSTART;VALUE=DATE:20110528
DTEND;VALUE=DATE:20110530
DTSTAMP:20260422T011004
CREATED:20230904T093842Z
LAST-MODIFIED:20230904T093851Z
UID:17985-1306540800-1306713599@orionis.nl
SUMMARY:GNSK
DESCRIPTION:
URL:https://orionis.nl/event/gnsk-3/
END:VEVENT
BEGIN:VEVENT
DTSTART;VALUE=DATE:20110528
DTEND;VALUE=DATE:20110529
DTSTAMP:20260422T011004
CREATED:20230904T094010Z
LAST-MODIFIED:20230904T142630Z
UID:18084-1306540800-1306627199@orionis.nl
SUMMARY:Reünistenborrel
DESCRIPTION:
URL:https://orionis.nl/event/reunistenborrel-16/
END:VEVENT
BEGIN:VEVENT
DTSTART;VALUE=DATE:20110528
DTEND;VALUE=DATE:20110529
DTSTAMP:20260422T011004
CREATED:20230904T093925Z
LAST-MODIFIED:20230904T142211Z
UID:18036-1306540800-1306627199@orionis.nl
SUMMARY:Sirius activiteit
DESCRIPTION:
URL:https://orionis.nl/event/sirius-activiteit-12/
END:VEVENT
BEGIN:VEVENT
DTSTART;VALUE=DATE:20110525
DTEND;VALUE=DATE:20110527
DTSTAMP:20260422T011004
CREATED:20230904T161917Z
LAST-MODIFIED:20230904T161917Z
UID:18947-1306281600-1306454399@orionis.nl
SUMMARY:Borrel
DESCRIPTION:
URL:https://orionis.nl/event/borrel-2005/
END:VEVENT
BEGIN:VEVENT
DTSTART;VALUE=DATE:20110525
DTEND;VALUE=DATE:20110526
DTSTAMP:20260422T011004
CREATED:20230904T093916Z
LAST-MODIFIED:20230904T142158Z
UID:18021-1306281600-1306367999@orionis.nl
SUMMARY:Jaarclubvoorzittersoverleg
DESCRIPTION:
URL:https://orionis.nl/event/jaarclubvoorzittersoverleg-8/
END:VEVENT
BEGIN:VEVENT
DTSTART;VALUE=DATE:20110524
DTEND;VALUE=DATE:20110525
DTSTAMP:20260422T011004
CREATED:20230904T161830Z
LAST-MODIFIED:20230904T161830Z
UID:18929-1306195200-1306281599@orionis.nl
SUMMARY:Spreekuur Bestuur
DESCRIPTION:
URL:https://orionis.nl/event/spreekuur-bestuur-85/
END:VEVENT
BEGIN:VEVENT
DTSTART;VALUE=DATE:20110523
DTEND;VALUE=DATE:20110524
DTSTAMP:20260422T011004
CREATED:20230904T094009Z
LAST-MODIFIED:20230904T142630Z
UID:18083-1306108800-1306195199@orionis.nl
SUMMARY:Dies Fock
DESCRIPTION:
URL:https://orionis.nl/event/dies-fock-3/
END:VEVENT
BEGIN:VEVENT
DTSTART;VALUE=DATE:20110518
DTEND;VALUE=DATE:20110520
DTSTAMP:20260422T011004
CREATED:20230904T161916Z
LAST-MODIFIED:20230904T161916Z
UID:18946-1305676800-1305849599@orionis.nl
SUMMARY:Borrel
DESCRIPTION:
URL:https://orionis.nl/event/borrel-2004/
END:VEVENT
BEGIN:VEVENT
DTSTART;VALUE=DATE:20110518
DTEND;VALUE=DATE:20110519
DTSTAMP:20260422T011004
CREATED:20230904T093848Z
LAST-MODIFIED:20230904T093908Z
UID:17992-1305676800-1305763199@orionis.nl
SUMMARY:AOO De Heilige Zeug
DESCRIPTION:
URL:https://orionis.nl/event/aoo-de-heilige-zeug-3/
END:VEVENT
BEGIN:VEVENT
DTSTART;VALUE=DATE:20110517
DTEND;VALUE=DATE:20110518
DTSTAMP:20260422T011004
CREATED:20230904T161816Z
LAST-MODIFIED:20230904T161816Z
UID:18928-1305590400-1305676799@orionis.nl
SUMMARY:Spreekuur Bestuur
DESCRIPTION:
URL:https://orionis.nl/event/spreekuur-bestuur-84/
END:VEVENT
BEGIN:VEVENT
DTSTART;VALUE=DATE:20110516
DTEND;VALUE=DATE:20110517
DTSTAMP:20260422T011004
CREATED:20230904T093926Z
LAST-MODIFIED:20230904T142216Z
UID:18040-1305504000-1305590399@orionis.nl
SUMMARY:Dies Boeien
DESCRIPTION:
URL:https://orionis.nl/event/dies-boeien-3/
END:VEVENT
BEGIN:VEVENT
DTSTART;VALUE=DATE:20110511
DTEND;VALUE=DATE:20110513
DTSTAMP:20260422T011004
CREATED:20230904T093848Z
LAST-MODIFIED:20230904T093908Z
UID:17994-1305072000-1305244799@orionis.nl
SUMMARY:Bierestafette Borrel (BarCo)
DESCRIPTION:
URL:https://orionis.nl/event/bierestafette-borrel-barco-3/
END:VEVENT
END:VCALENDAR