BEGIN:VCALENDAR
VERSION:2.0
PRODID:-//Orionis - ECPv6.15.16.1//NONSGML v1.0//EN
CALSCALE:GREGORIAN
METHOD:PUBLISH
X-WR-CALNAME:Orionis
X-ORIGINAL-URL:https://orionis.nl
X-WR-CALDESC:Evenementen voor Orionis
REFRESH-INTERVAL;VALUE=DURATION:PT1H
X-Robots-Tag:noindex
X-PUBLISHED-TTL:PT1H
BEGIN:VTIMEZONE
TZID:UTC
BEGIN:STANDARD
TZOFFSETFROM:+0000
TZOFFSETTO:+0000
TZNAME:UTC
DTSTART:20100101T000000
END:STANDARD
END:VTIMEZONE
BEGIN:VEVENT
DTSTART;VALUE=DATE:20110919
DTEND;VALUE=DATE:20110920
DTSTAMP:20260422T010837
CREATED:20230904T093957Z
LAST-MODIFIED:20230904T142429Z
UID:18073-1316390400-1316476799@orionis.nl
SUMMARY:Commissiekroegentocht (MoCo)
DESCRIPTION:
URL:https://orionis.nl/event/commissiekroegentocht-moco-3/
END:VEVENT
BEGIN:VEVENT
DTSTART;VALUE=DATE:20110918
DTEND;VALUE=DATE:20110919
DTSTAMP:20260422T010837
CREATED:20230904T093844Z
LAST-MODIFIED:20230904T093905Z
UID:17986-1316304000-1316390399@orionis.nl
SUMMARY:SurfCie dag
DESCRIPTION:
URL:https://orionis.nl/event/surfcie-dag-3/
END:VEVENT
BEGIN:VEVENT
DTSTART;VALUE=DATE:20110914
DTEND;VALUE=DATE:20110916
DTSTAMP:20260422T010837
CREATED:20230904T091651Z
LAST-MODIFIED:20230904T091653Z
UID:17234-1315958400-1316131199@orionis.nl
SUMMARY:Open Borrel
DESCRIPTION:
URL:https://orionis.nl/event/open-borrel-203/
END:VEVENT
BEGIN:VEVENT
DTSTART;VALUE=DATE:20110914
DTEND;VALUE=DATE:20110915
DTSTAMP:20260422T010837
CREATED:20230904T093808Z
LAST-MODIFIED:20230904T093827Z
UID:17944-1315958400-1316044799@orionis.nl
SUMMARY:Sloterpleasure (MoCo)
DESCRIPTION:
URL:https://orionis.nl/event/sloterpleasure-moco-4/
END:VEVENT
BEGIN:VEVENT
DTSTART;VALUE=DATE:20110913
DTEND;VALUE=DATE:20110914
DTSTAMP:20260422T010837
CREATED:20230904T161206Z
LAST-MODIFIED:20230904T161206Z
UID:18807-1315872000-1315958399@orionis.nl
SUMMARY:Spreekuur Bestuur
DESCRIPTION:
URL:https://orionis.nl/event/spreekuur-bestuur-52/
END:VEVENT
BEGIN:VEVENT
DTSTART;VALUE=DATE:20110912
DTEND;VALUE=DATE:20110913
DTSTAMP:20260422T010837
CREATED:20230904T093944Z
LAST-MODIFIED:20230904T142429Z
UID:18065-1315785600-1315871999@orionis.nl
SUMMARY:Nautische Kroegentocht (MoCo)
DESCRIPTION:
URL:https://orionis.nl/event/nautische-kroegentocht-moco-3/
END:VEVENT
BEGIN:VEVENT
DTSTART;VALUE=DATE:20110907
DTEND;VALUE=DATE:20110908
DTSTAMP:20260422T010837
CREATED:20230904T093807Z
LAST-MODIFIED:20230904T093827Z
UID:17942-1315353600-1315439999@orionis.nl
SUMMARY:Captainvaartocht (MoCo)
DESCRIPTION:
URL:https://orionis.nl/event/captainvaartocht-moco-4/
END:VEVENT
BEGIN:VEVENT
DTSTART;VALUE=DATE:20110906
DTEND;VALUE=DATE:20110907
DTSTAMP:20260422T010837
CREATED:20230904T161206Z
LAST-MODIFIED:20230904T161206Z
UID:18806-1315267200-1315353599@orionis.nl
SUMMARY:Spreekuur Bestuur
DESCRIPTION:
URL:https://orionis.nl/event/spreekuur-bestuur-51/
END:VEVENT
BEGIN:VEVENT
DTSTART;VALUE=DATE:20110831
DTEND;VALUE=DATE:20110902
DTSTAMP:20260422T010837
CREATED:20230904T093801Z
LAST-MODIFIED:20230904T093824Z
UID:17939-1314748800-1314921599@orionis.nl
SUMMARY:Open Borrel
DESCRIPTION:
URL:https://orionis.nl/event/open-borrel-220/
END:VEVENT
BEGIN:VEVENT
DTSTART;VALUE=DATE:20110830
DTEND;VALUE=DATE:20110901
DTSTAMP:20260422T010837
CREATED:20230904T093807Z
LAST-MODIFIED:20230904T093827Z
UID:17941-1314662400-1314835199@orionis.nl
SUMMARY:Kroegentocht (Club NL)
DESCRIPTION:
URL:https://orionis.nl/event/kroegentocht-club-nl-4/
END:VEVENT
BEGIN:VEVENT
DTSTART;VALUE=DATE:20110830
DTEND;VALUE=DATE:20110901
DTSTAMP:20260422T010837
CREATED:20230904T093801Z
LAST-MODIFIED:20230904T093824Z
UID:17940-1314662400-1314835199@orionis.nl
SUMMARY:Intreeweekfeest (Club NL)
DESCRIPTION:
URL:https://orionis.nl/event/intreeweekfeest-club-nl-3/
END:VEVENT
BEGIN:VEVENT
DTSTART;VALUE=DATE:20110829
DTEND;VALUE=DATE:20110903
DTSTAMP:20260422T010837
CREATED:20230904T094028Z
LAST-MODIFIED:20230904T142951Z
UID:18100-1314576000-1315007999@orionis.nl
SUMMARY:Intreeweek
DESCRIPTION:
URL:https://orionis.nl/event/intreeweek-13/
END:VEVENT
BEGIN:VEVENT
DTSTART;VALUE=DATE:20110824
DTEND;VALUE=DATE:20110826
DTSTAMP:20260422T010837
CREATED:20230904T093917Z
LAST-MODIFIED:20230904T142201Z
UID:18025-1314144000-1314316799@orionis.nl
SUMMARY:Open Borrel
DESCRIPTION:
URL:https://orionis.nl/event/open-borrel-222/
END:VEVENT
BEGIN:VEVENT
DTSTART;VALUE=DATE:20110822
DTEND;VALUE=DATE:20110826
DTSTAMP:20260422T010837
CREATED:20230904T094023Z
LAST-MODIFIED:20230904T142831Z
UID:18092-1313971200-1314316799@orionis.nl
SUMMARY:IDEE-week
DESCRIPTION:
URL:https://orionis.nl/event/idee-week-24/
END:VEVENT
BEGIN:VEVENT
DTSTART;VALUE=DATE:20110820
DTEND;VALUE=DATE:20110821
DTSTAMP:20260422T010837
CREATED:20230904T093808Z
LAST-MODIFIED:20230904T093827Z
UID:17945-1313798400-1313884799@orionis.nl
SUMMARY:IFKS Lemmer
DESCRIPTION:
URL:https://orionis.nl/event/ifks-lemmer-12/
END:VEVENT
BEGIN:VEVENT
DTSTART;VALUE=DATE:20110819
DTEND;VALUE=DATE:20110820
DTSTAMP:20260422T010837
CREATED:20230904T093821Z
LAST-MODIFIED:20230904T093832Z
UID:17961-1313712000-1313798399@orionis.nl
SUMMARY:IFKS Lemmer
DESCRIPTION:
URL:https://orionis.nl/event/ifks-lemmer-13/
END:VEVENT
BEGIN:VEVENT
DTSTART;VALUE=DATE:20110818
DTEND;VALUE=DATE:20110819
DTSTAMP:20260422T010837
CREATED:20230904T093821Z
LAST-MODIFIED:20230904T093832Z
UID:17962-1313625600-1313711999@orionis.nl
SUMMARY:IFKS Echtenerbrug
DESCRIPTION:
URL:https://orionis.nl/event/ifks-echtenerbrug-9/
END:VEVENT
BEGIN:VEVENT
DTSTART;VALUE=DATE:20110817
DTEND;VALUE=DATE:20110819
DTSTAMP:20260422T010837
CREATED:20230904T093943Z
LAST-MODIFIED:20230904T142238Z
UID:18062-1313539200-1313711999@orionis.nl
SUMMARY:Eerste borrel na zomerreces
DESCRIPTION:
URL:https://orionis.nl/event/eerste-borrel-na-zomerreces-3/
END:VEVENT
BEGIN:VEVENT
DTSTART;VALUE=DATE:20110817
DTEND;VALUE=DATE:20110818
DTSTAMP:20260422T010837
CREATED:20230904T093822Z
LAST-MODIFIED:20230904T093832Z
UID:17963-1313539200-1313625599@orionis.nl
SUMMARY:IFKS Sloten
DESCRIPTION:
URL:https://orionis.nl/event/ifks-sloten-9/
END:VEVENT
BEGIN:VEVENT
DTSTART;VALUE=DATE:20110816
DTEND;VALUE=DATE:20110817
DTSTAMP:20260422T010837
CREATED:20230904T093822Z
LAST-MODIFIED:20230904T093832Z
UID:17964-1313452800-1313539199@orionis.nl
SUMMARY:IFKS Heeg
DESCRIPTION:
URL:https://orionis.nl/event/ifks-heeg-9/
END:VEVENT
BEGIN:VEVENT
DTSTART;VALUE=DATE:20110816
DTEND;VALUE=DATE:20110817
DTSTAMP:20260422T010837
CREATED:20230904T091651Z
LAST-MODIFIED:20230904T091653Z
UID:17231-1313452800-1313539199@orionis.nl
SUMMARY:Spreekuur Bestuur
DESCRIPTION:
URL:https://orionis.nl/event/spreekuur-bestuur-49/
END:VEVENT
BEGIN:VEVENT
DTSTART;VALUE=DATE:20110815
DTEND;VALUE=DATE:20110816
DTSTAMP:20260422T010837
CREATED:20230904T093822Z
LAST-MODIFIED:20230904T093832Z
UID:17965-1313366400-1313452799@orionis.nl
SUMMARY:IFKS Stavoren
DESCRIPTION:
URL:https://orionis.nl/event/ifks-stavoren-9/
END:VEVENT
BEGIN:VEVENT
DTSTART;VALUE=DATE:20110813
DTEND;VALUE=DATE:20110814
DTSTAMP:20260422T010837
CREATED:20230904T093835Z
LAST-MODIFIED:20230904T093837Z
UID:17971-1313193600-1313279999@orionis.nl
SUMMARY:IFKS Hindeloopen
DESCRIPTION:
URL:https://orionis.nl/event/ifks-hindeloopen-8/
END:VEVENT
BEGIN:VEVENT
DTSTART;VALUE=DATE:20110731
DTEND;VALUE=DATE:20110806
DTSTAMP:20260422T010837
CREATED:20230904T093844Z
LAST-MODIFIED:20230904T093905Z
UID:17987-1312070400-1312588799@orionis.nl
SUMMARY:Waddenweek
DESCRIPTION:
URL:https://orionis.nl/event/waddenweek-32/
END:VEVENT
BEGIN:VEVENT
DTSTART;VALUE=DATE:20110714
DTEND;VALUE=DATE:20110717
DTSTAMP:20260422T010837
CREATED:20230904T093841Z
LAST-MODIFIED:20230904T093851Z
UID:17981-1310601600-1310860799@orionis.nl
SUMMARY:Klusdagen Elisabeth
DESCRIPTION:
URL:https://orionis.nl/event/klusdagen-elisabeth-3/
END:VEVENT
BEGIN:VEVENT
DTSTART;VALUE=DATE:20110708
DTEND;VALUE=DATE:20110714
DTSTAMP:20260422T010837
CREATED:20230904T093844Z
LAST-MODIFIED:20230904T093905Z
UID:17988-1310083200-1310601599@orionis.nl
SUMMARY:Weekopleiding Skutsje (WOS)
DESCRIPTION:
URL:https://orionis.nl/event/weekopleiding-skutsje-wos-3/
END:VEVENT
BEGIN:VEVENT
DTSTART;VALUE=DATE:20110626
DTEND;VALUE=DATE:20110627
DTSTAMP:20260422T010837
CREATED:20230904T093928Z
LAST-MODIFIED:20230904T142216Z
UID:18044-1309046400-1309132799@orionis.nl
SUMMARY:WedCie Competitiedag
DESCRIPTION:
URL:https://orionis.nl/event/wedcie-competitiedag-5/
END:VEVENT
BEGIN:VEVENT
DTSTART;VALUE=DATE:20110624
DTEND;VALUE=DATE:20110625
DTSTAMP:20260422T010837
CREATED:20230904T093923Z
LAST-MODIFIED:20230904T142201Z
UID:18034-1308873600-1308959999@orionis.nl
SUMMARY:Cocktailfeest
DESCRIPTION:
URL:https://orionis.nl/event/cocktailfeest-21/
END:VEVENT
BEGIN:VEVENT
DTSTART;VALUE=DATE:20110622
DTEND;VALUE=DATE:20110624
DTSTAMP:20260422T010837
CREATED:20230904T161931Z
LAST-MODIFIED:20230904T161931Z
UID:18951-1308700800-1308873599@orionis.nl
SUMMARY:Borrel
DESCRIPTION:
URL:https://orionis.nl/event/borrel-2009/
END:VEVENT
BEGIN:VEVENT
DTSTART;VALUE=DATE:20110622
DTEND;VALUE=DATE:20110623
DTSTAMP:20260422T010837
CREATED:20230904T093842Z
LAST-MODIFIED:20230904T093851Z
UID:17983-1308700800-1308787199@orionis.nl
SUMMARY:Chiek whiskey borrel
DESCRIPTION:
URL:https://orionis.nl/event/chiek-whiskey-borrel-3/
END:VEVENT
END:VCALENDAR