BEGIN:VCALENDAR
VERSION:2.0
PRODID:-//Orionis - ECPv6.15.16.1//NONSGML v1.0//EN
CALSCALE:GREGORIAN
METHOD:PUBLISH
X-WR-CALNAME:Orionis
X-ORIGINAL-URL:https://orionis.nl
X-WR-CALDESC:Evenementen voor Orionis
REFRESH-INTERVAL;VALUE=DURATION:PT1H
X-Robots-Tag:noindex
X-PUBLISHED-TTL:PT1H
BEGIN:VTIMEZONE
TZID:UTC
BEGIN:STANDARD
TZOFFSETFROM:+0000
TZOFFSETTO:+0000
TZNAME:UTC
DTSTART:20100101T000000
END:STANDARD
END:VTIMEZONE
BEGIN:VEVENT
DTSTART;VALUE=DATE:20111029
DTEND;VALUE=DATE:20111030
DTSTAMP:20260422T025255
CREATED:20230904T093800Z
LAST-MODIFIED:20230904T093824Z
UID:17937-1319846400-1319932799@orionis.nl
SUMMARY:Schippersbedankdag (Verplaatst!!)
DESCRIPTION:
URL:https://orionis.nl/event/schippersbedankdag-verplaatst-3/
END:VEVENT
BEGIN:VEVENT
DTSTART;VALUE=DATE:20111026
DTEND;VALUE=DATE:20111028
DTSTAMP:20260422T025255
CREATED:20230904T161501Z
LAST-MODIFIED:20230904T161501Z
UID:18862-1319587200-1319759999@orionis.nl
SUMMARY:Borrel
DESCRIPTION:
URL:https://orionis.nl/event/borrel-1987/
END:VEVENT
BEGIN:VEVENT
DTSTART;VALUE=DATE:20111026
DTEND;VALUE=DATE:20111027
DTSTAMP:20260422T025255
CREATED:20230904T093835Z
LAST-MODIFIED:20230904T093837Z
UID:17972-1319587200-1319673599@orionis.nl
SUMMARY:Jaarclubvoorzittersoverleg
DESCRIPTION:
URL:https://orionis.nl/event/jaarclubvoorzittersoverleg-7/
END:VEVENT
BEGIN:VEVENT
DTSTART;VALUE=DATE:20111025
DTEND;VALUE=DATE:20111026
DTSTAMP:20260422T025255
CREATED:20230904T161221Z
LAST-MODIFIED:20230904T161221Z
UID:18813-1319500800-1319587199@orionis.nl
SUMMARY:Spreekuur Bestuur
DESCRIPTION:
URL:https://orionis.nl/event/spreekuur-bestuur-58/
END:VEVENT
BEGIN:VEVENT
DTSTART;VALUE=DATE:20111022
DTEND;VALUE=DATE:20111023
DTSTAMP:20260422T025255
CREATED:20230904T093929Z
LAST-MODIFIED:20230904T142238Z
UID:18045-1319241600-1319327999@orionis.nl
SUMMARY:Orionis Club Kampioenschap
DESCRIPTION:
URL:https://orionis.nl/event/orionis-club-kampioenschap-3/
END:VEVENT
BEGIN:VEVENT
DTSTART;VALUE=DATE:20111019
DTEND;VALUE=DATE:20111021
DTSTAMP:20260422T025255
CREATED:20230904T161501Z
LAST-MODIFIED:20230904T161501Z
UID:18861-1318982400-1319155199@orionis.nl
SUMMARY:Borrel
DESCRIPTION:
URL:https://orionis.nl/event/borrel-1986/
END:VEVENT
BEGIN:VEVENT
DTSTART;VALUE=DATE:20111019
DTEND;VALUE=DATE:20111020
DTSTAMP:20260422T025255
CREATED:20230904T093800Z
LAST-MODIFIED:20230904T093824Z
UID:17936-1318982400-1319068799@orionis.nl
SUMMARY:AOO Sancties
DESCRIPTION:
URL:https://orionis.nl/event/aoo-sancties-3/
END:VEVENT
BEGIN:VEVENT
DTSTART;VALUE=DATE:20111018
DTEND;VALUE=DATE:20111019
DTSTAMP:20260422T025255
CREATED:20230904T161221Z
LAST-MODIFIED:20230904T161221Z
UID:18812-1318896000-1318982399@orionis.nl
SUMMARY:Spreekuur Bestuur
DESCRIPTION:
URL:https://orionis.nl/event/spreekuur-bestuur-57/
END:VEVENT
BEGIN:VEVENT
DTSTART;VALUE=DATE:20111014
DTEND;VALUE=DATE:20111017
DTSTAMP:20260422T025255
CREATED:20230904T094032Z
LAST-MODIFIED:20230904T142951Z
UID:18102-1318550400-1318809599@orionis.nl
SUMMARY:InstrukCieweekend
DESCRIPTION:
URL:https://orionis.nl/event/instrukcieweekend-36/
END:VEVENT
BEGIN:VEVENT
DTSTART;VALUE=DATE:20111012
DTEND;VALUE=DATE:20111014
DTSTAMP:20260422T025255
CREATED:20230904T161501Z
LAST-MODIFIED:20230904T161501Z
UID:18860-1318377600-1318550399@orionis.nl
SUMMARY:Borrel
DESCRIPTION:
URL:https://orionis.nl/event/borrel-1985/
END:VEVENT
BEGIN:VEVENT
DTSTART;VALUE=DATE:20111012
DTEND;VALUE=DATE:20111013
DTSTAMP:20260422T025255
CREATED:20230904T093757Z
LAST-MODIFIED:20230904T093810Z
UID:17933-1318377600-1318463999@orionis.nl
SUMMARY:JC oprichtingseten
DESCRIPTION:
URL:https://orionis.nl/event/jc-oprichtingseten-22/
END:VEVENT
BEGIN:VEVENT
DTSTART;VALUE=DATE:20111011
DTEND;VALUE=DATE:20111012
DTSTAMP:20260422T025255
CREATED:20230904T161221Z
LAST-MODIFIED:20230904T161221Z
UID:18811-1318291200-1318377599@orionis.nl
SUMMARY:Spreekuur Bestuur
DESCRIPTION:
URL:https://orionis.nl/event/spreekuur-bestuur-56/
END:VEVENT
BEGIN:VEVENT
DTSTART;VALUE=DATE:20111010
DTEND;VALUE=DATE:20111011
DTSTAMP:20260422T025255
CREATED:20230904T093835Z
LAST-MODIFIED:20230904T093837Z
UID:17973-1318204800-1318291199@orionis.nl
SUMMARY:IntegraCieborrel
DESCRIPTION:
URL:https://orionis.nl/event/integracieborrel-9/
END:VEVENT
BEGIN:VEVENT
DTSTART;VALUE=DATE:20111007
DTEND;VALUE=DATE:20111010
DTSTAMP:20260422T025255
CREATED:20230904T094033Z
LAST-MODIFIED:20230904T142951Z
UID:18103-1317945600-1318204799@orionis.nl
SUMMARY:Opleidingsweekend Skutsje: BOS
DESCRIPTION:
URL:https://orionis.nl/event/opleidingsweekend-skutsje-bos-3/
END:VEVENT
BEGIN:VEVENT
DTSTART;VALUE=DATE:20111005
DTEND;VALUE=DATE:20111007
DTSTAMP:20260422T025255
CREATED:20230904T161500Z
LAST-MODIFIED:20230904T161500Z
UID:18859-1317772800-1317945599@orionis.nl
SUMMARY:Borrel
DESCRIPTION:
URL:https://orionis.nl/event/borrel-1984/
END:VEVENT
BEGIN:VEVENT
DTSTART;VALUE=DATE:20111004
DTEND;VALUE=DATE:20111005
DTSTAMP:20260422T025255
CREATED:20230904T161220Z
LAST-MODIFIED:20230904T161220Z
UID:18810-1317686400-1317772799@orionis.nl
SUMMARY:Spreekuur Bestuur
DESCRIPTION:
URL:https://orionis.nl/event/spreekuur-bestuur-55/
END:VEVENT
BEGIN:VEVENT
DTSTART;VALUE=DATE:20111003
DTEND;VALUE=DATE:20111004
DTSTAMP:20260422T025255
CREATED:20230904T093835Z
LAST-MODIFIED:20230904T093837Z
UID:17974-1317600000-1317686399@orionis.nl
SUMMARY:IntegraCieborrel
DESCRIPTION:
URL:https://orionis.nl/event/integracieborrel-10/
END:VEVENT
BEGIN:VEVENT
DTSTART;VALUE=DATE:20110929
DTEND;VALUE=DATE:20110930
DTSTAMP:20260422T025255
CREATED:20230904T093836Z
LAST-MODIFIED:20230904T093837Z
UID:17975-1317254400-1317340799@orionis.nl
SUMMARY:IntegraCie speeddate kroegentocht
DESCRIPTION:
URL:https://orionis.nl/event/integracie-speeddate-kroegentocht-5/
END:VEVENT
BEGIN:VEVENT
DTSTART;VALUE=DATE:20110928
DTEND;VALUE=DATE:20110930
DTSTAMP:20260422T025255
CREATED:20230904T161437Z
LAST-MODIFIED:20230904T161437Z
UID:18858-1317168000-1317340799@orionis.nl
SUMMARY:Borrel
DESCRIPTION:
URL:https://orionis.nl/event/borrel-1983/
END:VEVENT
BEGIN:VEVENT
DTSTART;VALUE=DATE:20110928
DTEND;VALUE=DATE:20110929
DTSTAMP:20260422T025255
CREATED:20230904T093807Z
LAST-MODIFIED:20230904T093827Z
UID:17943-1317168000-1317254399@orionis.nl
SUMMARY:Infoavond Zeilen (MoCo)
DESCRIPTION:
URL:https://orionis.nl/event/infoavond-zeilen-moco-4/
END:VEVENT
BEGIN:VEVENT
DTSTART;VALUE=DATE:20110927
DTEND;VALUE=DATE:20110928
DTSTAMP:20260422T025255
CREATED:20230904T161220Z
LAST-MODIFIED:20230904T161220Z
UID:18809-1317081600-1317167999@orionis.nl
SUMMARY:Spreekuur Bestuur
DESCRIPTION:
URL:https://orionis.nl/event/spreekuur-bestuur-54/
END:VEVENT
BEGIN:VEVENT
DTSTART;VALUE=DATE:20110923
DTEND;VALUE=DATE:20110926
DTSTAMP:20260422T025255
CREATED:20230904T094033Z
LAST-MODIFIED:20230904T142951Z
UID:18104-1316736000-1316995199@orionis.nl
SUMMARY:Monsterweekend
DESCRIPTION:
URL:https://orionis.nl/event/monsterweekend-38/
END:VEVENT
BEGIN:VEVENT
DTSTART;VALUE=DATE:20110921
DTEND;VALUE=DATE:20110923
DTSTAMP:20260422T025255
CREATED:20230904T161436Z
LAST-MODIFIED:20230904T161436Z
UID:18857-1316563200-1316735999@orionis.nl
SUMMARY:Borrel
DESCRIPTION:
URL:https://orionis.nl/event/borrel-1982/
END:VEVENT
BEGIN:VEVENT
DTSTART;VALUE=DATE:20110920
DTEND;VALUE=DATE:20110921
DTSTAMP:20260422T025255
CREATED:20230904T161206Z
LAST-MODIFIED:20230904T161206Z
UID:18808-1316476800-1316563199@orionis.nl
SUMMARY:Spreekuur Bestuur
DESCRIPTION:
URL:https://orionis.nl/event/spreekuur-bestuur-53/
END:VEVENT
BEGIN:VEVENT
DTSTART;VALUE=DATE:20110919
DTEND;VALUE=DATE:20110920
DTSTAMP:20260422T025255
CREATED:20230904T093957Z
LAST-MODIFIED:20230904T142429Z
UID:18073-1316390400-1316476799@orionis.nl
SUMMARY:Commissiekroegentocht (MoCo)
DESCRIPTION:
URL:https://orionis.nl/event/commissiekroegentocht-moco-3/
END:VEVENT
BEGIN:VEVENT
DTSTART;VALUE=DATE:20110918
DTEND;VALUE=DATE:20110919
DTSTAMP:20260422T025255
CREATED:20230904T093844Z
LAST-MODIFIED:20230904T093905Z
UID:17986-1316304000-1316390399@orionis.nl
SUMMARY:SurfCie dag
DESCRIPTION:
URL:https://orionis.nl/event/surfcie-dag-3/
END:VEVENT
BEGIN:VEVENT
DTSTART;VALUE=DATE:20110914
DTEND;VALUE=DATE:20110916
DTSTAMP:20260422T025255
CREATED:20230904T091651Z
LAST-MODIFIED:20230904T091653Z
UID:17234-1315958400-1316131199@orionis.nl
SUMMARY:Open Borrel
DESCRIPTION:
URL:https://orionis.nl/event/open-borrel-203/
END:VEVENT
BEGIN:VEVENT
DTSTART;VALUE=DATE:20110914
DTEND;VALUE=DATE:20110915
DTSTAMP:20260422T025255
CREATED:20230904T093808Z
LAST-MODIFIED:20230904T093827Z
UID:17944-1315958400-1316044799@orionis.nl
SUMMARY:Sloterpleasure (MoCo)
DESCRIPTION:
URL:https://orionis.nl/event/sloterpleasure-moco-4/
END:VEVENT
BEGIN:VEVENT
DTSTART;VALUE=DATE:20110913
DTEND;VALUE=DATE:20110914
DTSTAMP:20260422T025255
CREATED:20230904T161206Z
LAST-MODIFIED:20230904T161206Z
UID:18807-1315872000-1315958399@orionis.nl
SUMMARY:Spreekuur Bestuur
DESCRIPTION:
URL:https://orionis.nl/event/spreekuur-bestuur-52/
END:VEVENT
BEGIN:VEVENT
DTSTART;VALUE=DATE:20110912
DTEND;VALUE=DATE:20110913
DTSTAMP:20260422T025255
CREATED:20230904T093944Z
LAST-MODIFIED:20230904T142429Z
UID:18065-1315785600-1315871999@orionis.nl
SUMMARY:Nautische Kroegentocht (MoCo)
DESCRIPTION:
URL:https://orionis.nl/event/nautische-kroegentocht-moco-3/
END:VEVENT
END:VCALENDAR